Workbook

Sheet Menus

Sheet 1. Introduction

Sheet 2. Role Information
B2: Role Information
B3: Instructions: This tab contains key information of the roles you will be creating forecasts for. This can be used for critical roles only or for all roles. The information included in this tab will be used to automatically populate other tabs of this workbook. Classification: Using the results from McLean & Company's Critical Role Identifier, evaluate roles and determine whether they are critical. New Skill/Competency Required and Description of New Skill/Competency: If a new skill/competency was identified that has to be added to a role, select yes and enter a brief description. Delete all sample gray text before using and change the text color to black.
B5: Role Information
B6: Role | C6: Headcount | D6: Department | E6: Classification | F6: New Skill/Competency Required | G6: Description of New Skill/Competency
B7: Inspector | C7: 27 | D7: Inspection | E7: Critical | F7: Yes
B8: HR Specialist | C8: 3 | D8: HR | E8: Non-critical | F8: No | G8: Python
B9: Assessor | C9: 14 | D9: Review & Assessment | E9: Non-critical | F9: No
B10: PR Specialist | C10: 3 | D10: PR | E10: Critical | F10: Yes
B11: Accountant | C11: 6 | D11: Finance | E11: Critical | F11: No
B12: 0
B13: 0
B14: 0
B15: 0
B16: 0
B17: 0
B18: 0
B19: 0
B20: 0
B21: 0
B22: 0
B23: 0
... B105: 0

Sheet Growth Factors
A1: Demand Factors | J1: Automation Effect | R1: Likelihood of Occurance
B2: Internal Growth Factor1 | C2: Internal Growth Factor2 | D2: Internal Growth Factor3 | F2: External Growth Factor1 | G2: External Growth Factor2 | H2: External Growth Factor3 | R2: Low | S2: 1
A3: Year1 | B3: 0.02 | C3: 0.04 | D3: 0.03 | F3: 0.1 | G3: 0.09 | H3: 0.08 | J3: 0.1 | R3: Medium | S3: 2
A4: Year2 | B4: 0.03 | C4: 0.04 | D4: 0.03 | F4: 0.1 | G4: 0.09 | H4: 0.08 | J4: 0.15 | R4: High | S4: 3
A5: Year3 | B5: 0.04 | C5: 0.04 | D5: 0.03 | F5: 0.1 | G5: 0.09 | H5: 0.08 | J5: 0.2
R6: Attrition Rate
R7: Low | S7: 1
R8: Medium | S8: 2
R9: High | S9: 3
R11: Retirement Impact
I12: person likely to stay beyond the next 5 years | R12: Low | S12: 1
I13: person may leave the role in the next 3 to 5 years | R13: Medium | S13: 2
I14: person is likely to leave in less than 3 years | R14: High | S14: 3

Sheet 3. Demand Forecast 
B2: Demand Forecast
B3: Instructions: This tab is used to produce a demand projection for each role. All gray fields (Role Information and Generated Demand Projection) are automatically populated - do not enter data or text in these sections. Delete all sample gray text before using and change the text color to black. Organizational Growth Target for Periods 1-4: This creates an automatically generated demand projection for each role, growing or shrinking the number each period by the figure entered here. Role Information: This section contains information populated from previous data entered in the workbook. Generated Demand Projection: This number is autopopulated using the organizational growth target to calculate the demand for each role. This is meant to be used as a baseline to help establish parameters for projections and not be conclusive. The time periods can represent whatever timeframes you are using for these projections (such as quarters, years, etc.). Demand for Role Outputs: Indicate the key output(s) of each role and how the demand for the output(s) are expected to change in the organization. Actual Demand Projection: Enter the projected demand for each role over the next four time periods based on the generated demand projection, insights into the current workforce from the workforce analysis, and the expected change in demand for role outputs. | AN3: j
B4: Average Organizational Growth Target for Year1-3 | C4: =AVERAGE('Growth Factors'!B3:H5) -> 0.061666667
B6: Role information | D6: Internal Factor 1 Impact% | G6: Internal Factor 2 Impact% | J6: Internal Factor 3 Impact% | M6: External Factor 1 Impact% | P6: External Factor 2 Impact% | S6: External Factor 3 Impact% | V6: Generated Demand Projection | Y6: Automation Impact% on job | AB6: Automation Projection% per job | AE6: Automation Impact | AH6: Net Demand Projection | AK6: Demand for Role Outputs
B7: Role | C7: =IF('2. Role Information'!C6="","",'2. Role Information'!C6) -> Headcount | D7: Year 1 | E7: Year2 | F7: Year 3 | G7: Year 1 | H7: Year2 | I7: Year 3 | J7: Year 1 | K7: Year2 | L7: Year 3 | M7: Year 1 | N7: Year2 | O7: Year 3 | P7: Year 1 | Q7: Year2 | R7: Year 3 | S7: Year 1 | T7: Year2 | U7: Year 3 | V7: Year1 | W7: Year 2 | X7: Year 3 | Y7: Year1 | Z7: Year 2 | AA7: Year 3 | AB7: Year1 | AC7: Year 2 | AD7: Year 3 | AE7: Year1 | AF7: Year 2 | AG7: Year 3 | AH7: Year1 | AI7: Year 2 | AJ7: Year 3 | AK7: Key Output(s) of Role | AL7: Expected Change in Demand for Outputs
B8: =IF('2. Role Information'!B7=0,"",'2. Role Information'!B7) -> Inspector | C8: =IF('2. Role Information'!C7="","",'2. Role Information'!C7) -> 27 | D8: 1 | E8: 1 | F8: 1 | G8: 1 | H8: 1 | I8: 1 | J8: 1 | K8: 1 | L8: 1 | M8: 1 | N8: 1 | O8: 1 | P8: 1 | Q8: 1 | R8: 1 | S8: 1 | T8: 1 | U8: 1 | V8: =((D8*'Growth Factors'!B3)+('3. Demand Forecast '!G8*'Growth Factors'!C3)+('3. Demand Forecast '!J8*'Growth Factors'!D3)+('3. Demand Forecast '!M8*'Growth Factors'!F3)+('3. Demand Forecast '!P8*'Growth Factors'!G3)+('3. Demand Forecast '!S8*'Growth Factors'!H3)*('3. Demand Forecast '!C8)+('3. Demand Forecast '!C8)) -> 29.44 | W8: =((E8*'Growth Factors'!B4)+('3. Demand Forecast '!H8*'Growth Factors'!C4)+('3. Demand Forecast '!K8*'Growth Factors'!D4)+('3. Demand Forecast '!N8*'Growth Factors'!F4)+('3. Demand Forecast '!Q8*'Growth Factors'!G4)+('3. Demand Forecast '!T8*'Growth Factors'!H4)*('3. Demand Forecast '!C8)+('3. Demand Forecast '!C8)) -> 29.45 | X8: =((F8*'Growth Factors'!B5)+('3. Demand Forecast '!I8*'Growth Factors'!C5)+('3. Demand Forecast '!L8*'Growth Factors'!D5)+('3. Demand Forecast '!O8*'Growth Factors'!F5)+('3. Demand Forecast '!R8*'Growth Factors'!G5)+('3. Demand Forecast '!U8*'Growth Factors'!H5)*('3. Demand Forecast '!C8)+('3. Demand Forecast '!C8)) -> 29.46 | Y8: 1 | Z8: 1 | AA8: 1 | AB8: =Y8*'Growth Factors'!$J3 -> 0.1 | AC8: =Z8*'Growth Factors'!$J4 -> 0.15 | AD8: =AA8*'Growth Factors'!$J5 -> 0.2 | AE8: ='4. Supply Forecast'!J8*'3. Demand Forecast '!AB8 -> 2.4894 | AF8: ='4. Supply Forecast'!K8*('3. Demand Forecast '!AC8-'3. Demand Forecast '!AB8) -> 1.1519922 | AG8: ='4. Supply Forecast'!L8*('3. Demand Forecast '!AD8-'3. Demand Forecast '!AC8) -> 1.0552249 | AH8: =V8-AE8 -> 26.9506 | AI8: =W8-AF8 -> 28.298008 | AJ8: =X8-AG8 -> 28.404775 | AN8: 0
B9: =IF('2. Role Information'!B8=0,"",'2. Role Information'!B8) -> HR Specialist | C9: =IF('2. Role Information'!C8="","",'2. Role Information'!C8) -> 3 | D9: 0.8 | E9: 0.8 | F9: 0.8 | G9: 0.8 | H9: 0.8 | I9: 0.8 | J9: 0.8 | K9: 0.8 | L9: 0.8 | M9: 0.8 | N9: 0.8 | O9: 0.8 | P9: 0.8 | Q9: 0.8 | R9: 0.8 | S9: 0.8 | T9: 0.8 | U9: 0.8 | V9: =((D9*'Growth Factors'!B4)+('3. Demand Forecast '!G9*'Growth Factors'!C4)+('3. Demand Forecast '!J9*'Growth Factors'!D4)+('3. Demand Forecast '!M9*'Growth Factors'!F4)+('3. Demand Forecast '!P9*'Growth Factors'!G4)+('3. Demand Forecast '!S9*'Growth Factors'!H4)*('3. Demand Forecast '!C9)+('3. Demand Forecast '!C9)) -> 3.424 | W9: =((E9*'Growth Factors'!B5)+('3. Demand Forecast '!H9*'Growth Factors'!C5)+('3. Demand Forecast '!K9*'Growth Factors'!D5)+('3. Demand Forecast '!N9*'Growth Factors'!F5)+('3. Demand Forecast '!Q9*'Growth Factors'!G5)+('3. Demand Forecast '!T9*'Growth Factors'!H5)*('3. Demand Forecast '!C9)+('3. Demand Forecast '!C9)) -> 3.432 | X9: =((F9*'Growth Factors'!B6)+('3. Demand Forecast '!I9*'Growth Factors'!C6)+('3. Demand Forecast '!L9*'Growth Factors'!D6)+('3. Demand Forecast '!O9*'Growth Factors'!F6)+('3. Demand Forecast '!R9*'Growth Factors'!G6)+('3. Demand Forecast '!U9*'Growth Factors'!H6)*('3. Demand Forecast '!C9)+('3. Demand Forecast '!C9)) -> 3 | Y9: 1 | Z9: 1 | AA9: 1 | AB9: =Y9*'Growth Factors'!$J3 -> 0.1 | AC9: =Z9*'Growth Factors'!$J4 -> 0.15 | AD9: =AA9*'Growth Factors'!$J5 -> 0.2 | AE9: ='4. Supply Forecast'!J9*'3. Demand Forecast '!AB9 -> 0.2706 | AF9: ='4. Supply Forecast'!K9*('3. Demand Forecast '!AC9-'3. Demand Forecast '!AB9) -> 0.1219818 | AG9: ='4. Supply Forecast'!L9*('3. Demand Forecast '!AD9-'3. Demand Forecast '!AC9) -> 0.10929569 | AH9: =V9-AE9 -> 3.1534 | AI9: =W9-AF9 -> 3.3100182 | AJ9: =X9-AG9 -> 2.8907043 | AN9: 0.1
B10: =IF('2. Role Information'!B9=0,"",'2. Role Information'!B9) -> Assessor | C10: =IF('2. Role Information'!C9="","",'2. Role Information'!C9) -> 14 | D10: 0.9 | E10: 0.9 | F10: 0.9 | G10: 0.9 | H10: 0.9 | I10: 0.9 | J10: 0.9 | K10: 0.9 | L10: 0.9 | M10: 0.9 | N10: 0.9 | O10: 0.9 | P10: 0.9 | Q10: 0.9 | R10: 0.9 | S10: 0.9 | T10: 0.9 | U10: 0.9 | V10: =((D10*'Growth Factors'!B5)+('3. Demand Forecast '!G10*'Growth Factors'!C5)+('3. Demand Forecast '!J10*'Growth Factors'!D5)+('3. Demand Forecast '!M10*'Growth Factors'!F5)+('3. Demand Forecast '!P10*'Growth Factors'!G5)+('3. Demand Forecast '!S10*'Growth Factors'!H5)*('3. Demand Forecast '!C10)+('3. Demand Forecast '!C10)) -> 15.278 | W10: =((E10*'Growth Factors'!B6)+('3. Demand Forecast '!H10*'Growth Factors'!C6)+('3. Demand Forecast '!K10*'Growth Factors'!D6)+('3. Demand Forecast '!N10*'Growth Factors'!F6)+('3. Demand Forecast '!Q10*'Growth Factors'!G6)+('3. Demand Forecast '!T10*'Growth Factors'!H6)*('3. Demand Forecast '!C10)+('3. Demand Forecast '!C10)) -> 14 | X10: =((F10*'Growth Factors'!B7)+('3. Demand Forecast '!I10*'Growth Factors'!C7)+('3. Demand Forecast '!L10*'Growth Factors'!D7)+('3. Demand Forecast '!O10*'Growth Factors'!F7)+('3. Demand Forecast '!R10*'Growth Factors'!G7)+('3. Demand Forecast '!U10*'Growth Factors'!H7)*('3. Demand Forecast '!C10)+('3. Demand Forecast '!C10)) -> 14 | Y10: 1 | Z10: 1 | AA10: 1 | AB10: =Y10*'Growth Factors'!$J3 -> 0.1 | AC10: =Z10*'Growth Factors'!$J4 -> 0.15 | AD10: =AA10*'Growth Factors'!$J5 -> 0.2 | AE10: ='4. Supply Forecast'!J10*'3. Demand Forecast '!AB10 -> 1.2908 | AF10: ='4. Supply Forecast'!K10*('3. Demand Forecast '!AC10-'3. Demand Forecast '!AB10) -> 0.5970404 | AG10: ='4. Supply Forecast'!L10*('3. Demand Forecast '!AD10-'3. Demand Forecast '!AC10) -> 0.54688901 | AH10: =V10-AE10 -> 13.9872 | AI10: =W10-AF10 -> 13.40296 | AJ10: =X10-AG10 -> 13.453111 | AN10: 0.2
B11: =IF('2. Role Information'!B10=0,"",'2. Role Information'!B10) -> PR Specialist | C11: =IF('2. Role Information'!C10="","",'2. Role Information'!C10) -> 3 | D11: 0.2 | E11: 0.2 | F11: 0.2 | G11: 0.2 | H11: 0.2 | I11: 0.2 | J11: 0.2 | K11: 0.2 | L11: 0.2 | M11: 0.2 | N11: 0.2 | O11: 0.2 | P11: 0.2 | Q11: 0.2 | R11: 0.2 | S11: 0.2 | T11: 0.2 | U11: 0.2 | V11: =((D11*'Growth Factors'!B6)+('3. Demand Forecast '!G11*'Growth Factors'!C6)+('3. Demand Forecast '!J11*'Growth Factors'!D6)+('3. Demand Forecast '!M11*'Growth Factors'!F6)+('3. Demand Forecast '!P11*'Growth Factors'!G6)+('3. Demand Forecast '!S11*'Growth Factors'!H6)*('3. Demand Forecast '!C11)+('3. Demand Forecast '!C11)) -> 3 | W11: =((E11*'Growth Factors'!B7)+('3. Demand Forecast '!H11*'Growth Factors'!C7)+('3. Demand Forecast '!K11*'Growth Factors'!D7)+('3. Demand Forecast '!N11*'Growth Factors'!F7)+('3. Demand Forecast '!Q11*'Growth Factors'!G7)+('3. Demand Forecast '!T11*'Growth Factors'!H7)*('3. Demand Forecast '!C11)+('3. Demand Forecast '!C11)) -> 3 | X11: =((F11*'Growth Factors'!B8)+('3. Demand Forecast '!I11*'Growth Factors'!C8)+('3. Demand Forecast '!L11*'Growth Factors'!D8)+('3. Demand Forecast '!O11*'Growth Factors'!F8)+('3. Demand Forecast '!R11*'Growth Factors'!G8)+('3. Demand Forecast '!U11*'Growth Factors'!H8)*('3. Demand Forecast '!C11)+('3. Demand Forecast '!C11)) -> 3 | Y11: 1 | Z11: 1 | AA11: 1 | AB11: =Y11*'Growth Factors'!$J3 -> 0.1 | AC11: =Z11*'Growth Factors'!$J4 -> 0.15 | AD11: =AA11*'Growth Factors'!$J5 -> 0.2 | AE11: ='4. Supply Forecast'!J11*'3. Demand Forecast '!AB11 -> 0.2826 | AF11: ='4. Supply Forecast'!K11*('3. Demand Forecast '!AC11-'3. Demand Forecast '!AB11) -> 0.1330698 | AG11: ='4. Supply Forecast'!L11*('3. Demand Forecast '!AD11-'3. Demand Forecast '!AC11) -> 0.12455333 | AH11: =V11-AE11 -> 2.7174 | AI11: =W11-AF11 -> 2.8669302 | AJ11: =X11-AG11 -> 2.8754467 | AN11: 0.3
B12: =IF('2. Role Information'!B11=0,"",'2. Role Information'!B11) -> Accountant | C12: =IF('2. Role Information'!C11="","",'2. Role Information'!C11) -> 6 | D12: 1 | E12: 1 | F12: 1 | G12: 1 | H12: 1 | I12: 1 | J12: 1 | K12: 1 | L12: 1 | M12: 1 | N12: 1 | O12: 1 | P12: 1 | Q12: 1 | R12: 1 | S12: 1 | T12: 1 | U12: 1 | V12: =((D12*'Growth Factors'!B7)+('3. Demand Forecast '!G12*'Growth Factors'!C7)+('3. Demand Forecast '!J12*'Growth Factors'!D7)+('3. Demand Forecast '!M12*'Growth Factors'!F7)+('3. Demand Forecast '!P12*'Growth Factors'!G7)+('3. Demand Forecast '!S12*'Growth Factors'!H7)*('3. Demand Forecast '!C12)+('3. Demand Forecast '!C12)) -> 6 | W12: =((E12*'Growth Factors'!B8)+('3. Demand Forecast '!H12*'Growth Factors'!C8)+('3. Demand Forecast '!K12*'Growth Factors'!D8)+('3. Demand Forecast '!N12*'Growth Factors'!F8)+('3. Demand Forecast '!Q12*'Growth Factors'!G8)+('3. Demand Forecast '!T12*'Growth Factors'!H8)*('3. Demand Forecast '!C12)+('3. Demand Forecast '!C12)) -> 6 | X12: =((F12*'Growth Factors'!B9)+('3. Demand Forecast '!I12*'Growth Factors'!C9)+('3. Demand Forecast '!L12*'Growth Factors'!D9)+('3. Demand Forecast '!O12*'Growth Factors'!F9)+('3. Demand Forecast '!R12*'Growth Factors'!G9)+('3. Demand Forecast '!U12*'Growth Factors'!H9)*('3. Demand Forecast '!C12)+('3. Demand Forecast '!C12)) -> 6 | Y12: 1 | Z12: 1 | AA12: 1 | AB12: =Y12*'Growth Factors'!$J3 -> 0.1 | AC12: =Z12*'Growth Factors'!$J4 -> 0.15 | AD12: =AA12*'Growth Factors'!$J5 -> 0.2 | AE12: ='4. Supply Forecast'!J12*'3. Demand Forecast '!AB12 -> 0.5652 | AF12: ='4. Supply Forecast'!K12*('3. Demand Forecast '!AC12-'3. Demand Forecast '!AB12) -> 0.2667396 | AG12: ='4. Supply Forecast'!L12*('3. Demand Forecast '!AD12-'3. Demand Forecast '!AC12) -> 0.24966827 | AH12: =V12-AE12 -> 5.4348 | AI12: =W12-AF12 -> 5.7332604 | AJ12: =X12-AG12 -> 5.7503317 | AN12: 0.4
B13: =IF('2. Role Information'!B12=0,"",'2. Role Information'!B12) | C13: =IF('2. Role Information'!C12="","",'2. Role Information'!C12) | W13: =IF($B13="","",V13*(1+$C$4)) | X13: =IF($B13="","",W13*(1+$C$4)) | AN13: 0.5
B14: =IF('2. Role Information'!B13=0,"",'2. Role Information'!B13) | C14: =IF('2. Role Information'!C13="","",'2. Role Information'!C13) | D14: =IFERROR(SUMPRODUCT(SUBTOTAL(3,OFFSET(#REF!,ROW(#REF!)-MIN(ROW(#REF!)),,1)),OFFSET('Growth Factors'!B3:H3,ROW(#REF!)-MIN(ROW(#REF!)),,1)) * '3. Demand Forecast '!C8 + '3. Demand Forecast '!C8,"") | V14: =IF($B14="","",C14*(1+$C$4)) | W14: =IF($B14="","",V14*(1+$C$4)) | X14: =IF($B14="","",W14*(1+$C$4)) | AN14: 0.6
B15: =IF('2. Role Information'!B14=0,"",'2. Role Information'!B14) | C15: =IF('2. Role Information'!C14="","",'2. Role Information'!C14) | W15: =IF($B15="","",V15*(1+$C$4)) | X15: =IF($B15="","",W15*(1+$C$4)) | AN15: 0.7
B16: =IF('2. Role Information'!B15=0,"",'2. Role Information'!B15) | C16: =IF('2. Role Information'!C15="","",'2. Role Information'!C15) | V16: =IF($B16="","",C16*(1+$C$4)) | W16: =IF($B16="","",V16*(1+$C$4)) | AN16: 0.8
B17: =IF('2. Role Information'!B16=0,"",'2. Role Information'!B16) | C17: =IF('2. Role Information'!C16="","",'2. Role Information'!C16) | V17: =IF($B17="","",C17*(1+$C$4)) | X17: =IF($B17="","",W17*(1+$C$4)) | AN17: 0.9
B18: =IF('2. Role Information'!B17=0,"",'2. Role Information'!B17) | C18: =IF('2. Role Information'!C17="","",'2. Role Information'!C17) | V18: =IF($B18="","",C18*(1+$C$4)) | W18: =IF($B18="","",V18*(1+$C$4)) | X18: =IF($B18="","",W18*(1+$C$4)) | AN18: 1
B19: =IF('2. Role Information'!B18=0,"",'2. Role Information'!B18) | C19: =IF('2. Role Information'!C18="","",'2. Role Information'!C18) | V19: =IF($B19="","",C19*(1+$C$4)) | W19: =IF($B19="","",V19*(1+$C$4)) | X19: =IF($B19="","",W19*(1+$C$4))
B20: =IF('2. Role Information'!B19=0,"",'2. Role Information'!B19) | C20: =IF('2. Role Information'!C19="","",'2. Role Information'!C19) | V20: =IF($B20="","",C20*(1+$C$4)) | W20: =IF($B20="","",V20*(1+$C$4)) | X20: =IF($B20="","",W20*(1+$C$4))
B21: =IF('2. Role Information'!B20=0,"",'2. Role Information'!B20) | C21: =IF('2. Role Information'!C20="","",'2. Role Information'!C20) | V21: =IF($B21="","",C21*(1+$C$4)) | W21: =IF($B21="","",V21*(1+$C$4)) | X21: =IF($B21="","",W21*(1+$C$4))
B22: =IF('2. Role Information'!B21=0,"",'2. Role Information'!B21) | C22: =IF('2. Role Information'!C21="","",'2. Role Information'!C21) | V22: =IF($B22="","",C22*(1+$C$4)) | W22: =IF($B22="","",V22*(1+$C$4)) | X22: =IF($B22="","",W22*(1+$C$4))
B23: =IF('2. Role Information'!B22=0,"",'2. Role Information'!B22) | C23: =IF('2. Role Information'!C22="","",'2. Role Information'!C22) | V23: =IF($B23="","",C23*(1+$C$4)) | W23: =IF($B23="","",V23*(1+$C$4)) | X23: =IF($B23="","",W23*(1+$C$4))
B24: =IF('2. Role Information'!B23=0,"",'2. Role Information'!B23) | C24: =IF('2. Role Information'!C23="","",'2. Role Information'!C23) | V24: =IF($B24="","",C24*(1+$C$4)) | W24: =IF($B24="","",V24*(1+$C$4)) | X24: =IF($B24="","",W24*(1+$C$4))
B25: =IF('2. Role Information'!B24=0,"",'2. Role Information'!B24) | C25: =IF('2. Role Information'!C24="","",'2. Role Information'!C24) | V25: =IF($B25="","",C25*(1+$C$4)) | W25: =IF($B25="","",V25*(1+$C$4)) | X25: =IF($B25="","",W25*(1+$C$4))
B26: =IF('2. Role Information'!B25=0,"",'2. Role Information'!B25) | C26: =IF('2. Role Information'!C25="","",'2. Role Information'!C25) | V26: =IF($B26="","",C26*(1+$C$4)) | W26: =IF($B26="","",V26*(1+$C$4)) | X26: =IF($B26="","",W26*(1+$C$4))
B27: =IF('2. Role Information'!B26=0,"",'2. Role Information'!B26) | C27: =IF('2. Role Information'!C26="","",'2. Role Information'!C26) | V27: =IF($B27="","",C27*(1+$C$4)) | W27: =IF($B27="","",V27*(1+$C$4)) | X27: =IF($B27="","",W27*(1+$C$4))
B28: =IF('2. Role Information'!B27=0,"",'2. Role Information'!B27) | C28: =IF('2. Role Information'!C27="","",'2. Role Information'!C27) | V28: =IF($B28="","",C28*(1+$C$4)) | W28: =IF($B28="","",V28*(1+$C$4)) | X28: =IF($B28="","",W28*(1+$C$4))
B29: =IF('2. Role Information'!B28=0,"",'2. Role Information'!B28) | C29: =IF('2. Role Information'!C28="","",'2. Role Information'!C28) | V29: =IF($B29="","",C29*(1+$C$4)) | W29: =IF($B29="","",V29*(1+$C$4)) | X29: =IF($B29="","",W29*(1+$C$4))
B30: =IF('2. Role Information'!B29=0,"",'2. Role Information'!B29) | C30: =IF('2. Role Information'!C29="","",'2. Role Information'!C29) | V30: =IF($B30="","",C30*(1+$C$4)) | W30: =IF($B30="","",V30*(1+$C$4)) | X30: =IF($B30="","",W30*(1+$C$4))
... B105: =IF('2. Role Information'!B104=0,"",'2. Role Information'!B104) | C105: =IF('2. Role Information'!C104="","",'2. Role Information'!C104) | V105: =IF($B105="","",C105*(1+$C$4)) | W105: =IF($B105="","",V105*(1+$C$4)) | X105: =IF($B105="","",W105*(1+$C$4))
B106: =IF('2. Role Information'!B105=0,"",'2. Role Information'!B105) | V106: =IF($B106="","",C106*(1+$C$4)) | W106: =IF($B106="","",V106*(1+$C$4)) | X106: =IF($B106="","",W106*(1+$C$4))

Sheet 4. Supply Forecast
B2: Supply Forecast
B3: Instructions: This tab is used to produce a supply projection for each role. All gray fields (Role Information, Historical Annual Net Change, and Generated Supply Projection) are automatically populated - do not enter data or text in these sections. Delete all sample gray text before using and change the text color to black. Role Information: This section contains information populated from previous data entered in the workbook. Historical Annual Role Reduction: Enter the average percentage of employees that leave the role each period. Percentages must be by period used (e.g. if projecting by quarter, turnover rate needs to be by quarter and not annualized). Historical Net Change: The net flow of people out of a role in each period. Generated Supply Projection: This number is autopopulated using the Historical Net Change to calculate the projected supply for each role. This is meant to be used as a baseline to help establish parameters for projections, not to be conclusive. Actual Supply Projection: Enter the projected supply for this role over the next four time periods based on the generated supply projection and insights into the current workforce from the workforce analysis.
D5: Historical data
B6: Role Information | D6: Historical Annual Role Reduction | F6: Historical Net Change | G6: Productivity Gain | J6: Generated Supply Projection | M6: Actual Supply Projection
B7: Role | C7: Headcount | D7: Turnover | E7: Retirement | G7: Year1 | H7: Year2 | I7: Year3 | J7: Period 1 | K7: Period 2 | L7: Period 3 | M7: Period 1 | N7: Period 2 | O7: Period 3
B8: =IF('2. Role Information'!B7=0,"",'2. Role Information'!B7) -> Inspector | C8: =IF('2. Role Information'!C7="","",'2. Role Information'!C7) -> 27 | D8: 0.07 | E8: 0.02 | F8: =IF(D8="","",C8*(D8+E8)) -> 2.43 | G8: 0.012 | H8: 0.016 | I8: 0.022 | J8: =C8-(C8*(D8+E8))+(G8*C8) -> 24.894 | K8: =J8-(J8*(D8+E8))+(J8*H8-G8) -> 23.039844 | L8: =K8-(K8*(D8+E8))+K8*(I8-H8) -> 21.104497 | M8: 24.894 | N8: 23.039844 | O8: 21.104497
B9: =IF('2. Role Information'!B8=0,"",'2. Role Information'!B8) -> HR Specialist | C9: =IF('2. Role Information'!C8="","",'2. Role Information'!C8) -> 3 | D9: 0.07 | E9: 0.04 | F9: =IF(D9="","",C9*(D9+E9)) -> 0.33 | G9: 0.012 | H9: 0.016 | I9: 0.022 | J9: =C9-(C9*(D9+E9))+(G9*C9) -> 2.706 | K9: =J9-(J9*(D9+E9))+(J9*H9-G9) -> 2.439636 | L9: =K9-(K9*(D9+E9))+K9*(I9-H9) -> 2.1859139 | M9: 2.706 | N9: 2.439636 | O9: 2.1859139
B10: =IF('2. Role Information'!B9=0,"",'2. Role Information'!B9) -> Assessor | C10: =IF('2. Role Information'!C9="","",'2. Role Information'!C9) -> 14 | D10: 0.07 | E10: 0.02 | F10: =IF(D10="","",C10*(D10+E10)) -> 1.26 | G10: 0.012 | H10: 0.016 | I10: 0.022 | J10: =C10-(C10*(D10+E10))+(G10*C10) -> 12.908 | K10: =J10-(J10*(D10+E10))+(J10*H10-G10) -> 11.940808 | L10: =K10-(K10*(D10+E10))+K10*(I10-H10) -> 10.93778 | M10: 12.908 | N10: 11.940808 | O10: 10.93778
B11: =IF('2. Role Information'!B10=0,"",'2. Role Information'!B10) -> PR Specialist | C11: =IF('2. Role Information'!C10="","",'2. Role Information'!C10) -> 3 | D11: 0.07 | E11: 0 | F11: =IF(D11="","",C11*(D11+E11)) -> 0.21 | G11: 0.012 | H11: 0.016 | I11: 0.022 | J11: =C11-(C11*(D11+E11))+(G11*C11) -> 2.826 | K11: =J11-(J11*(D11+E11))+(J11*H11-G11) -> 2.661396 | L11: =K11-(K11*(D11+E11))+K11*(I11-H11) -> 2.4910667 | M11: 0.942 | N11: 0.879132 | O11: 0.82286755
B12: =IF('2. Role Information'!B11=0,"",'2. Role Information'!B11) -> Accountant | C12: =IF('2. Role Information'!C11="","",'2. Role Information'!C11) -> 6 | D12: 0.07 | E12: 0 | F12: =IF(D12="","",C12*(D12+E12)) -> 0.42 | G12: 0.012 | H12: 0.016 | I12: 0.022 | J12: =C12-(C12*(D12+E12))+(G12*C12) -> 5.652 | K12: =J12-(J12*(D12+E12))+(J12*H12-G12) -> 5.334792 | L12: =K12-(K12*(D12+E12))+K12*(I12-H12) -> 4.9933653 | M12: 5.652 | N12: 5.334792 | O12: 4.9933653
B13: =IF('2. Role Information'!B12=0,"",'2. Role Information'!B12) | C13: =IF('2. Role Information'!C12="","",'2. Role Information'!C12) | F13: =IF(D13="","",C13*(D13+E13)) | J13: =IF(B13="","",C13-F13) | K13: =IF(B13="","",J13-F13) | L13: =IF(B13="","",K13-F13)
B14: =IF('2. Role Information'!B13=0,"",'2. Role Information'!B13) | C14: =IF('2. Role Information'!C13="","",'2. Role Information'!C13) | F14: =IF(D14="","",C14*(D14+E14)) | J14: =IF(B14="","",C14-F14) | K14: =IF(B14="","",J14-F14) | L14: =IF(B14="","",K14-F14)
B15: =IF('2. Role Information'!B14=0,"",'2. Role Information'!B14) | C15: =IF('2. Role Information'!C14="","",'2. Role Information'!C14) | F15: =IF(D15="","",C15*(D15+E15)) | J15: =IF(B15="","",C15-F15) | K15: =IF(B15="","",J15-F15) | L15: =IF(B15="","",K15-F15)
B16: =IF('2. Role Information'!B15=0,"",'2. Role Information'!B15) | C16: =IF('2. Role Information'!C15="","",'2. Role Information'!C15) | F16: =IF(D16="","",C16*(D16+E16)) | J16: =IF(B16="","",C16-F16) | K16: =IF(B16="","",J16-F16) | L16: =IF(B16="","",K16-F16)
B17: =IF('2. Role Information'!B16=0,"",'2. Role Information'!B16) | C17: =IF('2. Role Information'!C16="","",'2. Role Information'!C16) | F17: =IF(D17="","",C17*(D17+E17)) | J17: =IF(B17="","",C17-F17) | K17: =IF(B17="","",J17-F17) | L17: =IF(B17="","",K17-F17)
B18: =IF('2. Role Information'!B17=0,"",'2. Role Information'!B17) | C18: =IF('2. Role Information'!C17="","",'2. Role Information'!C17) | F18: =IF(D18="","",C18*(D18+E18)) | J18: =IF(B18="","",C18-F18) | K18: =IF(B18="","",J18-F18) | L18: =IF(B18="","",K18-F18)
B19: =IF('2. Role Information'!B18=0,"",'2. Role Information'!B18) | C19: =IF('2. Role Information'!C18="","",'2. Role Information'!C18) | F19: =IF(D19="","",C19*(D19+E19)) | J19: =IF(B19="","",C19-F19) | K19: =IF(B19="","",J19-F19) | L19: =IF(B19="","",K19-F19)
B20: =IF('2. Role Information'!B19=0,"",'2. Role Information'!B19) | C20: =IF('2. Role Information'!C19="","",'2. Role Information'!C19) | F20: =IF(D20="","",C20*(D20+E20)) | J20: =IF(B20="","",C20-F20) | K20: =IF(B20="","",J20-F20) | L20: =IF(B20="","",K20-F20)
B21: =IF('2. Role Information'!B20=0,"",'2. Role Information'!B20) | C21: =IF('2. Role Information'!C20="","",'2. Role Information'!C20) | F21: =IF(D21="","",C21*(D21+E21)) | J21: =IF(B21="","",C21-F21) | K21: =IF(B21="","",J21-F21) | L21: =IF(B21="","",K21-F21)
B22: =IF('2. Role Information'!B21=0,"",'2. Role Information'!B21) | C22: =IF('2. Role Information'!C21="","",'2. Role Information'!C21) | F22: =IF(D22="","",C22*(D22+E22)) | J22: =IF(B22="","",C22-F22) | K22: =IF(B22="","",J22-F22) | L22: =IF(B22="","",K22-F22)
B23: =IF('2. Role Information'!B22=0,"",'2. Role Information'!B22) | C23: =IF('2. Role Information'!C22="","",'2. Role Information'!C22) | F23: =IF(D23="","",C23*(D23+E23)) | J23: =IF(B23="","",C23-F23) | K23: =IF(B23="","",J23-F23) | L23: =IF(B23="","",K23-F23)
B24: =IF('2. Role Information'!B23=0,"",'2. Role Information'!B23) | C24: =IF('2. Role Information'!C23="","",'2. Role Information'!C23) | F24: =IF(D24="","",C24*(D24+E24)) | J24: =IF(B24="","",C24-F24) | K24: =IF(B24="","",J24-F24) | L24: =IF(B24="","",K24-F24)
... B106: =IF('2. Role Information'!B105=0,"",'2. Role Information'!B105) | C106: =IF('2. Role Information'!C105="","",'2. Role Information'!C105) | F106: =IF(D106="","",C106*(D106+E106)) | J106: =IF(B106="","",C106-F106) | K106: =IF(B106="","",J106-F106) | L106: =IF(B106="","",K106-F106)

Sheet 5. Forecast Summary and Gaps
B2: Forecast Summary and Talent Gaps
B3: Instructions: No data entry is required on this tab. It summarizes the projections for each role, including any projected changes to each role, the supply and demand forecasts, and the size of the gaps. This tab is set up to be printed on legal paper if needed.
B5: Role | C5: Department | D5: Classification | E5: New competency/skill required | F5: Demand projection | I5: Supply projection | L5: Gap
F6: P1 | G6: P2 | H6: P3 | I6: P1 | J6: P2 | K6: P3 | L6: Period 1 | M6: Period 2 | N6: Period 3
B7: =IF('2. Role Information'!B7=0,"",'2. Role Information'!B7) -> Inspector | C7: =IF('2. Role Information'!D7=0,"",'2. Role Information'!D7) -> Inspection | D7: =IF('2. Role Information'!E7=0,"",'2. Role Information'!E7) -> Critical | E7: =IF('2. Role Information'!G7="","",'2. Role Information'!G7) | F7: ='3. Demand Forecast '!AH8 -> 26.9506 | G7: ='3. Demand Forecast '!AI8 -> 28.298008 | H7: ='3. Demand Forecast '!AJ8 -> 28.404775 | I7: ='4. Supply Forecast'!J8 -> 24.894 | J7: ='4. Supply Forecast'!K8 -> 23.039844 | K7: ='4. Supply Forecast'!L8 -> 21.104497 | L7: =IF($B7="","",I7-F7) -> -2.0566 | M7: =IF($B7="","",J7-G7) -> -5.2581638 | N7: =IF($B7="","",K7-H7) -> -7.300278
B8: =IF('2. Role Information'!B8=0,"",'2. Role Information'!B8) -> HR Specialist | C8: =IF('2. Role Information'!D8=0,"",'2. Role Information'!D8) -> HR | D8: =IF('2. Role Information'!E8=0,"",'2. Role Information'!E8) -> Non-critical | F8: ='3. Demand Forecast '!AH9 -> 3.1534 | G8: ='3. Demand Forecast '!AI9 -> 3.3100182 | H8: ='3. Demand Forecast '!AJ9 -> 2.8907043 | I8: =IF('4. Supply Forecast'!M9="","",'4. Supply Forecast'!M9) -> 2.706 | J8: =IF('4. Supply Forecast'!N9="","",'4. Supply Forecast'!N9) -> 2.439636 | K8: =IF('4. Supply Forecast'!O9="","",'4. Supply Forecast'!O9) -> 2.1859139 | L8: =IF($B8="","",I8-F8) -> -0.4474 | M8: =IF($B8="","",J8-G8) -> -0.8703822 | N8: =IF($B8="","",K8-H8) -> -0.70479045
B9: =IF('2. Role Information'!B9=0,"",'2. Role Information'!B9) -> Assessor | C9: =IF('2. Role Information'!D9=0,"",'2. Role Information'!D9) -> Review & Assessment | D9: =IF('2. Role Information'!E9=0,"",'2. Role Information'!E9) -> Non-critical | E9: =IF('2. Role Information'!G9="","",'2. Role Information'!G9) | F9: ='3. Demand Forecast '!AH10 -> 13.9872 | G9: ='3. Demand Forecast '!AI10 -> 13.40296 | H9: ='3. Demand Forecast '!AJ10 -> 13.453111 | I9: =IF('4. Supply Forecast'!M10="","",'4. Supply Forecast'!M10) -> 12.908 | J9: =IF('4. Supply Forecast'!N10="","",'4. Supply Forecast'!N10) -> 11.940808 | K9: =IF('4. Supply Forecast'!O10="","",'4. Supply Forecast'!O10) -> 10.93778 | L9: =IF($B9="","",I9-F9) -> -1.0792 | M9: =IF($B9="","",J9-G9) -> -1.4621516 | N9: =IF($B9="","",K9-H9) -> -2.5153309
B10: =IF('2. Role Information'!B10=0,"",'2. Role Information'!B10) -> PR Specialist | C10: =IF('2. Role Information'!D10=0,"",'2. Role Information'!D10) -> PR | D10: =IF('2. Role Information'!E10=0,"",'2. Role Information'!E10) -> Critical | E10: =IF('2. Role Information'!G10="","",'2. Role Information'!G10) | F10: ='3. Demand Forecast '!AH11 -> 2.7174 | G10: ='3. Demand Forecast '!AI11 -> 2.8669302 | H10: ='3. Demand Forecast '!AJ11 -> 2.8754467 | I10: =IF('4. Supply Forecast'!M11="","",'4. Supply Forecast'!M11) -> 0.942 | J10: =IF('4. Supply Forecast'!N11="","",'4. Supply Forecast'!N11) -> 0.879132 | K10: =IF('4. Supply Forecast'!O11="","",'4. Supply Forecast'!O11) -> 0.82286755 | L10: =IF($B10="","",I10-F10) -> -1.7754 | M10: =IF($B10="","",J10-G10) -> -1.9877982 | N10: =IF($B10="","",K10-H10) -> -2.0525791
B11: =IF('2. Role Information'!B11=0,"",'2. Role Information'!B11) -> Accountant | C11: =IF('2. Role Information'!D11=0,"",'2. Role Information'!D11) -> Finance | D11: =IF('2. Role Information'!E11=0,"",'2. Role Information'!E11) -> Critical | E11: =IF('2. Role Information'!G11="","",'2. Role Information'!G11) | F11: ='3. Demand Forecast '!AH12 -> 5.4348 | G11: ='3. Demand Forecast '!AI12 -> 5.7332604 | H11: ='3. Demand Forecast '!AJ12 -> 5.7503317 | I11: =IF('4. Supply Forecast'!M12="","",'4. Supply Forecast'!M12) -> 5.652 | J11: =IF('4. Supply Forecast'!N12="","",'4. Supply Forecast'!N12) -> 5.334792 | K11: =IF('4. Supply Forecast'!O12="","",'4. Supply Forecast'!O12) -> 4.9933653 | L11: =IF($B11="","",I11-F11) -> 0.2172 | M11: =IF($B11="","",J11-G11) -> -0.3984684 | N11: =IF($B11="","",K11-H11) -> -0.75696642
