Workbook

Sheet Training Dashboard
B2: Training Dashboard
B4: Learning investment, completion & effectiveness · HR Analytics
D5: Department: | E5: All
B8: ⏱️ Training Hours | G8: ✅ Completion Rate | L8: 📝 Average Training Score | V8: 🎓 Employees Requiring Training
B9: =SUMIFS(Training!$K:$K,Training!$D:$D,IF('Training Dashboard'!$E$5="All","*",'Training Dashboard'!$E$5)) -> 3403 | G9: =IFERROR(COUNTIFS(Training!$D:$D,IF('Training Dashboard'!$E$5="All","*",'Training Dashboard'!$E$5),Training!$L:$L,"Completed")/COUNTIFS(Training!$D:$D,IF('Training Dashboard'!$E$5="All","*",'Training Dashboard'!$E$5)),0) -> 0.57425743 | L9: =IFERROR(AVERAGEIFS(Training!$M:$M,Training!$D:$D,IF('Training Dashboard'!$E$5="All","*",'Training Dashboard'!$E$5)),0) -> 79.109375 | V9: =COUNTIFS(Calc_Training!$C$5:$C$74,1,Calc_Training!$B$5:$B$74,IF('Training Dashboard'!$E$5="All","*",'Training Dashboard'!$E$5)) -> 0
B11: total hours, 2025 | G11: completed ÷ enrolled | L11: out of 100, completed courses | V11: at least one flagged skill

Sheet Training
A1: 📚 TRAINING & DEVELOPMENT
A2: Status: Enrolled | In Progress | Completed | Cancelled | Failed
A3: RecordID | B3: EmpID | C3: EmployeeName | D3: Department | E3: TrainingName | F3: Category | G3: Training Accepted | H3: Provider | I3: StartDate | J3: EndDate | K3: DurationHrs | L3: Status | M3: Score | N3: City | O3: Gender | P3: Employee Status | Q3: Employment Type | R3: AcceptedFlag | S3: CompletedFlag | T3: CompletionRateRow | U3: StartYear | V3: StartQuarter | W3: EndYear | X3: EndQuarter | Y3: ScoreBand | Z3: DurationBand
A4: TR-001 | B4: EMP001 | C4: Ahmed Hassan | D4: Engineering | E4: AWS Solutions Architect | F4: Cloud | G4: Yes | H4: AWS Training | I4: 45566 | J4: 45626 | K4: 40 | L4: Completed | M4: 92 | N4: =IFERROR(VLOOKUP($A4,#REF!,13,FALSE),"") | O4: =IFERROR(VLOOKUP($A4,#REF!,10,FALSE),"") | P4: =IFERROR(VLOOKUP($A4,#REF!,7,FALSE),"") | Q4: =IFERROR(VLOOKUP($A4,#REF!,6,FALSE),"") | R4: =IF(G4="Yes",1,0) -> 1 | S4: =IF(L4="Completed",1,0) -> 1 | T4: =IF(L4="Completed",1,0) -> 1 | U4: =YEAR(I4) -> 2024 | V4: ="Q"&ROUNDUP(MONTH(I4)/3,0) -> Q4 | W4: =YEAR(J4) -> 2024 | X4: ="Q"&ROUNDUP(MONTH(J4)/3,0) -> Q4 | Y4: =IF(M4="","",IF(M4>=90,"Excellent",IF(M4>=80,"Very Good",IF(M4>=70,"Good",IF(M4>=60,"Fair","Needs Improvement"))))) -> Excellent | Z4: =IF(K4="","",IF(K4<20,"Under 20 hrs",IF(K4<40,"20-39 hrs",IF(K4<60,"40-59 hrs","60+ hrs")))) -> 40-59 hrs
A5: TR-002 | B5: EMP002 | C5: Sara Mohamed | D5: HR | E5: Strategic HR Leadership | F5: Leadership | G5: Yes | H5: Dale Carnegie | I5: 45550 | J5: 45580 | K5: 24 | L5: Completed | M5: 88 | N5: =IFERROR(VLOOKUP($A5,#REF!,13,FALSE),"") | O5: =IFERROR(VLOOKUP($A5,#REF!,10,FALSE),"") | P5: =IFERROR(VLOOKUP($A5,#REF!,7,FALSE),"") | Q5: =IFERROR(VLOOKUP($A5,#REF!,6,FALSE),"") | R5: =IF(G5="Yes",1,0) -> 1 | S5: =IF(L5="Completed",1,0) -> 1 | T5: =IF(L5="Completed",1,0) -> 1 | U5: =YEAR(I5) -> 2024 | V5: ="Q"&ROUNDUP(MONTH(I5)/3,0) -> Q3 | W5: =YEAR(J5) -> 2024 | X5: ="Q"&ROUNDUP(MONTH(J5)/3,0) -> Q4 | Y5: =IF(M5="","",IF(M5>=90,"Excellent",IF(M5>=80,"Very Good",IF(M5>=70,"Good",IF(M5>=60,"Fair","Needs Improvement"))))) -> Very Good | Z5: =IF(K5="","",IF(K5<20,"Under 20 hrs",IF(K5<40,"20-39 hrs",IF(K5<60,"40-59 hrs","60+ hrs")))) -> 20-39 hrs
A6: TR-003 | B6: EMP003 | C6: Omar Ali | D6: Sales | E6: Advanced Sales Techniques | F6: Sales | G6: Yes | H6: Sales Academy | I6: 45597 | J6: 45626 | K6: 20 | L6: Completed | M6: 76 | N6: =IFERROR(VLOOKUP($A6,#REF!,13,FALSE),"") | O6: =IFERROR(VLOOKUP($A6,#REF!,10,FALSE),"") | P6: =IFERROR(VLOOKUP($A6,#REF!,7,FALSE),"") | Q6: =IFERROR(VLOOKUP($A6,#REF!,6,FALSE),"") | R6: =IF(G6="Yes",1,0) -> 1 | S6: =IF(L6="Completed",1,0) -> 1 | T6: =IF(L6="Completed",1,0) -> 1 | U6: =YEAR(I6) -> 2024 | V6: ="Q"&ROUNDUP(MONTH(I6)/3,0) -> Q4 | W6: =YEAR(J6) -> 2024 | X6: ="Q"&ROUNDUP(MONTH(J6)/3,0) -> Q4 | Y6: =IF(M6="","",IF(M6>=90,"Excellent",IF(M6>=80,"Very Good",IF(M6>=70,"Good",IF(M6>=60,"Fair","Needs Improvement"))))) -> Good | Z6: =IF(K6="","",IF(K6<20,"Under 20 hrs",IF(K6<40,"20-39 hrs",IF(K6<60,"40-59 hrs","60+ hrs")))) -> 20-39 hrs
A7: TR-004 | B7: EMP004 | C7: Nour Ibrahim | D7: Finance | E7: IFRS Accounting Standards | F7: Finance | G7: Yes | H7: ACCA | I7: 45672 | J7: 45731 | K7: 60 | L7: In Progress | N7: =IFERROR(VLOOKUP($A7,#REF!,13,FALSE),"") | O7: =IFERROR(VLOOKUP($A7,#REF!,10,FALSE),"") | P7: =IFERROR(VLOOKUP($A7,#REF!,7,FALSE),"") | Q7: =IFERROR(VLOOKUP($A7,#REF!,6,FALSE),"") | R7: =IF(G7="Yes",1,0) -> 1 | S7: =IF(L7="Completed",1,0) -> 0 | T7: =IF(L7="Completed",1,0) -> 0 | U7: =YEAR(I7) -> 2025 | V7: ="Q"&ROUNDUP(MONTH(I7)/3,0) -> Q1 | W7: =YEAR(J7) -> 2025 | X7: ="Q"&ROUNDUP(MONTH(J7)/3,0) -> Q1 | Y7: =IF(M7="","",IF(M7>=90,"Excellent",IF(M7>=80,"Very Good",IF(M7>=70,"Good",IF(M7>=60,"Fair","Needs Improvement"))))) | Z7: =IF(K7="","",IF(K7<20,"Under 20 hrs",IF(K7<40,"20-39 hrs",IF(K7<60,"40-59 hrs","60+ hrs")))) -> 60+ hrs
A8: TR-005 | B8: EMP007 | C8: Tarek Samir | D8: Engineering | E8: React & Node.js Bootcamp | F8: Dev | G8: Yes | H8: Udemy | I8: 45658 | J8: 45716 | K8: 80 | L8: In Progress | N8: =IFERROR(VLOOKUP($A8,#REF!,13,FALSE),"") | O8: =IFERROR(VLOOKUP($A8,#REF!,10,FALSE),"") | P8: =IFERROR(VLOOKUP($A8,#REF!,7,FALSE),"") | Q8: =IFERROR(VLOOKUP($A8,#REF!,6,FALSE),"") | R8: =IF(G8="Yes",1,0) -> 1 | S8: =IF(L8="Completed",1,0) -> 0 | T8: =IF(L8="Completed",1,0) -> 0 | U8: =YEAR(I8) -> 2025 | V8: ="Q"&ROUNDUP(MONTH(I8)/3,0) -> Q1 | W8: =YEAR(J8) -> 2025 | X8: ="Q"&ROUNDUP(MONTH(J8)/3,0) -> Q1 | Y8: =IF(M8="","",IF(M8>=90,"Excellent",IF(M8>=80,"Very Good",IF(M8>=70,"Good",IF(M8>=60,"Fair","Needs Improvement"))))) | Z8: =IF(K8="","",IF(K8<20,"Under 20 hrs",IF(K8<40,"20-39 hrs",IF(K8<60,"40-59 hrs","60+ hrs")))) -> 60+ hrs
A9: TR-006 | B9: EMP009 | C9: Yasser Nasser | D9: IT | E9: Cybersecurity Fundamentals | F9: IT Security | G9: Yes | H9: Coursera | I9: 45627 | J9: 45657 | K9: 30 | L9: Completed | M9: 95 | N9: =IFERROR(VLOOKUP($A9,#REF!,13,FALSE),"") | O9: =IFERROR(VLOOKUP($A9,#REF!,10,FALSE),"") | P9: =IFERROR(VLOOKUP($A9,#REF!,7,FALSE),"") | Q9: =IFERROR(VLOOKUP($A9,#REF!,6,FALSE),"") | R9: =IF(G9="Yes",1,0) -> 1 | S9: =IF(L9="Completed",1,0) -> 1 | T9: =IF(L9="Completed",1,0) -> 1 | U9: =YEAR(I9) -> 2024 | V9: ="Q"&ROUNDUP(MONTH(I9)/3,0) -> Q4 | W9: =YEAR(J9) -> 2024 | X9: ="Q"&ROUNDUP(MONTH(J9)/3,0) -> Q4 | Y9: =IF(M9="","",IF(M9>=90,"Excellent",IF(M9>=80,"Very Good",IF(M9>=70,"Good",IF(M9>=60,"Fair","Needs Improvement"))))) -> Excellent | Z9: =IF(K9="","",IF(K9<20,"Under 20 hrs",IF(K9<40,"20-39 hrs",IF(K9<60,"40-59 hrs","60+ hrs")))) -> 20-39 hrs
A10: TR-007 | B10: EMP005 | C10: Khaled Youssef | D10: Sales | E10: Sales Leadership Program | F10: Leadership | G10: Yes | H10: HubSpot | I10: 45689 | J10: 45716 | K10: 16 | L10: Enrolled | N10: =IFERROR(VLOOKUP($A10,#REF!,13,FALSE),"") | O10: =IFERROR(VLOOKUP($A10,#REF!,10,FALSE),"") | P10: =IFERROR(VLOOKUP($A10,#REF!,7,FALSE),"") | Q10: =IFERROR(VLOOKUP($A10,#REF!,6,FALSE),"") | R10: =IF(G10="Yes",1,0) -> 1 | S10: =IF(L10="Completed",1,0) -> 0 | T10: =IF(L10="Completed",1,0) -> 0 | U10: =YEAR(I10) -> 2025 | V10: ="Q"&ROUNDUP(MONTH(I10)/3,0) -> Q1 | W10: =YEAR(J10) -> 2025 | X10: ="Q"&ROUNDUP(MONTH(J10)/3,0) -> Q1 | Y10: =IF(M10="","",IF(M10>=90,"Excellent",IF(M10>=80,"Very Good",IF(M10>=70,"Good",IF(M10>=60,"Fair","Needs Improvement"))))) | Z10: =IF(K10="","",IF(K10<20,"Under 20 hrs",IF(K10<40,"20-39 hrs",IF(K10<60,"40-59 hrs","60+ hrs")))) -> Under 20 hrs
A11: TR-008 | B11: EMP006 | C11: Rana Mahmoud | D11: Marketing | E11: Google Analytics 4 | F11: Digital Marketing | G11: Yes | H11: Google | I11: 45667 | J11: 45677 | K11: 12 | L11: Completed | M11: 89 | N11: =IFERROR(VLOOKUP($A11,#REF!,13,FALSE),"") | O11: =IFERROR(VLOOKUP($A11,#REF!,10,FALSE),"") | P11: =IFERROR(VLOOKUP($A11,#REF!,7,FALSE),"") | Q11: =IFERROR(VLOOKUP($A11,#REF!,6,FALSE),"") | R11: =IF(G11="Yes",1,0) -> 1 | S11: =IF(L11="Completed",1,0) -> 1 | T11: =IF(L11="Completed",1,0) -> 1 | U11: =YEAR(I11) -> 2025 | V11: ="Q"&ROUNDUP(MONTH(I11)/3,0) -> Q1 | W11: =YEAR(J11) -> 2025 | X11: ="Q"&ROUNDUP(MONTH(J11)/3,0) -> Q1 | Y11: =IF(M11="","",IF(M11>=90,"Excellent",IF(M11>=80,"Very Good",IF(M11>=70,"Good",IF(M11>=60,"Fair","Needs Improvement"))))) -> Very Good | Z11: =IF(K11="","",IF(K11<20,"Under 20 hrs",IF(K11<40,"20-39 hrs",IF(K11<60,"40-59 hrs","60+ hrs")))) -> Under 20 hrs
A12: TR-009 | B12: EMP013 | C12: Amir Saad | D12: Engineering | E12: React & Node.js Bootcamp | F12: Dev | G12: Yes | H12: Udemy | I12: 45740 | J12: 45812 | K12: 80 | L12: Completed | M12: 89 | N12: =IFERROR(VLOOKUP($A12,#REF!,13,FALSE),"") | O12: =IFERROR(VLOOKUP($A12,#REF!,10,FALSE),"") | P12: =IFERROR(VLOOKUP($A12,#REF!,7,FALSE),"") | Q12: =IFERROR(VLOOKUP($A12,#REF!,6,FALSE),"") | R12: =IF(G12="Yes",1,0) -> 1 | S12: =IF(L12="Completed",1,0) -> 1 | T12: =IF(L12="Completed",1,IF(L12="Failed",0,"")) -> 1 | U12: =YEAR(I12) -> 2025 | V12: ="Q"&ROUNDUP(MONTH(I12)/3,0) -> Q1 | W12: =IF(J12="","",YEAR(J12)) -> 2025 | X12: =IF(J12="","","Q"&ROUNDUP(MONTH(J12)/3,0)) -> Q2 | Y12: =IF(M12="","",IF(M12>=85,"Excellent",IF(M12>=70,"Good",IF(M12>=60,"Fair","Needs Improvement")))) -> Excellent | Z12: =IF(K12<20,"Short",IF(K12<40,"Medium","Long")) -> Long
A13: TR-010 | B13: EMP017 | C13: Manal Adel | D13: Engineering | E13: Python for Data Engineers | F13: Dev | G13: Yes | H13: Coursera | I13: 45756 | J13: 45801 | K13: 50 | L13: Completed | M13: 77 | N13: =IFERROR(VLOOKUP($A13,#REF!,13,FALSE),"") | O13: =IFERROR(VLOOKUP($A13,#REF!,10,FALSE),"") | P13: =IFERROR(VLOOKUP($A13,#REF!,7,FALSE),"") | Q13: =IFERROR(VLOOKUP($A13,#REF!,6,FALSE),"") | R13: =IF(G13="Yes",1,0) -> 1 | S13: =IF(L13="Completed",1,0) -> 1 | T13: =IF(L13="Completed",1,IF(L13="Failed",0,"")) -> 1 | U13: =YEAR(I13) -> 2025 | V13: ="Q"&ROUNDUP(MONTH(I13)/3,0) -> Q2 | W13: =IF(J13="","",YEAR(J13)) -> 2025 | X13: =IF(J13="","","Q"&ROUNDUP(MONTH(J13)/3,0)) -> Q2 | Y13: =IF(M13="","",IF(M13>=85,"Excellent",IF(M13>=70,"Good",IF(M13>=60,"Fair","Needs Improvement")))) -> Good | Z13: =IF(K13<20,"Short",IF(K13<40,"Medium","Long")) -> Long
A14: TR-011 | B14: EMP049 | C14: Maha Kotb | D14: HR | E14: People Management Essentials | F14: Leadership | G14: Yes | H14: LinkedIn Learning | I14: 45965 | J14: 45981 | K14: 18 | L14: Completed | M14: 92 | N14: =IFERROR(VLOOKUP($A14,#REF!,13,FALSE),"") | O14: =IFERROR(VLOOKUP($A14,#REF!,10,FALSE),"") | P14: =IFERROR(VLOOKUP($A14,#REF!,7,FALSE),"") | Q14: =IFERROR(VLOOKUP($A14,#REF!,6,FALSE),"") | R14: =IF(G14="Yes",1,0) -> 1 | S14: =IF(L14="Completed",1,0) -> 1 | T14: =IF(L14="Completed",1,IF(L14="Failed",0,"")) -> 1 | U14: =YEAR(I14) -> 2025 | V14: ="Q"&ROUNDUP(MONTH(I14)/3,0) -> Q4 | W14: =IF(J14="","",YEAR(J14)) -> 2025 | X14: =IF(J14="","","Q"&ROUNDUP(MONTH(J14)/3,0)) -> Q4 | Y14: =IF(M14="","",IF(M14>=85,"Excellent",IF(M14>=70,"Good",IF(M14>=60,"Fair","Needs Improvement")))) -> Excellent | Z14: =IF(K14<20,"Short",IF(K14<40,"Medium","Long")) -> Short
A15: TR-012 | B15: EMP057 | C15: Mariam Younis | D15: Operations | E15: Supply Chain Analytics | F15: Ops Excellence | G15: Yes | H15: Coursera | I15: 45884 | J15: 45912 | K15: 32 | L15: Completed | M15: 71 | N15: =IFERROR(VLOOKUP($A15,#REF!,13,FALSE),"") | O15: =IFERROR(VLOOKUP($A15,#REF!,10,FALSE),"") | P15: =IFERROR(VLOOKUP($A15,#REF!,7,FALSE),"") | Q15: =IFERROR(VLOOKUP($A15,#REF!,6,FALSE),"") | R15: =IF(G15="Yes",1,0) -> 1 | S15: =IF(L15="Completed",1,0) -> 1 | T15: =IF(L15="Completed",1,IF(L15="Failed",0,"")) -> 1 | U15: =YEAR(I15) -> 2025 | V15: ="Q"&ROUNDUP(MONTH(I15)/3,0) -> Q3 | W15: =IF(J15="","",YEAR(J15)) -> 2025 | X15: =IF(J15="","","Q"&ROUNDUP(MONTH(J15)/3,0)) -> Q3 | Y15: =IF(M15="","",IF(M15>=85,"Excellent",IF(M15>=70,"Good",IF(M15>=60,"Fair","Needs Improvement")))) -> Good | Z15: =IF(K15<20,"Short",IF(K15<40,"Medium","Long")) -> Medium
A16: TR-013 | B16: EMP044 | C16: Nourane Shaker | D16: Marketing | E16: Google Analytics 4 | F16: Digital Marketing | G16: Yes | H16: Google | I16: 45701 | J16: 45711 | K16: 12 | L16: Completed | M16: 70 | N16: =IFERROR(VLOOKUP($A16,#REF!,13,FALSE),"") | O16: =IFERROR(VLOOKUP($A16,#REF!,10,FALSE),"") | P16: =IFERROR(VLOOKUP($A16,#REF!,7,FALSE),"") | Q16: =IFERROR(VLOOKUP($A16,#REF!,6,FALSE),"") | R16: =IF(G16="Yes",1,0) -> 1 | S16: =IF(L16="Completed",1,0) -> 1 | T16: =IF(L16="Completed",1,IF(L16="Failed",0,"")) -> 1 | U16: =YEAR(I16) -> 2025 | V16: ="Q"&ROUNDUP(MONTH(I16)/3,0) -> Q1 | W16: =IF(J16="","",YEAR(J16)) -> 2025 | X16: =IF(J16="","","Q"&ROUNDUP(MONTH(J16)/3,0)) -> Q1 | Y16: =IF(M16="","",IF(M16>=85,"Excellent",IF(M16>=70,"Good",IF(M16>=60,"Fair","Needs Improvement")))) -> Good | Z16: =IF(K16<20,"Short",IF(K16<40,"Medium","Long")) -> Short
A17: TR-014 | B17: EMP027 | C17: Mahmoud Ezzat | D17: Sales | E17: Sales Leadership Program | F17: Leadership | G17: Yes | H17: HubSpot | I17: 45789 | J17: 45803 | K17: 16 | L17: Cancelled | N17: =IFERROR(VLOOKUP($A17,#REF!,13,FALSE),"") | O17: =IFERROR(VLOOKUP($A17,#REF!,10,FALSE),"") | P17: =IFERROR(VLOOKUP($A17,#REF!,7,FALSE),"") | Q17: =IFERROR(VLOOKUP($A17,#REF!,6,FALSE),"") | R17: =IF(G17="Yes",1,0) -> 1 | S17: =IF(L17="Completed",1,0) -> 0 | T17: =IF(L17="Completed",1,IF(L17="Failed",0,"")) | U17: =YEAR(I17) -> 2025 | V17: ="Q"&ROUNDUP(MONTH(I17)/3,0) -> Q2 | W17: =IF(J17="","",YEAR(J17)) -> 2025 | X17: =IF(J17="","","Q"&ROUNDUP(MONTH(J17)/3,0)) -> Q2 | Y17: =IF(M17="","",IF(M17>=85,"Excellent",IF(M17>=70,"Good",IF(M17>=60,"Fair","Needs Improvement")))) | Z17: =IF(K17<20,"Short",IF(K17<40,"Medium","Long")) -> Short
A18: TR-015 | B18: EMP010 | C18: Mona Fawzi | D18: Operations | E18: Lean Six Sigma Green Belt | F18: Ops Excellence | G18: Yes | H18: Deloitte Academy | I18: 45933 | J18: 45973 | K18: 45 | L18: In Progress | N18: =IFERROR(VLOOKUP($A18,#REF!,13,FALSE),"") | O18: =IFERROR(VLOOKUP($A18,#REF!,10,FALSE),"") | P18: =IFERROR(VLOOKUP($A18,#REF!,7,FALSE),"") | Q18: =IFERROR(VLOOKUP($A18,#REF!,6,FALSE),"") | R18: =IF(G18="Yes",1,0) -> 1 | S18: =IF(L18="Completed",1,0) -> 0 | T18: =IF(L18="Completed",1,IF(L18="Failed",0,"")) | U18: =YEAR(I18) -> 2025 | V18: ="Q"&ROUNDUP(MONTH(I18)/3,0) -> Q4 | W18: =IF(J18="","",YEAR(J18)) -> 2025 | X18: =IF(J18="","","Q"&ROUNDUP(MONTH(J18)/3,0)) -> Q4 | Y18: =IF(M18="","",IF(M18>=85,"Excellent",IF(M18>=70,"Good",IF(M18>=60,"Fair","Needs Improvement")))) | Z18: =IF(K18<20,"Short",IF(K18<40,"Medium","Long")) -> Long
A19: TR-016 | B19: EMP004 | C19: Nour Ibrahim | D19: Finance | E19: Cost Accounting Deep Dive | F19: Finance | G19: Yes | H19: Coursera | I19: 45992 | J19: 46017 | K19: 28 | L19: Failed | M19: 31 | N19: =IFERROR(VLOOKUP($A19,#REF!,13,FALSE),"") | O19: =IFERROR(VLOOKUP($A19,#REF!,10,FALSE),"") | P19: =IFERROR(VLOOKUP($A19,#REF!,7,FALSE),"") | Q19: =IFERROR(VLOOKUP($A19,#REF!,6,FALSE),"") | R19: =IF(G19="Yes",1,0) -> 1 | S19: =IF(L19="Completed",1,0) -> 0 | T19: =IF(L19="Completed",1,IF(L19="Failed",0,"")) -> 0 | U19: =YEAR(I19) -> 2025 | V19: ="Q"&ROUNDUP(MONTH(I19)/3,0) -> Q4 | W19: =IF(J19="","",YEAR(J19)) -> 2025 | X19: =IF(J19="","","Q"&ROUNDUP(MONTH(J19)/3,0)) -> Q4 | Y19: =IF(M19="","",IF(M19>=85,"Excellent",IF(M19>=70,"Good",IF(M19>=60,"Fair","Needs Improvement")))) -> Needs Improvement | Z19: =IF(K19<20,"Short",IF(K19<40,"Medium","Long")) -> Medium
A20: TR-017 | B20: EMP018 | C20: Passant Attia | D20: Engineering | E20: React & Node.js Bootcamp | F20: Dev | G20: Yes | H20: Udemy | I20: 45821 | J20: 45893 | K20: 80 | L20: Completed | M20: 79 | N20: =IFERROR(VLOOKUP($A20,#REF!,13,FALSE),"") | O20: =IFERROR(VLOOKUP($A20,#REF!,10,FALSE),"") | P20: =IFERROR(VLOOKUP($A20,#REF!,7,FALSE),"") | Q20: =IFERROR(VLOOKUP($A20,#REF!,6,FALSE),"") | R20: =IF(G20="Yes",1,0) -> 1 | S20: =IF(L20="Completed",1,0) -> 1 | T20: =IF(L20="Completed",1,IF(L20="Failed",0,"")) -> 1 | U20: =YEAR(I20) -> 2025 | V20: ="Q"&ROUNDUP(MONTH(I20)/3,0) -> Q2 | W20: =IF(J20="","",YEAR(J20)) -> 2025 | X20: =IF(J20="","","Q"&ROUNDUP(MONTH(J20)/3,0)) -> Q3 | Y20: =IF(M20="","",IF(M20>=85,"Excellent",IF(M20>=70,"Good",IF(M20>=60,"Fair","Needs Improvement")))) -> Good | Z20: =IF(K20<20,"Short",IF(K20<40,"Medium","Long")) -> Long
A21: TR-018 | B21: EMP052 | C21: Nourane Ezzat | D21: HR | E21: People Management Essentials | F21: Leadership | G21: Yes | H21: LinkedIn Learning | I21: 45693 | J21: 45709 | K21: 18 | L21: Completed | M21: 68 | N21: =IFERROR(VLOOKUP($A21,#REF!,13,FALSE),"") | O21: =IFERROR(VLOOKUP($A21,#REF!,10,FALSE),"") | P21: =IFERROR(VLOOKUP($A21,#REF!,7,FALSE),"") | Q21: =IFERROR(VLOOKUP($A21,#REF!,6,FALSE),"") | R21: =IF(G21="Yes",1,0) -> 1 | S21: =IF(L21="Completed",1,0) -> 1 | T21: =IF(L21="Completed",1,IF(L21="Failed",0,"")) -> 1 | U21: =YEAR(I21) -> 2025 | V21: ="Q"&ROUNDUP(MONTH(I21)/3,0) -> Q1 | W21: =IF(J21="","",YEAR(J21)) -> 2025 | X21: =IF(J21="","","Q"&ROUNDUP(MONTH(J21)/3,0)) -> Q1 | Y21: =IF(M21="","",IF(M21>=85,"Excellent",IF(M21>=70,"Good",IF(M21>=60,"Fair","Needs Improvement")))) -> Fair | Z21: =IF(K21<20,"Short",IF(K21<40,"Medium","Long")) -> Short
A22: TR-019 | B22: EMP053 | C22: Islam Saad | D22: HR | E22: Payroll Compliance Workshop | F22: HR Ops | G22: Yes | H22: Deloitte Academy | I22: 45757 | J22: 45771 | K22: 16 | L22: Completed | M22: 84 | N22: =IFERROR(VLOOKUP($A22,#REF!,13,FALSE),"") | O22: =IFERROR(VLOOKUP($A22,#REF!,10,FALSE),"") | P22: =IFERROR(VLOOKUP($A22,#REF!,7,FALSE),"") | Q22: =IFERROR(VLOOKUP($A22,#REF!,6,FALSE),"") | R22: =IF(G22="Yes",1,0) -> 1 | S22: =IF(L22="Completed",1,0) -> 1 | T22: =IF(L22="Completed",1,IF(L22="Failed",0,"")) -> 1 | U22: =YEAR(I22) -> 2025 | V22: ="Q"&ROUNDUP(MONTH(I22)/3,0) -> Q2 | W22: =IF(J22="","",YEAR(J22)) -> 2025 | X22: =IF(J22="","","Q"&ROUNDUP(MONTH(J22)/3,0)) -> Q2 | Y22: =IF(M22="","",IF(M22>=85,"Excellent",IF(M22>=70,"Good",IF(M22>=60,"Fair","Needs Improvement")))) -> Good | Z22: =IF(K22<20,"Short",IF(K22<40,"Medium","Long")) -> Short
A23: TR-020 | B23: EMP020 | C23: Fady Ezzat | D23: Engineering | E23: React & Node.js Bootcamp | F23: Dev | G23: Yes | H23: Udemy | I23: 45868 | J23: 45940 | K23: 80 | L23: Completed | M23: 69 | N23: =IFERROR(VLOOKUP($A23,#REF!,13,FALSE),"") | O23: =IFERROR(VLOOKUP($A23,#REF!,10,FALSE),"") | P23: =IFERROR(VLOOKUP($A23,#REF!,7,FALSE),"") | Q23: =IFERROR(VLOOKUP($A23,#REF!,6,FALSE),"") | R23: =IF(G23="Yes",1,0) -> 1 | S23: =IF(L23="Completed",1,0) -> 1 | T23: =IF(L23="Completed",1,IF(L23="Failed",0,"")) -> 1 | U23: =YEAR(I23) -> 2025 | V23: ="Q"&ROUNDUP(MONTH(I23)/3,0) -> Q3 | W23: =IF(J23="","",YEAR(J23)) -> 2025 | X23: =IF(J23="","","Q"&ROUNDUP(MONTH(J23)/3,0)) -> Q4 | Y23: =IF(M23="","",IF(M23>=85,"Excellent",IF(M23>=70,"Good",IF(M23>=60,"Fair","Needs Improvement")))) -> Fair | Z23: =IF(K23<20,"Short",IF(K23<40,"Medium","Long")) -> Long
A24: TR-021 | B24: EMP008 | C24: Hana Wael | D24: Finance | E24: Financial Modeling in Excel | F24: Finance | G24: Yes | H24: Udemy | I24: 45797 | J24: 45828 | K24: 35 | L24: Completed | M24: 81 | N24: =IFERROR(VLOOKUP($A24,#REF!,13,FALSE),"") | O24: =IFERROR(VLOOKUP($A24,#REF!,10,FALSE),"") | P24: =IFERROR(VLOOKUP($A24,#REF!,7,FALSE),"") | Q24: =IFERROR(VLOOKUP($A24,#REF!,6,FALSE),"") | R24: =IF(G24="Yes",1,0) -> 1 | S24: =IF(L24="Completed",1,0) -> 1 | T24: =IF(L24="Completed",1,IF(L24="Failed",0,"")) -> 1 | U24: =YEAR(I24) -> 2025 | V24: ="Q"&ROUNDUP(MONTH(I24)/3,0) -> Q2 | W24: =IF(J24="","",YEAR(J24)) -> 2025 | X24: =IF(J24="","","Q"&ROUNDUP(MONTH(J24)/3,0)) -> Q2 | Y24: =IF(M24="","",IF(M24>=85,"Excellent",IF(M24>=70,"Good",IF(M24>=60,"Fair","Needs Improvement")))) -> Good | Z24: =IF(K24<20,"Short",IF(K24<40,"Medium","Long")) -> Medium
A25: TR-022 | B25: EMP021 | C25: Hesham Rizk | D25: Sales | E25: Sales Leadership Program | F25: Leadership | G25: Yes | H25: HubSpot | I25: 45965 | J25: 45979 | K25: 16 | L25: In Progress | N25: =IFERROR(VLOOKUP($A25,#REF!,13,FALSE),"") | O25: =IFERROR(VLOOKUP($A25,#REF!,10,FALSE),"") | P25: =IFERROR(VLOOKUP($A25,#REF!,7,FALSE),"") | Q25: =IFERROR(VLOOKUP($A25,#REF!,6,FALSE),"") | R25: =IF(G25="Yes",1,0) -> 1 | S25: =IF(L25="Completed",1,0) -> 0 | T25: =IF(L25="Completed",1,IF(L25="Failed",0,"")) | U25: =YEAR(I25) -> 2025 | V25: ="Q"&ROUNDUP(MONTH(I25)/3,0) -> Q4 | W25: =IF(J25="","",YEAR(J25)) -> 2025 | X25: =IF(J25="","","Q"&ROUNDUP(MONTH(J25)/3,0)) -> Q4 | Y25: =IF(M25="","",IF(M25>=85,"Excellent",IF(M25>=70,"Good",IF(M25>=60,"Fair","Needs Improvement")))) | Z25: =IF(K25<20,"Short",IF(K25<40,"Medium","Long")) -> Short
A26: TR-023 | B26: EMP018 | C26: Passant Attia | D26: Engineering | E26: Python for Data Engineers | F26: Dev | G26: Yes | H26: Coursera | I26: 45867 | J26: 45912 | K26: 50 | L26: Completed | M26: 75 | N26: =IFERROR(VLOOKUP($A26,#REF!,13,FALSE),"") | O26: =IFERROR(VLOOKUP($A26,#REF!,10,FALSE),"") | P26: =IFERROR(VLOOKUP($A26,#REF!,7,FALSE),"") | Q26: =IFERROR(VLOOKUP($A26,#REF!,6,FALSE),"") | R26: =IF(G26="Yes",1,0) -> 1 | S26: =IF(L26="Completed",1,0) -> 1 | T26: =IF(L26="Completed",1,IF(L26="Failed",0,"")) -> 1 | U26: =YEAR(I26) -> 2025 | V26: ="Q"&ROUNDUP(MONTH(I26)/3,0) -> Q3 | W26: =IF(J26="","",YEAR(J26)) -> 2025 | X26: =IF(J26="","","Q"&ROUNDUP(MONTH(J26)/3,0)) -> Q3 | Y26: =IF(M26="","",IF(M26>=85,"Excellent",IF(M26>=70,"Good",IF(M26>=60,"Fair","Needs Improvement")))) -> Good | Z26: =IF(K26<20,"Short",IF(K26<40,"Medium","Long")) -> Long
A27: TR-024 | B27: EMP047 | C27: Radwa Farouk | D27: Marketing | E27: SEO Fundamentals | F27: Digital Marketing | G27: Yes | H27: Coursera | I27: 46011 | J27: 46027 | K27: 18 | L27: Cancelled | N27: =IFERROR(VLOOKUP($A27,#REF!,13,FALSE),"") | O27: =IFERROR(VLOOKUP($A27,#REF!,10,FALSE),"") | P27: =IFERROR(VLOOKUP($A27,#REF!,7,FALSE),"") | Q27: =IFERROR(VLOOKUP($A27,#REF!,6,FALSE),"") | R27: =IF(G27="Yes",1,0) -> 1 | S27: =IF(L27="Completed",1,0) -> 0 | T27: =IF(L27="Completed",1,IF(L27="Failed",0,"")) | U27: =YEAR(I27) -> 2025 | V27: ="Q"&ROUNDUP(MONTH(I27)/3,0) -> Q4 | W27: =IF(J27="","",YEAR(J27)) -> 2026 | X27: =IF(J27="","","Q"&ROUNDUP(MONTH(J27)/3,0)) -> Q1 | Y27: =IF(M27="","",IF(M27>=85,"Excellent",IF(M27>=70,"Good",IF(M27>=60,"Fair","Needs Improvement")))) | Z27: =IF(K27<20,"Short",IF(K27<40,"Medium","Long")) -> Short
A28: TR-025 | B28: EMP004 | C28: Nour Ibrahim | D28: Finance | E28: Cost Accounting Deep Dive | F28: Finance | G28: Yes | H28: Coursera | I28: 45993 | J28: 46018 | K28: 28 | L28: Completed | M28: 82 | N28: =IFERROR(VLOOKUP($A28,#REF!,13,FALSE),"") | O28: =IFERROR(VLOOKUP($A28,#REF!,10,FALSE),"") | P28: =IFERROR(VLOOKUP($A28,#REF!,7,FALSE),"") | Q28: =IFERROR(VLOOKUP($A28,#REF!,6,FALSE),"") | R28: =IF(G28="Yes",1,0) -> 1 | S28: =IF(L28="Completed",1,0) -> 1 | T28: =IF(L28="Completed",1,IF(L28="Failed",0,"")) -> 1 | U28: =YEAR(I28) -> 2025 | V28: ="Q"&ROUNDUP(MONTH(I28)/3,0) -> Q4 | W28: =IF(J28="","",YEAR(J28)) -> 2025 | X28: =IF(J28="","","Q"&ROUNDUP(MONTH(J28)/3,0)) -> Q4 | Y28: =IF(M28="","",IF(M28>=85,"Excellent",IF(M28>=70,"Good",IF(M28>=60,"Fair","Needs Improvement")))) -> Good | Z28: =IF(K28<20,"Short",IF(K28<40,"Medium","Long")) -> Medium
A29: TR-026 | B29: EMP057 | C29: Mariam Younis | D29: Operations | E29: Supply Chain Analytics | F29: Ops Excellence | G29: Yes | H29: Coursera | I29: 46003 | J29: 46031 | K29: 32 | L29: Completed | M29: 76 | N29: =IFERROR(VLOOKUP($A29,#REF!,13,FALSE),"") | O29: =IFERROR(VLOOKUP($A29,#REF!,10,FALSE),"") | P29: =IFERROR(VLOOKUP($A29,#REF!,7,FALSE),"") | Q29: =IFERROR(VLOOKUP($A29,#REF!,6,FALSE),"") | R29: =IF(G29="Yes",1,0) -> 1 | S29: =IF(L29="Completed",1,0) -> 1 | T29: =IF(L29="Completed",1,IF(L29="Failed",0,"")) -> 1 | U29: =YEAR(I29) -> 2025 | V29: ="Q"&ROUNDUP(MONTH(I29)/3,0) -> Q4 | W29: =IF(J29="","",YEAR(J29)) -> 2026 | X29: =IF(J29="","","Q"&ROUNDUP(MONTH(J29)/3,0)) -> Q1 | Y29: =IF(M29="","",IF(M29>=85,"Excellent",IF(M29>=70,"Good",IF(M29>=60,"Fair","Needs Improvement")))) -> Good | Z29: =IF(K29<20,"Short",IF(K29<40,"Medium","Long")) -> Medium
A30: TR-027 | B30: EMP025 | C30: Bassem Badawy | D30: Sales | E30: Negotiation Mastery | F30: Sales | G30: Yes | H30: HubSpot | I30: 45753 | J30: 45767 | K30: 16 | L30: In Progress | N30: =IFERROR(VLOOKUP($A30,#REF!,13,FALSE),"") | O30: =IFERROR(VLOOKUP($A30,#REF!,10,FALSE),"") | P30: =IFERROR(VLOOKUP($A30,#REF!,7,FALSE),"") | Q30: =IFERROR(VLOOKUP($A30,#REF!,6,FALSE),"") | R30: =IF(G30="Yes",1,0) -> 1 | S30: =IF(L30="Completed",1,0) -> 0 | T30: =IF(L30="Completed",1,IF(L30="Failed",0,"")) | U30: =YEAR(I30) -> 2025 | V30: ="Q"&ROUNDUP(MONTH(I30)/3,0) -> Q2 | W30: =IF(J30="","",YEAR(J30)) -> 2025 | X30: =IF(J30="","","Q"&ROUNDUP(MONTH(J30)/3,0)) -> Q2 | Y30: =IF(M30="","",IF(M30>=85,"Excellent",IF(M30>=70,"Good",IF(M30>=60,"Fair","Needs Improvement")))) | Z30: =IF(K30<20,"Short",IF(K30<40,"Medium","Long")) -> Short
A31: TR-028 | B31: EMP014 | C31: Sayed Mansour | D31: Engineering | E31: React & Node.js Bootcamp | F31: Dev | G31: Yes | H31: Udemy | I31: 45761 | J31: 45833 | K31: 80 | L31: Completed | M31: 73 | N31: =IFERROR(VLOOKUP($A31,#REF!,13,FALSE),"") | O31: =IFERROR(VLOOKUP($A31,#REF!,10,FALSE),"") | P31: =IFERROR(VLOOKUP($A31,#REF!,7,FALSE),"") | Q31: =IFERROR(VLOOKUP($A31,#REF!,6,FALSE),"") | R31: =IF(G31="Yes",1,0) -> 1 | S31: =IF(L31="Completed",1,0) -> 1 | T31: =IF(L31="Completed",1,IF(L31="Failed",0,"")) -> 1 | U31: =YEAR(I31) -> 2025 | V31: ="Q"&ROUNDUP(MONTH(I31)/3,0) -> Q2 | W31: =IF(J31="","",YEAR(J31)) -> 2025 | X31: =IF(J31="","","Q"&ROUNDUP(MONTH(J31)/3,0)) -> Q2 | Y31: =IF(M31="","",IF(M31>=85,"Excellent",IF(M31>=70,"Good",IF(M31>=60,"Fair","Needs Improvement")))) -> Good | Z31: =IF(K31<20,"Short",IF(K31<40,"Medium","Long")) -> Long
A32: TR-029 | B32: EMP022 | C32: Osama Anwar | D32: Sales | E32: Advanced Sales Techniques | F32: Sales | G32: Yes | H32: Sales Academy | I32: 45947 | J32: 45965 | K32: 20 | L32: Completed | M32: 97 | N32: =IFERROR(VLOOKUP($A32,#REF!,13,FALSE),"") | O32: =IFERROR(VLOOKUP($A32,#REF!,10,FALSE),"") | P32: =IFERROR(VLOOKUP($A32,#REF!,7,FALSE),"") | Q32: =IFERROR(VLOOKUP($A32,#REF!,6,FALSE),"") | R32: =IF(G32="Yes",1,0) -> 1 | S32: =IF(L32="Completed",1,0) -> 1 | T32: =IF(L32="Completed",1,IF(L32="Failed",0,"")) -> 1 | U32: =YEAR(I32) -> 2025 | V32: ="Q"&ROUNDUP(MONTH(I32)/3,0) -> Q4 | W32: =IF(J32="","",YEAR(J32)) -> 2025 | X32: =IF(J32="","","Q"&ROUNDUP(MONTH(J32)/3,0)) -> Q4 | Y32: =IF(M32="","",IF(M32>=85,"Excellent",IF(M32>=70,"Good",IF(M32>=60,"Fair","Needs Improvement")))) -> Excellent | Z32: =IF(K32<20,"Short",IF(K32<40,"Medium","Long")) -> Medium
A33: TR-030 | B33: EMP009 | C33: Yasser Nasser | D33: IT | E33: Network Security Essentials | F33: IT Security | G33: Yes | H33: Udemy | I33: 46019 | J33: 46042 | K33: 26 | L33: Completed | M33: 79 | N33: =IFERROR(VLOOKUP($A33,#REF!,13,FALSE),"") | O33: =IFERROR(VLOOKUP($A33,#REF!,10,FALSE),"") | P33: =IFERROR(VLOOKUP($A33,#REF!,7,FALSE),"") | Q33: =IFERROR(VLOOKUP($A33,#REF!,6,FALSE),"") | R33: =IF(G33="Yes",1,0) -> 1 | S33: =IF(L33="Completed",1,0) -> 1 | T33: =IF(L33="Completed",1,IF(L33="Failed",0,"")) -> 1 | U33: =YEAR(I33) -> 2025 | V33: ="Q"&ROUNDUP(MONTH(I33)/3,0) -> Q4 | W33: =IF(J33="","",YEAR(J33)) -> 2026 | X33: =IF(J33="","","Q"&ROUNDUP(MONTH(J33)/3,0)) -> Q1 | Y33: =IF(M33="","",IF(M33>=85,"Excellent",IF(M33>=70,"Good",IF(M33>=60,"Fair","Needs Improvement")))) -> Good | Z33: =IF(K33<20,"Short",IF(K33<40,"Medium","Long")) -> Medium
A34: TR-031 | B34: EMP001 | C34: Ahmed Hassan | D34: Engineering | E34: AWS Solutions Architect | F34: Cloud | G34: Yes | H34: AWS Training | I34: 45717 | J34: 45753 | K34: 40 | L34: In Progress | N34: =IFERROR(VLOOKUP($A34,#REF!,13,FALSE),"") | O34: =IFERROR(VLOOKUP($A34,#REF!,10,FALSE),"") | P34: =IFERROR(VLOOKUP($A34,#REF!,7,FALSE),"") | Q34: =IFERROR(VLOOKUP($A34,#REF!,6,FALSE),"") | R34: =IF(G34="Yes",1,0) -> 1 | S34: =IF(L34="Completed",1,0) -> 0 | T34: =IF(L34="Completed",1,IF(L34="Failed",0,"")) | U34: =YEAR(I34) -> 2025 | V34: ="Q"&ROUNDUP(MONTH(I34)/3,0) -> Q1 | W34: =IF(J34="","",YEAR(J34)) -> 2025 | X34: =IF(J34="","","Q"&ROUNDUP(MONTH(J34)/3,0)) -> Q2 | Y34: =IF(M34="","",IF(M34>=85,"Excellent",IF(M34>=70,"Good",IF(M34>=60,"Fair","Needs Improvement")))) | Z34: =IF(K34<20,"Short",IF(K34<40,"Medium","Long")) -> Long
A35: TR-032 | B35: EMP043 | C35: Anas Mostafa | D35: IT | E35: Cybersecurity Fundamentals | F35: IT Security | G35: Yes | H35: Coursera | I35: 45846 | J35: 45873 | K35: 30 | L35: Cancelled | N35: =IFERROR(VLOOKUP($A35,#REF!,13,FALSE),"") | O35: =IFERROR(VLOOKUP($A35,#REF!,10,FALSE),"") | P35: =IFERROR(VLOOKUP($A35,#REF!,7,FALSE),"") | Q35: =IFERROR(VLOOKUP($A35,#REF!,6,FALSE),"") | R35: =IF(G35="Yes",1,0) -> 1 | S35: =IF(L35="Completed",1,0) -> 0 | T35: =IF(L35="Completed",1,IF(L35="Failed",0,"")) | U35: =YEAR(I35) -> 2025 | V35: ="Q"&ROUNDUP(MONTH(I35)/3,0) -> Q3 | W35: =IF(J35="","",YEAR(J35)) -> 2025 | X35: =IF(J35="","","Q"&ROUNDUP(MONTH(J35)/3,0)) -> Q3 | Y35: =IF(M35="","",IF(M35>=85,"Excellent",IF(M35>=70,"Good",IF(M35>=60,"Fair","Needs Improvement")))) | Z35: =IF(K35<20,"Short",IF(K35<40,"Medium","Long")) -> Medium
A36: TR-033 | B36: EMP011 | C36: Mohamed Helmy | D36: Engineering | E36: SQL Server Mastery | F36: Data | G36: Yes | H36: LinkedIn Learning | I36: 45886 | J36: 45913 | K36: 30 | L36: Enrolled | N36: =IFERROR(VLOOKUP($A36,#REF!,13,FALSE),"") | O36: =IFERROR(VLOOKUP($A36,#REF!,10,FALSE),"") | P36: =IFERROR(VLOOKUP($A36,#REF!,7,FALSE),"") | Q36: =IFERROR(VLOOKUP($A36,#REF!,6,FALSE),"") | R36: =IF(G36="Yes",1,0) -> 1 | S36: =IF(L36="Completed",1,0) -> 0 | T36: =IF(L36="Completed",1,IF(L36="Failed",0,"")) | U36: =YEAR(I36) -> 2025 | V36: ="Q"&ROUNDUP(MONTH(I36)/3,0) -> Q3 | W36: =IF(J36="","",YEAR(J36)) -> 2025 | X36: =IF(J36="","","Q"&ROUNDUP(MONTH(J36)/3,0)) -> Q3 | Y36: =IF(M36="","",IF(M36>=85,"Excellent",IF(M36>=70,"Good",IF(M36>=60,"Fair","Needs Improvement")))) | Z36: =IF(K36<20,"Short",IF(K36<40,"Medium","Long")) -> Medium
A37: TR-034 | B37: EMP056 | C37: Rania Rizk | D37: Operations | E37: Lean Six Sigma Green Belt | F37: Ops Excellence | G37: Yes | H37: Deloitte Academy | I37: 45734 | J37: 45774 | K37: 45 | L37: Completed | M37: 68 | N37: =IFERROR(VLOOKUP($A37,#REF!,13,FALSE),"") | O37: =IFERROR(VLOOKUP($A37,#REF!,10,FALSE),"") | P37: =IFERROR(VLOOKUP($A37,#REF!,7,FALSE),"") | Q37: =IFERROR(VLOOKUP($A37,#REF!,6,FALSE),"") | R37: =IF(G37="Yes",1,0) -> 1 | S37: =IF(L37="Completed",1,0) -> 1 | T37: =IF(L37="Completed",1,IF(L37="Failed",0,"")) -> 1 | U37: =YEAR(I37) -> 2025 | V37: ="Q"&ROUNDUP(MONTH(I37)/3,0) -> Q1 | W37: =IF(J37="","",YEAR(J37)) -> 2025 | X37: =IF(J37="","","Q"&ROUNDUP(MONTH(J37)/3,0)) -> Q2 | Y37: =IF(M37="","",IF(M37>=85,"Excellent",IF(M37>=70,"Good",IF(M37>=60,"Fair","Needs Improvement")))) -> Fair | Z37: =IF(K37<20,"Short",IF(K37<40,"Medium","Long")) -> Long
A38: TR-035 | B38: EMP043 | C38: Anas Mostafa | D38: IT | E38: Network Security Essentials | F38: IT Security | G38: Yes | H38: Udemy | I38: 46006 | J38: 46029 | K38: 26 | L38: Enrolled | N38: =IFERROR(VLOOKUP($A38,#REF!,13,FALSE),"") | O38: =IFERROR(VLOOKUP($A38,#REF!,10,FALSE),"") | P38: =IFERROR(VLOOKUP($A38,#REF!,7,FALSE),"") | Q38: =IFERROR(VLOOKUP($A38,#REF!,6,FALSE),"") | R38: =IF(G38="Yes",1,0) -> 1 | S38: =IF(L38="Completed",1,0) -> 0 | T38: =IF(L38="Completed",1,IF(L38="Failed",0,"")) | U38: =YEAR(I38) -> 2025 | V38: ="Q"&ROUNDUP(MONTH(I38)/3,0) -> Q4 | W38: =IF(J38="","",YEAR(J38)) -> 2026 | X38: =IF(J38="","","Q"&ROUNDUP(MONTH(J38)/3,0)) -> Q1 | Y38: =IF(M38="","",IF(M38>=85,"Excellent",IF(M38>=70,"Good",IF(M38>=60,"Fair","Needs Improvement")))) | Z38: =IF(K38<20,"Short",IF(K38<40,"Medium","Long")) -> Medium
A39: TR-036 | B39: EMP031 | C39: Medhat Anwar | D39: Finance | E39: IFRS Accounting Standards | F39: Finance | G39: Yes | H39: ACCA | I39: 45873 | J39: 45927 | K39: 60 | L39: Completed | M39: 81 | N39: =IFERROR(VLOOKUP($A39,#REF!,13,FALSE),"") | O39: =IFERROR(VLOOKUP($A39,#REF!,10,FALSE),"") | P39: =IFERROR(VLOOKUP($A39,#REF!,7,FALSE),"") | Q39: =IFERROR(VLOOKUP($A39,#REF!,6,FALSE),"") | R39: =IF(G39="Yes",1,0) -> 1 | S39: =IF(L39="Completed",1,0) -> 1 | T39: =IF(L39="Completed",1,IF(L39="Failed",0,"")) -> 1 | U39: =YEAR(I39) -> 2025 | V39: ="Q"&ROUNDUP(MONTH(I39)/3,0) -> Q3 | W39: =IF(J39="","",YEAR(J39)) -> 2025 | X39: =IF(J39="","","Q"&ROUNDUP(MONTH(J39)/3,0)) -> Q3 | Y39: =IF(M39="","",IF(M39>=85,"Excellent",IF(M39>=70,"Good",IF(M39>=60,"Fair","Needs Improvement")))) -> Good | Z39: =IF(K39<20,"Short",IF(K39<40,"Medium","Long")) -> Long
A40: TR-037 | B40: EMP044 | C40: Nourane Shaker | D40: Marketing | E40: Content Strategy Workshop | F40: Digital Marketing | G40: Yes | H40: LinkedIn Learning | I40: 45754 | J40: 45766 | K40: 14 | L40: In Progress | N40: =IFERROR(VLOOKUP($A40,#REF!,13,FALSE),"") | O40: =IFERROR(VLOOKUP($A40,#REF!,10,FALSE),"") | P40: =IFERROR(VLOOKUP($A40,#REF!,7,FALSE),"") | Q40: =IFERROR(VLOOKUP($A40,#REF!,6,FALSE),"") | R40: =IF(G40="Yes",1,0) -> 1 | S40: =IF(L40="Completed",1,0) -> 0 | T40: =IF(L40="Completed",1,IF(L40="Failed",0,"")) | U40: =YEAR(I40) -> 2025 | V40: ="Q"&ROUNDUP(MONTH(I40)/3,0) -> Q2 | W40: =IF(J40="","",YEAR(J40)) -> 2025 | X40: =IF(J40="","","Q"&ROUNDUP(MONTH(J40)/3,0)) -> Q2 | Y40: =IF(M40="","",IF(M40>=85,"Excellent",IF(M40>=70,"Good",IF(M40>=60,"Fair","Needs Improvement")))) | Z40: =IF(K40<20,"Short",IF(K40<40,"Medium","Long")) -> Short
...

Sheet Lookups
A1: Recruitment Stage | B1: Performance Band | D1: Departments | E1: Turnover Reasons | F1: Forecast Years | G1: Forecast Departments | H1: Forecast Scenario | I1: Budget Status List | J1: Position Type List | K1: Critical Position List | L1: Forecast Priority | N1: Skills | O1: Category
A2: Applied | B2: Excellent | D2: Engineering | E2: Resignation | F2: 2026 | G2: Engineering | H2: Base | I2: Forecast | J2: Replacement | K2: Yes | L2: High | N2: Python | O2: Technical
A3: Screening | B3: Very Good | D3: Finance | E3: Better Opportunity | F3: 2027 | G3: HR | H3: Conservative | I3: Draft | J3: New Position | K3: No | L3: Medium | N3: SQL | O3: Technical
A4: HR Interview | B4: Good | D4: HR | E4: Contract Ended | F4: 2028 | G4: Sales | H4: Optimistic | I4: Approved | L4: Low | N4: Excel | O4: Technical
A5: Technical Interview | B5: Needs Improvement | D5: IT | E5: Termination | F5: 2029 | G5: Finance | I5: Revised | N5: Power BI | O5: Technical
A6: Assessment | B6: Unsatisfactory | D6: Marketing | E6: Retirement | F6: 2030 | G6: Marketing | N6: Cloud | O6: Technical
A7: Pending | D7: Operations | E7: Relocation | G7: IT | N7: Communication | O7: Behavioral
A8: Accepted | D8: Sales | E8: Family Reasons | G8: Operations | N8: Leadership | O8: Behavioral
A9: Rejected | E9: Performance Issues | N9: Teamwork | O9: Behavioral
A10: Withdrawn | N10: Problem Solving | O10: Behavioral
A11: On Hold
A13: Status Group | B13: Tenure Band
A14: Current | B14: <1 year
A15: Former | B15: 1-3 years
B16: 3-5 years
B17: 5-10 years
B18: 10+ years
A19: Age Band
A20: Under 25
A21: 25-34

Sheet Attendance Monthly
A1: Attendance Monthly Summary (calc)
A2: Jan-Mar 2025 aggregated live from daily Attendance records. Apr-Dec 2025 are department-level monthly inputs (no daily punch data was generated for these months); headcount is always a live formula against Employees.
A3: Department | B3: Month | C3: MonthLabel | D3: WorkdaysInMonth | E3: HeadcountActive | F3: PresentCount | G3: AbsentCount | H3: LateCount | I3: LeaveCount | J3: OvertimeHours | K3: TotalRecords | L3: AttendanceRate | M3: AbsenteeismRate
A4: Engineering | B4: 45658 | C4: Jan 2025 | D4: 22 | E4: =COUNTIFS(#REF!,$A4,#REF!,"<="&EOMONTH($B4,0))-COUNTIFS(#REF!,$A4,#REF!,"<="&EOMONTH($B4,0),#REF!,"Terminated",#REF!,"<"&$B4) -> #REF! | F4: =COUNTIFS(#REF!,$A4,#REF!,TEXT($B4,"yyyy-mm"),#REF!,"Present") -> #REF! | G4: =COUNTIFS(#REF!,$A4,#REF!,TEXT($B4,"yyyy-mm"),#REF!,"Absent") -> #REF! | H4: =COUNTIFS(#REF!,$A4,#REF!,TEXT($B4,"yyyy-mm"),#REF!,"Late") -> #REF! | I4: =COUNTIFS(#REF!,$A4,#REF!,TEXT($B4,"yyyy-mm"),#REF!,"Leave") -> #REF! | J4: =SUMIFS(#REF!,#REF!,$A4,#REF!,TEXT($B4,"yyyy-mm")) -> #REF! | K4: =COUNTIFS(#REF!,$A4,#REF!,TEXT($B4,"yyyy-mm")) -> #REF! | L4: =IFERROR(($F4+$H4)/$K4,"") | M4: =IFERROR($G4/$K4,"")
A5: Engineering | B5: 45689 | C5: Feb 2025 | D5: 20 | E5: =COUNTIFS(#REF!,$A5,#REF!,"<="&EOMONTH($B5,0))-COUNTIFS(#REF!,$A5,#REF!,"<="&EOMONTH($B5,0),#REF!,"Terminated",#REF!,"<"&$B5) -> #REF! | F5: =COUNTIFS(#REF!,$A5,#REF!,TEXT($B5,"yyyy-mm"),#REF!,"Present") -> #REF! | G5: =COUNTIFS(#REF!,$A5,#REF!,TEXT($B5,"yyyy-mm"),#REF!,"Absent") -> #REF! | H5: =COUNTIFS(#REF!,$A5,#REF!,TEXT($B5,"yyyy-mm"),#REF!,"Late") -> #REF! | I5: =COUNTIFS(#REF!,$A5,#REF!,TEXT($B5,"yyyy-mm"),#REF!,"Leave") -> #REF! | J5: =SUMIFS(#REF!,#REF!,$A5,#REF!,TEXT($B5,"yyyy-mm")) -> #REF! | K5: =COUNTIFS(#REF!,$A5,#REF!,TEXT($B5,"yyyy-mm")) -> #REF! | L5: =IFERROR(($F5+$H5)/$K5,"") | M5: =IFERROR($G5/$K5,"")
A6: Engineering | B6: 45717 | C6: Mar 2025 | D6: 22 | E6: =COUNTIFS(#REF!,$A6,#REF!,"<="&EOMONTH($B6,0))-COUNTIFS(#REF!,$A6,#REF!,"<="&EOMONTH($B6,0),#REF!,"Terminated",#REF!,"<"&$B6) -> #REF! | F6: =COUNTIFS(#REF!,$A6,#REF!,TEXT($B6,"yyyy-mm"),#REF!,"Present") -> #REF! | G6: =COUNTIFS(#REF!,$A6,#REF!,TEXT($B6,"yyyy-mm"),#REF!,"Absent") -> #REF! | H6: =COUNTIFS(#REF!,$A6,#REF!,TEXT($B6,"yyyy-mm"),#REF!,"Late") -> #REF! | I6: =COUNTIFS(#REF!,$A6,#REF!,TEXT($B6,"yyyy-mm"),#REF!,"Leave") -> #REF! | J6: =SUMIFS(#REF!,#REF!,$A6,#REF!,TEXT($B6,"yyyy-mm")) -> #REF! | K6: =COUNTIFS(#REF!,$A6,#REF!,TEXT($B6,"yyyy-mm")) -> #REF! | L6: =IFERROR(($F6+$H6)/$K6,"") | M6: =IFERROR($G6/$K6,"")
A7: Engineering | B7: 45748 | C7: Apr 2025 | D7: 22 | E7: =COUNTIFS(#REF!,$A7,#REF!,"<="&EOMONTH($B7,0))-COUNTIFS(#REF!,$A7,#REF!,"<="&EOMONTH($B7,0),#REF!,"Terminated",#REF!,"<"&$B7) -> #REF! | F7: =MAX(0,$K7-$G7-$H7-$I7) -> #REF! | G7: =ROUND($K7*0.0109,0) -> #REF! | H7: =ROUND($K7*0.0347,0) -> #REF! | I7: =ROUND($K7*0.0167,0) -> #REF! | J7: =ROUND($E7*5.17,1) -> #REF! | K7: =ROUND(E7*D7,0) -> #REF! | L7: =IFERROR(($F7+$H7)/$K7,"") | M7: =IFERROR($G7/$K7,"")
A8: Engineering | B8: 45778 | C8: May 2025 | D8: 21 | E8: =COUNTIFS(#REF!,$A8,#REF!,"<="&EOMONTH($B8,0))-COUNTIFS(#REF!,$A8,#REF!,"<="&EOMONTH($B8,0),#REF!,"Terminated",#REF!,"<"&$B8) -> #REF! | F8: =MAX(0,$K8-$G8-$H8-$I8) -> #REF! | G8: =ROUND($K8*0.0235,0) -> #REF! | H8: =ROUND($K8*0.034,0) -> #REF! | I8: =ROUND($K8*0.0124,0) -> #REF! | J8: =ROUND($E8*4.33,1) -> #REF! | K8: =ROUND(E8*D8,0) -> #REF! | L8: =IFERROR(($F8+$H8)/$K8,"") | M8: =IFERROR($G8/$K8,"")
A9: Engineering | B9: 45809 | C9: Jun 2025 | D9: 22 | E9: =COUNTIFS(#REF!,$A9,#REF!,"<="&EOMONTH($B9,0))-COUNTIFS(#REF!,$A9,#REF!,"<="&EOMONTH($B9,0),#REF!,"Terminated",#REF!,"<"&$B9) -> #REF! | F9: =MAX(0,$K9-$G9-$H9-$I9) -> #REF! | G9: =ROUND($K9*0.0288,0) -> #REF! | H9: =ROUND($K9*0.032,0) -> #REF! | I9: =ROUND($K9*0.0256,0) -> #REF! | J9: =ROUND($E9*4.04,1) -> #REF! | K9: =ROUND(E9*D9,0) -> #REF! | L9: =IFERROR(($F9+$H9)/$K9,"") | M9: =IFERROR($G9/$K9,"")
A10: Engineering | B10: 45839 | C10: Jul 2025 | D10: 23 | E10: =COUNTIFS(#REF!,$A10,#REF!,"<="&EOMONTH($B10,0))-COUNTIFS(#REF!,$A10,#REF!,"<="&EOMONTH($B10,0),#REF!,"Terminated",#REF!,"<"&$B10) -> #REF! | F10: =MAX(0,$K10-$G10-$H10-$I10) -> #REF! | G10: =ROUND($K10*0.0293,0) -> #REF! | H10: =ROUND($K10*0.0181,0) -> #REF! | I10: =ROUND($K10*0.0254,0) -> #REF! | J10: =ROUND($E10*5.77,1) -> #REF! | K10: =ROUND(E10*D10,0) -> #REF! | L10: =IFERROR(($F10+$H10)/$K10,"") | M10: =IFERROR($G10/$K10,"")
A11: Engineering | B11: 45870 | C11: Aug 2025 | D11: 21 | E11: =COUNTIFS(#REF!,$A11,#REF!,"<="&EOMONTH($B11,0))-COUNTIFS(#REF!,$A11,#REF!,"<="&EOMONTH($B11,0),#REF!,"Terminated",#REF!,"<"&$B11) -> #REF! | F11: =MAX(0,$K11-$G11-$H11-$I11) -> #REF! | G11: =ROUND($K11*0.033,0) -> #REF! | H11: =ROUND($K11*0.0156,0) -> #REF! | I11: =ROUND($K11*0.0197,0) -> #REF! | J11: =ROUND($E11*3.34,1) -> #REF! | K11: =ROUND(E11*D11,0) -> #REF! | L11: =IFERROR(($F11+$H11)/$K11,"") | M11: =IFERROR($G11/$K11,"")
A12: Engineering | B12: 45901 | C12: Sep 2025 | D12: 22 | E12: =COUNTIFS(#REF!,$A12,#REF!,"<="&EOMONTH($B12,0))-COUNTIFS(#REF!,$A12,#REF!,"<="&EOMONTH($B12,0),#REF!,"Terminated",#REF!,"<"&$B12) -> #REF! | F12: =MAX(0,$K12-$G12-$H12-$I12) -> #REF! | G12: =ROUND($K12*0.0315,0) -> #REF! | H12: =ROUND($K12*0.0316,0) -> #REF! | I12: =ROUND($K12*0.0175,0) -> #REF! | J12: =ROUND($E12*2.58,1) -> #REF! | K12: =ROUND(E12*D12,0) -> #REF! | L12: =IFERROR(($F12+$H12)/$K12,"") | M12: =IFERROR($G12/$K12,"")
A13: Engineering | B13: 45931 | C13: Oct 2025 | D13: 22 | E13: =COUNTIFS(#REF!,$A13,#REF!,"<="&EOMONTH($B13,0))-COUNTIFS(#REF!,$A13,#REF!,"<="&EOMONTH($B13,0),#REF!,"Terminated",#REF!,"<"&$B13) -> #REF! | F13: =MAX(0,$K13-$G13-$H13-$I13) -> #REF! | G13: =ROUND($K13*0.0104,0) -> #REF! | H13: =ROUND($K13*0.035,0) -> #REF! | I13: =ROUND($K13*0.026,0) -> #REF! | J13: =ROUND($E13*3.2,1) -> #REF! | K13: =ROUND(E13*D13,0) -> #REF! | L13: =IFERROR(($F13+$H13)/$K13,"") | M13: =IFERROR($G13/$K13,"")
A14: Engineering | B14: 45962 | C14: Nov 2025 | D14: 21 | E14: =COUNTIFS(#REF!,$A14,#REF!,"<="&EOMONTH($B14,0))-COUNTIFS(#REF!,$A14,#REF!,"<="&EOMONTH($B14,0),#REF!,"Terminated",#REF!,"<"&$B14) -> #REF! | F14: =MAX(0,$K14-$G14-$H14-$I14) -> #REF! | G14: =ROUND($K14*0.0106,0) -> #REF! | H14: =ROUND($K14*0.0383,0) -> #REF! | I14: =ROUND($K14*0.0195,0) -> #REF! | J14: =ROUND($E14*3.03,1) -> #REF! | K14: =ROUND(E14*D14,0) -> #REF! | L14: =IFERROR(($F14+$H14)/$K14,"") | M14: =IFERROR($G14/$K14,"")
A15: Engineering | B15: 45992 | C15: Dec 2025 | D15: 23 | E15: =COUNTIFS(#REF!,$A15,#REF!,"<="&EOMONTH($B15,0))-COUNTIFS(#REF!,$A15,#REF!,"<="&EOMONTH($B15,0),#REF!,"Terminated",#REF!,"<"&$B15) -> #REF! | F15: =MAX(0,$K15-$G15-$H15-$I15) -> #REF! | G15: =ROUND($K15*0.022,0) -> #REF! | H15: =ROUND($K15*0.0254,0) -> #REF! | I15: =ROUND($K15*0.0256,0) -> #REF! | J15: =ROUND($E15*3.18,1) -> #REF! | K15: =ROUND(E15*D15,0) -> #REF! | L15: =IFERROR(($F15+$H15)/$K15,"") | M15: =IFERROR($G15/$K15,"")
A16: HR | B16: 45658 | C16: Jan 2025 | D16: 22 | E16: =COUNTIFS(#REF!,$A16,#REF!,"<="&EOMONTH($B16,0))-COUNTIFS(#REF!,$A16,#REF!,"<="&EOMONTH($B16,0),#REF!,"Terminated",#REF!,"<"&$B16) -> #REF! | F16: =COUNTIFS(#REF!,$A16,#REF!,TEXT($B16,"yyyy-mm"),#REF!,"Present") -> #REF! | G16: =COUNTIFS(#REF!,$A16,#REF!,TEXT($B16,"yyyy-mm"),#REF!,"Absent") -> #REF! | H16: =COUNTIFS(#REF!,$A16,#REF!,TEXT($B16,"yyyy-mm"),#REF!,"Late") -> #REF! | I16: =COUNTIFS(#REF!,$A16,#REF!,TEXT($B16,"yyyy-mm"),#REF!,"Leave") -> #REF! | J16: =SUMIFS(#REF!,#REF!,$A16,#REF!,TEXT($B16,"yyyy-mm")) -> #REF! | K16: =COUNTIFS(#REF!,$A16,#REF!,TEXT($B16,"yyyy-mm")) -> #REF! | L16: =IFERROR(($F16+$H16)/$K16,"") | M16: =IFERROR($G16/$K16,"")
A17: HR | B17: 45689 | C17: Feb 2025 | D17: 20 | E17: =COUNTIFS(#REF!,$A17,#REF!,"<="&EOMONTH($B17,0))-COUNTIFS(#REF!,$A17,#REF!,"<="&EOMONTH($B17,0),#REF!,"Terminated",#REF!,"<"&$B17) -> #REF! | F17: =COUNTIFS(#REF!,$A17,#REF!,TEXT($B17,"yyyy-mm"),#REF!,"Present") -> #REF! | G17: =COUNTIFS(#REF!,$A17,#REF!,TEXT($B17,"yyyy-mm"),#REF!,"Absent") -> #REF! | H17: =COUNTIFS(#REF!,$A17,#REF!,TEXT($B17,"yyyy-mm"),#REF!,"Late") -> #REF! | I17: =COUNTIFS(#REF!,$A17,#REF!,TEXT($B17,"yyyy-mm"),#REF!,"Leave") -> #REF! | J17: =SUMIFS(#REF!,#REF!,$A17,#REF!,TEXT($B17,"yyyy-mm")) -> #REF! | K17: =COUNTIFS(#REF!,$A17,#REF!,TEXT($B17,"yyyy-mm")) -> #REF! | L17: =IFERROR(($F17+$H17)/$K17,"") | M17: =IFERROR($G17/$K17,"")
A18: HR | B18: 45717 | C18: Mar 2025 | D18: 22 | E18: =COUNTIFS(#REF!,$A18,#REF!,"<="&EOMONTH($B18,0))-COUNTIFS(#REF!,$A18,#REF!,"<="&EOMONTH($B18,0),#REF!,"Terminated",#REF!,"<"&$B18) -> #REF! | F18: =COUNTIFS(#REF!,$A18,#REF!,TEXT($B18,"yyyy-mm"),#REF!,"Present") -> #REF! | G18: =COUNTIFS(#REF!,$A18,#REF!,TEXT($B18,"yyyy-mm"),#REF!,"Absent") -> #REF! | H18: =COUNTIFS(#REF!,$A18,#REF!,TEXT($B18,"yyyy-mm"),#REF!,"Late") -> #REF! | I18: =COUNTIFS(#REF!,$A18,#REF!,TEXT($B18,"yyyy-mm"),#REF!,"Leave") -> #REF! | J18: =SUMIFS(#REF!,#REF!,$A18,#REF!,TEXT($B18,"yyyy-mm")) -> #REF! | K18: =COUNTIFS(#REF!,$A18,#REF!,TEXT($B18,"yyyy-mm")) -> #REF! | L18: =IFERROR(($F18+$H18)/$K18,"") | M18: =IFERROR($G18/$K18,"")
A19: HR | B19: 45748 | C19: Apr 2025 | D19: 22 | E19: =COUNTIFS(#REF!,$A19,#REF!,"<="&EOMONTH($B19,0))-COUNTIFS(#REF!,$A19,#REF!,"<="&EOMONTH($B19,0),#REF!,"Terminated",#REF!,"<"&$B19) -> #REF! | F19: =MAX(0,$K19-$G19-$H19-$I19) -> #REF! | G19: =ROUND($K19*0.0202,0) -> #REF! | H19: =ROUND($K19*0.0338,0) -> #REF! | I19: =ROUND($K19*0.04,0) -> #REF! | J19: =ROUND($E19*5.51,1) -> #REF! | K19: =ROUND(E19*D19,0) -> #REF! | L19: =IFERROR(($F19+$H19)/$K19,"") | M19: =IFERROR($G19/$K19,"")
A20: HR | B20: 45778 | C20: May 2025 | D20: 21 | E20: =COUNTIFS(#REF!,$A20,#REF!,"<="&EOMONTH($B20,0))-COUNTIFS(#REF!,$A20,#REF!,"<="&EOMONTH($B20,0),#REF!,"Terminated",#REF!,"<"&$B20) -> #REF! | F20: =MAX(0,$K20-$G20-$H20-$I20) -> #REF! | G20: =ROUND($K20*0.0192,0) -> #REF! | H20: =ROUND($K20*0.0389,0) -> #REF! | I20: =ROUND($K20*0.0131,0) -> #REF! | J20: =ROUND($E20*3.78,1) -> #REF! | K20: =ROUND(E20*D20,0) -> #REF! | L20: =IFERROR(($F20+$H20)/$K20,"") | M20: =IFERROR($G20/$K20,"")
A21: HR | B21: 45809 | C21: Jun 2025 | D21: 22 | E21: =COUNTIFS(#REF!,$A21,#REF!,"<="&EOMONTH($B21,0))-COUNTIFS(#REF!,$A21,#REF!,"<="&EOMONTH($B21,0),#REF!,"Terminated",#REF!,"<"&$B21) -> #REF! | F21: =MAX(0,$K21-$G21-$H21-$I21) -> #REF! | G21: =ROUND($K21*0.0375,0) -> #REF! | H21: =ROUND($K21*0.0289,0) -> #REF! | I21: =ROUND($K21*0.0141,0) -> #REF! | J21: =ROUND($E21*5.59,1) -> #REF! | K21: =ROUND(E21*D21,0) -> #REF! | L21: =IFERROR(($F21+$H21)/$K21,"") | M21: =IFERROR($G21/$K21,"")
A22: HR | B22: 45839 | C22: Jul 2025 | D22: 23 | E22: =COUNTIFS(#REF!,$A22,#REF!,"<="&EOMONTH($B22,0))-COUNTIFS(#REF!,$A22,#REF!,"<="&EOMONTH($B22,0),#REF!,"Terminated",#REF!,"<"&$B22) -> #REF! | F22: =MAX(0,$K22-$G22-$H22-$I22) -> #REF! | G22: =ROUND($K22*0.0198,0) -> #REF! | H22: =ROUND($K22*0.0364,0) -> #REF! | I22: =ROUND($K22*0.0139,0) -> #REF! | J22: =ROUND($E22*0.5,1) -> #REF! | K22: =ROUND(E22*D22,0) -> #REF! | L22: =IFERROR(($F22+$H22)/$K22,"") | M22: =IFERROR($G22/$K22,"")
A23: HR | B23: 45870 | C23: Aug 2025 | D23: 21 | E23: =COUNTIFS(#REF!,$A23,#REF!,"<="&EOMONTH($B23,0))-COUNTIFS(#REF!,$A23,#REF!,"<="&EOMONTH($B23,0),#REF!,"Terminated",#REF!,"<"&$B23) -> #REF! | F23: =MAX(0,$K23-$G23-$H23-$I23) -> #REF! | G23: =ROUND($K23*0.0331,0) -> #REF! | H23: =ROUND($K23*0.046,0) -> #REF! | I23: =ROUND($K23*0.0244,0) -> #REF! | J23: =ROUND($E23*2.18,1) -> #REF! | K23: =ROUND(E23*D23,0) -> #REF! | L23: =IFERROR(($F23+$H23)/$K23,"") | M23: =IFERROR($G23/$K23,"")
A24: HR | B24: 45901 | C24: Sep 2025 | D24: 22 | E24: =COUNTIFS(#REF!,$A24,#REF!,"<="&EOMONTH($B24,0))-COUNTIFS(#REF!,$A24,#REF!,"<="&EOMONTH($B24,0),#REF!,"Terminated",#REF!,"<"&$B24) -> #REF! | F24: =MAX(0,$K24-$G24-$H24-$I24) -> #REF! | G24: =ROUND($K24*0.02,0) -> #REF! | H24: =ROUND($K24*0.0321,0) -> #REF! | I24: =ROUND($K24*0.0248,0) -> #REF! | J24: =ROUND($E24*3.53,1) -> #REF! | K24: =ROUND(E24*D24,0) -> #REF! | L24: =IFERROR(($F24+$H24)/$K24,"") | M24: =IFERROR($G24/$K24,"")
A25: HR | B25: 45931 | C25: Oct 2025 | D25: 22 | E25: =COUNTIFS(#REF!,$A25,#REF!,"<="&EOMONTH($B25,0))-COUNTIFS(#REF!,$A25,#REF!,"<="&EOMONTH($B25,0),#REF!,"Terminated",#REF!,"<"&$B25) -> #REF! | F25: =MAX(0,$K25-$G25-$H25-$I25) -> #REF! | G25: =ROUND($K25*0.008,0) -> #REF! | H25: =ROUND($K25*0.0381,0) -> #REF! | I25: =ROUND($K25*0.013,0) -> #REF! | J25: =ROUND($E25*2.19,1) -> #REF! | K25: =ROUND(E25*D25,0) -> #REF! | L25: =IFERROR(($F25+$H25)/$K25,"") | M25: =IFERROR($G25/$K25,"")
A26: HR | B26: 45962 | C26: Nov 2025 | D26: 21 | E26: =COUNTIFS(#REF!,$A26,#REF!,"<="&EOMONTH($B26,0))-COUNTIFS(#REF!,$A26,#REF!,"<="&EOMONTH($B26,0),#REF!,"Terminated",#REF!,"<"&$B26) -> #REF! | F26: =MAX(0,$K26-$G26-$H26-$I26) -> #REF! | G26: =ROUND($K26*0.0266,0) -> #REF! | H26: =ROUND($K26*0.026,0) -> #REF! | I26: =ROUND($K26*0.0155,0) -> #REF! | J26: =ROUND($E26*4.62,1) -> #REF! | K26: =ROUND(E26*D26,0) -> #REF! | L26: =IFERROR(($F26+$H26)/$K26,"") | M26: =IFERROR($G26/$K26,"")
A27: HR | B27: 45992 | C27: Dec 2025 | D27: 23 | E27: =COUNTIFS(#REF!,$A27,#REF!,"<="&EOMONTH($B27,0))-COUNTIFS(#REF!,$A27,#REF!,"<="&EOMONTH($B27,0),#REF!,"Terminated",#REF!,"<"&$B27) -> #REF! | F27: =MAX(0,$K27-$G27-$H27-$I27) -> #REF! | G27: =ROUND($K27*0.008,0) -> #REF! | H27: =ROUND($K27*0.0214,0) -> #REF! | I27: =ROUND($K27*0.0228,0) -> #REF! | J27: =ROUND($E27*3.51,1) -> #REF! | K27: =ROUND(E27*D27,0) -> #REF! | L27: =IFERROR(($F27+$H27)/$K27,"") | M27: =IFERROR($G27/$K27,"")
A28: Sales | B28: 45658 | C28: Jan 2025 | D28: 22 | E28: =COUNTIFS(#REF!,$A28,#REF!,"<="&EOMONTH($B28,0))-COUNTIFS(#REF!,$A28,#REF!,"<="&EOMONTH($B28,0),#REF!,"Terminated",#REF!,"<"&$B28) -> #REF! | F28: =COUNTIFS(#REF!,$A28,#REF!,TEXT($B28,"yyyy-mm"),#REF!,"Present") -> #REF! | G28: =COUNTIFS(#REF!,$A28,#REF!,TEXT($B28,"yyyy-mm"),#REF!,"Absent") -> #REF! | H28: =COUNTIFS(#REF!,$A28,#REF!,TEXT($B28,"yyyy-mm"),#REF!,"Late") -> #REF! | I28: =COUNTIFS(#REF!,$A28,#REF!,TEXT($B28,"yyyy-mm"),#REF!,"Leave") -> #REF! | J28: =SUMIFS(#REF!,#REF!,$A28,#REF!,TEXT($B28,"yyyy-mm")) -> #REF! | K28: =COUNTIFS(#REF!,$A28,#REF!,TEXT($B28,"yyyy-mm")) -> #REF! | L28: =IFERROR(($F28+$H28)/$K28,"") | M28: =IFERROR($G28/$K28,"")
A29: Sales | B29: 45689 | C29: Feb 2025 | D29: 20 | E29: =COUNTIFS(#REF!,$A29,#REF!,"<="&EOMONTH($B29,0))-COUNTIFS(#REF!,$A29,#REF!,"<="&EOMONTH($B29,0),#REF!,"Terminated",#REF!,"<"&$B29) -> #REF! | F29: =COUNTIFS(#REF!,$A29,#REF!,TEXT($B29,"yyyy-mm"),#REF!,"Present") -> #REF! | G29: =COUNTIFS(#REF!,$A29,#REF!,TEXT($B29,"yyyy-mm"),#REF!,"Absent") -> #REF! | H29: =COUNTIFS(#REF!,$A29,#REF!,TEXT($B29,"yyyy-mm"),#REF!,"Late") -> #REF! | I29: =COUNTIFS(#REF!,$A29,#REF!,TEXT($B29,"yyyy-mm"),#REF!,"Leave") -> #REF! | J29: =SUMIFS(#REF!,#REF!,$A29,#REF!,TEXT($B29,"yyyy-mm")) -> #REF! | K29: =COUNTIFS(#REF!,$A29,#REF!,TEXT($B29,"yyyy-mm")) -> #REF! | L29: =IFERROR(($F29+$H29)/$K29,"") | M29: =IFERROR($G29/$K29,"")
A30: Sales | B30: 45717 | C30: Mar 2025 | D30: 22 | E30: =COUNTIFS(#REF!,$A30,#REF!,"<="&EOMONTH($B30,0))-COUNTIFS(#REF!,$A30,#REF!,"<="&EOMONTH($B30,0),#REF!,"Terminated",#REF!,"<"&$B30) -> #REF! | F30: =COUNTIFS(#REF!,$A30,#REF!,TEXT($B30,"yyyy-mm"),#REF!,"Present") -> #REF! | G30: =COUNTIFS(#REF!,$A30,#REF!,TEXT($B30,"yyyy-mm"),#REF!,"Absent") -> #REF! | H30: =COUNTIFS(#REF!,$A30,#REF!,TEXT($B30,"yyyy-mm"),#REF!,"Late") -> #REF! | I30: =COUNTIFS(#REF!,$A30,#REF!,TEXT($B30,"yyyy-mm"),#REF!,"Leave") -> #REF! | J30: =SUMIFS(#REF!,#REF!,$A30,#REF!,TEXT($B30,"yyyy-mm")) -> #REF! | K30: =COUNTIFS(#REF!,$A30,#REF!,TEXT($B30,"yyyy-mm")) -> #REF! | L30: =IFERROR(($F30+$H30)/$K30,"") | M30: =IFERROR($G30/$K30,"")
A31: Sales | B31: 45748 | C31: Apr 2025 | D31: 22 | E31: =COUNTIFS(#REF!,$A31,#REF!,"<="&EOMONTH($B31,0))-COUNTIFS(#REF!,$A31,#REF!,"<="&EOMONTH($B31,0),#REF!,"Terminated",#REF!,"<"&$B31) -> #REF! | F31: =MAX(0,$K31-$G31-$H31-$I31) -> #REF! | G31: =ROUND($K31*0.0145,0) -> #REF! | H31: =ROUND($K31*0.06,0) -> #REF! | I31: =ROUND($K31*0.0119,0) -> #REF! | J31: =ROUND($E31*3.88,1) -> #REF! | K31: =ROUND(E31*D31,0) -> #REF! | L31: =IFERROR(($F31+$H31)/$K31,"") | M31: =IFERROR($G31/$K31,"")
A32: Sales | B32: 45778 | C32: May 2025 | D32: 21 | E32: =COUNTIFS(#REF!,$A32,#REF!,"<="&EOMONTH($B32,0))-COUNTIFS(#REF!,$A32,#REF!,"<="&EOMONTH($B32,0),#REF!,"Terminated",#REF!,"<"&$B32) -> #REF! | F32: =MAX(0,$K32-$G32-$H32-$I32) -> #REF! | G32: =ROUND($K32*0.0198,0) -> #REF! | H32: =ROUND($K32*0.0199,0) -> #REF! | I32: =ROUND($K32*0.005,0) -> #REF! | J32: =ROUND($E32*4.6,1) -> #REF! | K32: =ROUND(E32*D32,0) -> #REF! | L32: =IFERROR(($F32+$H32)/$K32,"") | M32: =IFERROR($G32/$K32,"")
A33: Sales | B33: 45809 | C33: Jun 2025 | D33: 22 | E33: =COUNTIFS(#REF!,$A33,#REF!,"<="&EOMONTH($B33,0))-COUNTIFS(#REF!,$A33,#REF!,"<="&EOMONTH($B33,0),#REF!,"Terminated",#REF!,"<"&$B33) -> #REF! | F33: =MAX(0,$K33-$G33-$H33-$I33) -> #REF! | G33: =ROUND($K33*0.0208,0) -> #REF! | H33: =ROUND($K33*0.0275,0) -> #REF! | I33: =ROUND($K33*0.024,0) -> #REF! | J33: =ROUND($E33*3.33,1) -> #REF! | K33: =ROUND(E33*D33,0) -> #REF! | L33: =IFERROR(($F33+$H33)/$K33,"") | M33: =IFERROR($G33/$K33,"")
A34: Sales | B34: 45839 | C34: Jul 2025 | D34: 23 | E34: =COUNTIFS(#REF!,$A34,#REF!,"<="&EOMONTH($B34,0))-COUNTIFS(#REF!,$A34,#REF!,"<="&EOMONTH($B34,0),#REF!,"Terminated",#REF!,"<"&$B34) -> #REF! | F34: =MAX(0,$K34-$G34-$H34-$I34) -> #REF! | G34: =ROUND($K34*0.0293,0) -> #REF! | H34: =ROUND($K34*0.0335,0) -> #REF! | I34: =ROUND($K34*0.009,0) -> #REF! | J34: =ROUND($E34*4.13,1) -> #REF! | K34: =ROUND(E34*D34,0) -> #REF! | L34: =IFERROR(($F34+$H34)/$K34,"") | M34: =IFERROR($G34/$K34,"")
A35: Sales | B35: 45870 | C35: Aug 2025 | D35: 21 | E35: =COUNTIFS(#REF!,$A35,#REF!,"<="&EOMONTH($B35,0))-COUNTIFS(#REF!,$A35,#REF!,"<="&EOMONTH($B35,0),#REF!,"Terminated",#REF!,"<"&$B35) -> #REF! | F35: =MAX(0,$K35-$G35-$H35-$I35) -> #REF! | G35: =ROUND($K35*0.0176,0) -> #REF! | H35: =ROUND($K35*0.0455,0) -> #REF! | I35: =ROUND($K35*0.0179,0) -> #REF! | J35: =ROUND($E35*3.56,1) -> #REF! | K35: =ROUND(E35*D35,0) -> #REF! | L35: =IFERROR(($F35+$H35)/$K35,"") | M35: =IFERROR($G35/$K35,"")
A36: Sales | B36: 45901 | C36: Sep 2025 | D36: 22 | E36: =COUNTIFS(#REF!,$A36,#REF!,"<="&EOMONTH($B36,0))-COUNTIFS(#REF!,$A36,#REF!,"<="&EOMONTH($B36,0),#REF!,"Terminated",#REF!,"<"&$B36) -> #REF! | F36: =MAX(0,$K36-$G36-$H36-$I36) -> #REF! | G36: =ROUND($K36*0.0179,0) -> #REF! | H36: =ROUND($K36*0.0325,0) -> #REF! | I36: =ROUND($K36*0.0234,0) -> #REF! | J36: =ROUND($E36*2.3,1) -> #REF! | K36: =ROUND(E36*D36,0) -> #REF! | L36: =IFERROR(($F36+$H36)/$K36,"") | M36: =IFERROR($G36/$K36,"")
A37: Sales | B37: 45931 | C37: Oct 2025 | D37: 22 | E37: =COUNTIFS(#REF!,$A37,#REF!,"<="&EOMONTH($B37,0))-COUNTIFS(#REF!,$A37,#REF!,"<="&EOMONTH($B37,0),#REF!,"Terminated",#REF!,"<"&$B37) -> #REF! | F37: =MAX(0,$K37-$G37-$H37-$I37) -> #REF! | G37: =ROUND($K37*0.0297,0) -> #REF! | H37: =ROUND($K37*0.0212,0) -> #REF! | I37: =ROUND($K37*0.0199,0) -> #REF! | J37: =ROUND($E37*2.63,1) -> #REF! | K37: =ROUND(E37*D37,0) -> #REF! | L37: =IFERROR(($F37+$H37)/$K37,"") | M37: =IFERROR($G37/$K37,"")
A38: Sales | B38: 45962 | C38: Nov 2025 | D38: 21 | E38: =COUNTIFS(#REF!,$A38,#REF!,"<="&EOMONTH($B38,0))-COUNTIFS(#REF!,$A38,#REF!,"<="&EOMONTH($B38,0),#REF!,"Terminated",#REF!,"<"&$B38) -> #REF! | F38: =MAX(0,$K38-$G38-$H38-$I38) -> #REF! | G38: =ROUND($K38*0.0114,0) -> #REF! | H38: =ROUND($K38*0.0429,0) -> #REF! | I38: =ROUND($K38*0.0169,0) -> #REF! | J38: =ROUND($E38*3.41,1) -> #REF! | K38: =ROUND(E38*D38,0) -> #REF! | L38: =IFERROR(($F38+$H38)/$K38,"") | M38: =IFERROR($G38/$K38,"")
A39: Sales | B39: 45992 | C39: Dec 2025 | D39: 23 | E39: =COUNTIFS(#REF!,$A39,#REF!,"<="&EOMONTH($B39,0))-COUNTIFS(#REF!,$A39,#REF!,"<="&EOMONTH($B39,0),#REF!,"Terminated",#REF!,"<"&$B39) -> #REF! | F39: =MAX(0,$K39-$G39-$H39-$I39) -> #REF! | G39: =ROUND($K39*0.021,0) -> #REF! | H39: =ROUND($K39*0.022,0) -> #REF! | I39: =ROUND($K39*0.0268,0) -> #REF! | J39: =ROUND($E39*3.06,1) -> #REF! | K39: =ROUND(E39*D39,0) -> #REF! | L39: =IFERROR(($F39+$H39)/$K39,"") | M39: =IFERROR($G39/$K39,"")
A40: Finance | B40: 45658 | C40: Jan 2025 | D40: 22 | E40: =COUNTIFS(#REF!,$A40,#REF!,"<="&EOMONTH($B40,0))-COUNTIFS(#REF!,$A40,#REF!,"<="&EOMONTH($B40,0),#REF!,"Terminated",#REF!,"<"&$B40) -> #REF! | F40: =COUNTIFS(#REF!,$A40,#REF!,TEXT($B40,"yyyy-mm"),#REF!,"Present") -> #REF! | G40: =COUNTIFS(#REF!,$A40,#REF!,TEXT($B40,"yyyy-mm"),#REF!,"Absent") -> #REF! | H40: =COUNTIFS(#REF!,$A40,#REF!,TEXT($B40,"yyyy-mm"),#REF!,"Late") -> #REF! | I40: =COUNTIFS(#REF!,$A40,#REF!,TEXT($B40,"yyyy-mm"),#REF!,"Leave") -> #REF! | J40: =SUMIFS(#REF!,#REF!,$A40,#REF!,TEXT($B40,"yyyy-mm")) -> #REF! | K40: =COUNTIFS(#REF!,$A40,#REF!,TEXT($B40,"yyyy-mm")) -> #REF! | L40: =IFERROR(($F40+$H40)/$K40,"") | M40: =IFERROR($G40/$K40,"")
...

Sheet Advanced Analytics
A1: Advanced Workforce Analytics (helper / supporting metrics)
A2: Supporting metrics per the Deloitte blueprint's Advanced KPI section (Flight Risk, Burnout Risk, Compa Ratio, Quality of Hire, Succession, Internal Mobility). Hidden calculation sheet - not a dashboard in its own right.
A3: EmpID | B3: Name | C3: Department | D3: JobTitle | E3: Tenure Years | F3: BaseSalary | G3: Dept-Title Avg Salary | H3: Compa Ratio | I3: Latest Performance | J3: Q1 Performance | K3: Performance Trend | L3: Avg Competency Gap | M3: OT Hours (Q1) | N3: Leave Days (YTD) | O3: Flight Risk Score | P3: Flight Risk Band | Q3: Burnout Risk Score | R3: Burnout Risk Band | S3: Recent Hire (<18mo) | T3: Quality of Hire | U3: Succession Readiness | V3: Internal Mobility
A4: EMP001 | B4: Ahmed Hassan | C4: Engineering | D4: Senior Developer | E4: =IFERROR(VLOOKUP($A4,#REF!,22,FALSE),"") | F4: =IFERROR(VLOOKUP($A4,#REF!,16,FALSE),"") | G4: =AVERAGEIFS(#REF!,#REF!,$C4,#REF!,$D4,#REF!,1) -> #REF! | H4: =IFERROR($F4/$G4,"") | I4: =IFERROR(AVERAGEIFS(#REF!,#REF!,$A4),"") | J4: =IFERROR(AVERAGEIFS(#REF!,#REF!,$A4,#REF!,"Q1"),"") | K4: =IF(OR($I4="",$J4=""),"N/A",IF($I4-$J4>0.3,"Improving",IF($J4-$I4>0.3,"Declining","Stable"))) -> N/A | L4: =IFERROR(AVERAGEIFS(#REF!,#REF!,$A4),"") | M4: =SUMIFS(#REF!,#REF!,$A4) -> #REF! | N4: =SUMIFS(#REF!,#REF!,$A4,#REF!,"Approved") -> #REF! | O4: =ROUND(MIN(100,MAX(0, IF($H4="",50,(1.05-$H4)*140) + IF(AND($E4>=1,$E4<=3),12,0) + IF($K4="Declining",18,IF($K4="Stable",5,0)) + IF($L4="",0,MIN(15,$L4*10)) )),0) -> 50 | P4: =IF(O4>=33,"High",IF(O4>=22,"Medium","Low")) -> High | Q4: =ROUND(MIN(100,MAX(0, $M4*2.2 + IF($N4<3,15,0) + IF($K4="Declining",10,0) )),0) -> #REF! | R4: =IF(Q4>=33,"High",IF(Q4>=18,"Medium","Low")) -> #REF! | S4: =IF($E4<1.5,"Yes","No") -> No | T4: =IF($S4="Yes",IF($I4="","",$I4),"N/A") -> N/A | U4: =IF(AND($E4>=2,$I4<>"",$I4>=4.3),"Ready Now",IF(AND($E4>=1,$I4<>"",$I4>=3.7),"Ready 1-2 Years","Developing")) -> Developing | V4: No Change
A5: EMP002 | B5: Sara Mohamed | C5: HR | D5: HR Manager | E5: =IFERROR(VLOOKUP($A5,#REF!,22,FALSE),"") | F5: =IFERROR(VLOOKUP($A5,#REF!,16,FALSE),"") | G5: =AVERAGEIFS(#REF!,#REF!,$C5,#REF!,$D5,#REF!,1) -> #REF! | H5: =IFERROR($F5/$G5,"") | I5: =IFERROR(AVERAGEIFS(#REF!,#REF!,$A5),"") | J5: =IFERROR(AVERAGEIFS(#REF!,#REF!,$A5,#REF!,"Q1"),"") | K5: =IF(OR($I5="",$J5=""),"N/A",IF($I5-$J5>0.3,"Improving",IF($J5-$I5>0.3,"Declining","Stable"))) -> N/A | L5: =IFERROR(AVERAGEIFS(#REF!,#REF!,$A5),"") | M5: =SUMIFS(#REF!,#REF!,$A5) -> #REF! | N5: =SUMIFS(#REF!,#REF!,$A5,#REF!,"Approved") -> #REF! | O5: =ROUND(MIN(100,MAX(0, IF($H5="",50,(1.05-$H5)*140) + IF(AND($E5>=1,$E5<=3),12,0) + IF($K5="Declining",18,IF($K5="Stable",5,0)) + IF($L5="",0,MIN(15,$L5*10)) )),0) -> 50 | P5: =IF(O5>=33,"High",IF(O5>=22,"Medium","Low")) -> High | Q5: =ROUND(MIN(100,MAX(0, $M5*2.2 + IF($N5<3,15,0) + IF($K5="Declining",10,0) )),0) -> #REF! | R5: =IF(Q5>=33,"High",IF(Q5>=18,"Medium","Low")) -> #REF! | S5: =IF($E5<1.5,"Yes","No") -> No | T5: =IF($S5="Yes",IF($I5="","",$I5),"N/A") -> N/A | U5: =IF(AND($E5>=2,$I5<>"",$I5>=4.3),"Ready Now",IF(AND($E5>=1,$I5<>"",$I5>=3.7),"Ready 1-2 Years","Developing")) -> Developing | V5: No Change
A6: EMP003 | B6: Omar Ali | C6: Sales | D6: Sales Executive | E6: =IFERROR(VLOOKUP($A6,#REF!,22,FALSE),"") | F6: =IFERROR(VLOOKUP($A6,#REF!,16,FALSE),"") | G6: =AVERAGEIFS(#REF!,#REF!,$C6,#REF!,$D6,#REF!,1) -> #REF! | H6: =IFERROR($F6/$G6,"") | I6: =IFERROR(AVERAGEIFS(#REF!,#REF!,$A6),"") | J6: =IFERROR(AVERAGEIFS(#REF!,#REF!,$A6,#REF!,"Q1"),"") | K6: =IF(OR($I6="",$J6=""),"N/A",IF($I6-$J6>0.3,"Improving",IF($J6-$I6>0.3,"Declining","Stable"))) -> N/A | L6: =IFERROR(AVERAGEIFS(#REF!,#REF!,$A6),"") | M6: =SUMIFS(#REF!,#REF!,$A6) -> #REF! | N6: =SUMIFS(#REF!,#REF!,$A6,#REF!,"Approved") -> #REF! | O6: =ROUND(MIN(100,MAX(0, IF($H6="",50,(1.05-$H6)*140) + IF(AND($E6>=1,$E6<=3),12,0) + IF($K6="Declining",18,IF($K6="Stable",5,0)) + IF($L6="",0,MIN(15,$L6*10)) )),0) -> 50 | P6: =IF(O6>=33,"High",IF(O6>=22,"Medium","Low")) -> High | Q6: =ROUND(MIN(100,MAX(0, $M6*2.2 + IF($N6<3,15,0) + IF($K6="Declining",10,0) )),0) -> #REF! | R6: =IF(Q6>=33,"High",IF(Q6>=18,"Medium","Low")) -> #REF! | S6: =IF($E6<1.5,"Yes","No") -> No | T6: =IF($S6="Yes",IF($I6="","",$I6),"N/A") -> N/A | U6: =IF(AND($E6>=2,$I6<>"",$I6>=4.3),"Ready Now",IF(AND($E6>=1,$I6<>"",$I6>=3.7),"Ready 1-2 Years","Developing")) -> Developing | V6: Promoted/Moved
