Workbook

Sheet Assumptions
B1: Job levels distribution Models
B3: Job family | C3: Example of jobs | D3: Pyramids Model | E3: Inverted Pyramids Model
B4: Leadership | C4: Head of Dep | D4: 0.2 | E4: 0.5
B5: Supervisors | C5: Supervisor | D5: 0.3 | E5: 0.3
B6: Executive | C6: Senior | D6: 0.5 | E6: 0.2
C7: Specialist/ Generalist
B9: Example
B10: HR& Admin. Dep.
B11: Total Workload (Hours) | C11: =Recruitment!L56 -> 8162.6667
B12: Selected model for organizational level | C12: Pyramids Model
B13: Distribution levels | C13: =IF($C$12="Pyramids Model",0.2,IF($C$12="Inverted Pyramids Model",0.5,0)) -> 0.2 | D13: =IF($C$12="Pyramids Model",30%,IF($C$12="Inverted Pyramids Model",30%,0)) -> 0.3 | E13: =IF($C$12="Pyramids Model",50%,IF($C$12="Inverted Pyramids Model",20%,0)) -> 0.5
B14: Job Titles | C14: Head of HR Dep. | D14: Supervisor | E14: Specialist/Seniors
B15: أعداد الموظفين المطلوب للإدارة: | C15: =(C13*$C$11)/$C$29 -> 1.162773 | D15: =(D13*$C$11)/$C$29 -> 1.7441595 | E15: =(E13*$C$11)/$C$29 -> 2.9069326
B16: Assumptions
B17: الافتراضات المتبعة لتحديد عبء العمل للموظفين
B19: Total days/year | C19: 365
B20: Weekend days | C20: 104
B21: Official holidays | C21: 16
B22: Annual vacations | C22: 22
B23: Average sick days | C23: 10
B24: Average meeting days lost | C24: 10
B25: Actual no. of working days/year | C25: 208
B26: Daily working hours | C26: 9
B27: Total annual working hours | C27: =C25*C26 -> 1872
B28: Productivity ratio | C28: 0.75
B29: Actual annualworking hours | C29: =C27*C28 -> 1404
B31: Notes
B32: Numbers from 0.4 & above should be approximated

Sheet Current Headcount
B4: إجمالي أعداد الموظفين الحالي | D4: =COUNTA(F7:F20) -> 0
B6: القطاع | C6: الإدارة | D6: القسم / الوحدة | E6: الرقم الوظيفي | F6: اسم الموظف | G6: المسمى الوظيفي الحالي

Sheet   تقرير عبء العمل
F7: عدد الموظفين الحاليين | I7: عدد الموظفين بعد تقييم عبء العمل
B8: القطاع | C8: الإدارة | D8: القسم / الوحدة | E8: إجمالي عبئ العمل (الساعات) | F8: إجمالي | G8: موظف | H8: مدير | I8: إجمالي | J8: موظف | K8: مدير | L8: الاختلاف بالأعداد
F9: =SUM(H9+G9) -> 0 | L9: =F9-I9 -> 0
F10: =SUM(H10+G10) -> 0 | L10: =F10-I10 -> 0
F11: =SUM(H11+G11) -> 0 | L11: =F11-I11 -> 0
F12: =SUM(H12+G12) -> 0 | L12: =F12-I12 -> 0
F13: =SUM(H13+G13) -> 0 | L13: =F13-I13 -> 0
F14: =SUM(H14+G14) -> 0 | L14: =F14-I14 -> 0
F15: =SUM(F9:F14) -> 0 | I15: =SUM(I9:I14) -> 0

Sheet Recruitment
C4: Work load Analysis- HR& Admin. Dep.
C7: Task | D7: KPI | E7: Job Title | F7: Type of task Essential/ Exceptional | G7: Frequency (Daily, weekly, monthly,quarterly,annually) | H7: Frequency in number/year | I7: Repetition | J7: Duratio of time for each frequency (minutes) | K7: Duratio of time for each frequency (hours) | L7: Total time (work load) | M7: Work load% | N7: توزيع عبئ العمل للموظف (الوقت المستغرق لكل تردد بالساعات يتم تقسيمة بين الموظف والمدير بحسب مايراه المدير ) | P7: عبئ العمل للموظف | Q7: توزيع عبئ العمل للمدير (الوقت المستغرق لكل تردد بالساعات يتم تقسيمة بين الموظف والمدير بحسب مايراه المدير ) | S7: عبئ العمل للمدير
C8: Plan Dep. Goals, objectives, ensure the presence of frameworks and metrics, follow up with team members to determine the level of achievement of OKR, sprints and goals. | D8: % achieved objectives targets | E8: Head of HR | F8: Essential | G8: Weekly | H8: =IF(G8="weekly",209,IF(G8="Daily",48,IF(G8="monthly",12,IF(G8="quarterly",4,IF(G8="annually",1,0))))) -> 209 | I8: 5 | J8: 60 | K8: =J8/60 -> 1 | L8: =K8*I8*H8 -> 1045 | M8: =L8/$L$56 -> 0.12802189
C9: Develop plans, programs, procedures and Flowcharts for HR&Admin. Dep., follow up on the implementation process & ensure continuous improvement | D9: No. of policies/procedures, and programs developed as planned | E9: Head of HR | F9: Essential | G9: Quarterly | H9: =IF(G9="weekly",209,IF(G9="Daily",48,IF(G9="monthly",12,IF(G9="quarterly",4,IF(G9="annually",1,0))))) -> 4 | I9: 4 | J9: 1000 | K9: =J9/60 -> 16.666667 | L9: =K9*I9*H9 -> 266.66667 | M9: =L9/$L$56 -> 0.032669062
C10: Supervising workforce analysis processes, approve the recruitment plan and supervise its implementation, follow up hiring request and ensure compliance with manpower budget | D10: Recruitment compliance with manpower plan& budget Updated Org. Chart | E10: Head of HR | F10: Essential | G10: Monthly | H10: =IF(G10="weekly",209,IF(G10="Daily",48,IF(G10="monthly",12,IF(G10="quarterly",4,IF(G10="annually",1,0))))) -> 12 | I10: 3 | J10: 60 | K10: =J10/60 -> 1 | L10: =K10*I10*H10 -> 36 | M10: =L10/$L$56 -> 0.0044103234
C11: Submit progress report to top management with HR progress and challenges | D11: Employees Skill Index | E11: Head of HR | F11: Essential | G11: Weekly | H11: =IF(G11="weekly",209,IF(G11="Daily",48,IF(G11="monthly",12,IF(G11="quarterly",4,IF(G11="annually",1,0))))) -> 209 | I11: 1 | J11: 120 | K11: =J11/60 -> 2 | L11: =K11*I11*H11 -> 418 | M11: =L11/$L$56 -> 0.051208755
C12: Develop human resources budgets, including compensations and benefits plan & supervising its implementation | D12: Approved HR budget& Plans % implementation of annual plan | E12: Head of HR | F12: Essential | G12: Annually | H12: =IF(G12="weekly",209,IF(G12="Daily",48,IF(G12="monthly",12,IF(G12="quarterly",4,IF(G12="annually",1,0))))) -> 1 | I12: 5 | J12: 500 | K12: =J12/60 -> 8.3333333 | L12: =K12*I12*H12 -> 41.666667 | M12: =L12/$L$56 -> 0.005104541
C13: Collaborate with all deps. to conduct job evaluations, grading and salary structture | D13: Completed job evaluations, grading and salary structture | E13: Head of HR | F13: Essential | G13: Quarterly | H13: =IF(G13="weekly",209,IF(G13="Daily",48,IF(G13="monthly",12,IF(G13="quarterly",4,IF(G13="annually",1,0))))) -> 4 | I13: 4 | J13: 1000 | K13: =J13/60 -> 16.666667 | L13: =K13*I13*H13 -> 266.66667 | M13: =L13/$L$56 -> 0.032669062
C15: Follow up Performance evaluation reports& plan, training and development plans, and ensure availability of necessary resources to carry out the plans | D15: Timely evaluation of plans and reports submitted to Head of Dep. | E15: HR Supervisor | F15: Essential | G15: Quarterly | H15: =IF(G15="weekly",209,IF(G15="Daily",48,IF(G15="monthly",12,IF(G15="quarterly",4,IF(G15="annually",1,0))))) -> 4 | I15: 4 | J15: 1000 | K15: =J15/60 -> 16.666667 | L15: =K15*I15*H15 -> 266.66667 | M15: =L15/$L$56 -> 0.032669062
C16: Investigate employees complaints, comments, requests and inquiries in a porfessional manner, coordinate with various stakeholders to gain insights, and effectively raise problems, if they exist, to the department manager | D16: No. of grievences investigated on time | E16: HR Supervisor | F16: Essential | G16: Monthly | H16: =IF(G16="weekly",209,IF(G16="Daily",48,IF(G16="monthly",12,IF(G16="quarterly",4,IF(G16="annually",1,0))))) -> 12 | I16: 4 | J16: 60 | K16: =J16/60 -> 1 | L16: =K16*I16*H16 -> 48 | M16: =L16/$L$56 -> 0.0058804312
C17: Supervising the analysis of various data and information , such as satisfaction survey resultts, performance evaluation feedback and prepare action plan based on results. | D17: Action plan developed and implemented on time | E17: HR Supervisor | F17: Essential | G17: Annually | H17: =IF(G17="weekly",209,IF(G17="Daily",48,IF(G17="monthly",12,IF(G17="quarterly",4,IF(G17="annually",1,0))))) -> 1 | I17: 2 | J17: 500 | K17: =J17/60 -> 8.3333333 | L17: =K17*I17*H17 -> 16.666667 | M17: =L17/$L$56 -> 0.0020418164
C18: Supervising the updating of information related to employees on Netsuite such as leaves, salaries increment, relocation, performance evaluaiton, training, promotion, etc. | D18: % accuracy of HR& Netsuite records | E18: HR Supervisor | F18: Essential | G18: Weekly | H18: =IF(G18="weekly",209,IF(G18="Daily",48,IF(G18="monthly",12,IF(G18="quarterly",4,IF(G18="annually",1,0))))) -> 209 | I18: 1 | J18: 400 | K18: =J18/60 -> 6.6666667 | L18: =K18*I18*H18 -> 1393.3333 | M18: =L18/$L$56 -> 0.17069585
C19: Provide presentation to managers and employees on Objective setting and performance management | D19: No. of presentations delivered as planned | E19: HR Supervisor | F19: Essential | G19: Annually | H19: =IF(G19="weekly",209,IF(G19="Daily",48,IF(G19="monthly",12,IF(G19="quarterly",4,IF(G19="annually",1,0))))) -> 1 | I19: 7 | J19: 60 | K19: =J19/60 -> 1 | L19: =K19*I19*H19 -> 7 | M19: =L19/$L$56 -> 0.00085756289
C20: Preparing specialized documents and reports related to job succession planning, liase with department heads to develop assessment and trainning plans for sucessors | D20: No. of analysis conducted on time with action plan. | E20: HR Supervisor | F20: Essential | G20: Annually | H20: =IF(G20="weekly",209,IF(G20="Daily",48,IF(G20="monthly",12,IF(G20="quarterly",4,IF(G20="annually",1,0))))) -> 1 | I20: 2 | J20: 400 | K20: =J20/60 -> 6.6666667 | L20: =K20*I20*H20 -> 13.333333 | M20: =L20/$L$56 -> 0.0016334531
C22: Review department's organizational structures to ensure completeness &compatibility with the general organizational chart and new hires udates | D22: Org. structures reviewed and updated | E22: TA Specialist | F22: Essential | G22: Weekly | H22: =IF(G22="weekly",209,IF(G22="Daily",48,IF(G22="monthly",12,IF(G22="quarterly",4,IF(G22="annually",1,0))))) -> 209 | I22: 1 | J22: 60 | K22: =J22/60 -> 1 | L22: =K22*I22*H22 -> 209 | M22: =L22/$L$56 -> 0.025604378 | O22: =N22/J22 -> 0 | P22: =O22*L22 -> 0 | R22: =Q22/J22 -> 0 | S22: =R22*L22 -> 0
C23: Prepare & review manpower plan,set recruitment plan with no. of jobs, no. of hires and due date | D23: Updated manpower plan | E23: TA Specialist | F23: Essential | G23: Monthly | H23: =IF(G23="weekly",209,IF(G23="Daily",48,IF(G23="monthly",12,IF(G23="quarterly",4,IF(G23="annually",1,0))))) -> 12 | I23: 3 | J23: 30 | K23: =J23/60 -> 0.5 | L23: =K23*I23*H23 -> 18 | M23: =L23/$L$56 -> 0.0022051617 | O23: =N23/J23 -> 0 | P23: =O23*L23 -> 0 | R23: =Q23/J23 -> 0 | S23: =R23*L23 -> 0
C24: Prepare Job offers, Contracts, contract renewals & follow up on signatures | D24: No. of job offers/contracts prepared on time | E24: TA Specialist | F24: Essential | G24: Weekly | H24: =IF(G24="weekly",209,IF(G24="Daily",48,IF(G24="monthly",12,IF(G24="quarterly",4,IF(G24="annually",1,0))))) -> 209 | I24: 2 | J24: 30 | K24: =J24/60 -> 0.5 | L24: =K24*I24*H24 -> 209 | M24: =L24/$L$56 -> 0.025604378
C25: إUsing various effective media to advertise/ headhunt jobs, and prepare a database of candidates | D25: No. of candidates appled for a job | E25: TA Specialist | F25: Essential | G25: Daily | H25: =IF(G25="weekly",209,IF(G25="Daily",48,IF(G25="monthly",12,IF(G25="quarterly",4,IF(G25="annually",1,0))))) -> 48 | I25: 1 | J25: 250 | K25: =J25/60 -> 4.1666667 | L25: =K25*I25*H25 -> 200 | M25: =L25/$L$56 -> 0.024501797 | N25: =M25/$L$56 -> 3.0016902e-06 | O25: =N25/$L$56 -> 3.6773402e-10 | P25: =O25/$L$56 -> 4.5050721e-14 | Q25: =P25/$L$56 -> 5.5191181e-18 | R25: =Q25/$L$56 -> 6.7614155e-22 | S25: =R25/$L$56 -> 8.2833414e-26
C26: Filter CVs, and updating database of candidates | D26: Number of CVs filtred for each position | E26: TA Specialist | F26: Essential | G26: Daily | H26: =IF(G26="weekly",209,IF(G26="Daily",48,IF(G26="monthly",12,IF(G26="quarterly",4,IF(G26="annually",1,0))))) -> 48 | I26: 3 | J26: 60 | K26: =J26/60 -> 1 | L26: =K26*I26*H26 -> 144 | M26: =L26/$L$56 -> 0.017641294
C27: Scheduling interview for open vacancies | D27: No. of interviews scheduled | E27: TA Specialist | F27: Essential | G27: Daily | H27: =IF(G27="weekly",209,IF(G27="Daily",48,IF(G27="monthly",12,IF(G27="quarterly",4,IF(G27="annually",1,0))))) -> 48 | I27: 1 | J27: 60 | K27: =J27/60 -> 1 | L27: =K27*I27*H27 -> 48 | M27: =L27/$L$56 -> 0.0058804312
C28: Maintain an accurate and updated record of candidate data and recruitment status | D28: Accurate & Updated recruitment metrics | E28: TA Specialist | F28: Essential | G28: Daily | H28: =IF(G28="weekly",209,IF(G28="Daily",48,IF(G28="monthly",12,IF(G28="quarterly",4,IF(G28="annually",1,0))))) -> 48 | I28: 1 | J28: 30 | K28: =J28/60 -> 0.5 | L28: =K28*I28*H28 -> 24 | M28: =L28/$L$56 -> 0.0029402156 | O28: =N28/J28 -> 0 | R28: =Q28/J28 -> 0
C29: Interviewing candidates, and provide recommendations to department managers | D29: No. of candidates interviewed | E29: TA Specialist | F29: Essential | G29: Weekly | H29: =IF(G29="weekly",209,IF(G29="Daily",48,IF(G29="monthly",12,IF(G29="quarterly",4,IF(G29="annually",1,0))))) -> 209 | I29: 3 | J29: 60 | K29: =J29/60 -> 1 | L29: =K29*I29*H29 -> 627 | M29: =L29/$L$56 -> 0.076813133 | O29: =N29/J29 -> 0 | R29: =Q29/J29 -> 0
C30: Prepare, review and keep updated organized Job descriptions and advise managers on best preactices in writing result oriented JD. | D30: Updated JDs | E30: TA Specialist | F30: Essential | G30: Weekly | H30: =IF(G30="weekly",209,IF(G30="Daily",48,IF(G30="monthly",12,IF(G30="quarterly",4,IF(G30="annually",1,0))))) -> 209 | I30: 1 | J30: 60 | K30: =J30/60 -> 1 | L30: =K30*I30*H30 -> 209 | M30: =L30/$L$56 -> 0.025604378
C31: Provide weekly progress report with recommendation and analysis | D31: Weekly updated recruitment metrics | E31: TA Specialist | F31: Essential | G31: Weekly | H31: =IF(G31="weekly",209,IF(G31="Daily",48,IF(G31="monthly",12,IF(G31="quarterly",4,IF(G31="annually",1,0))))) -> 209 | I31: 1 | J31: 60 | K31: =J31/60 -> 1 | L31: =K31*I31*H31 -> 209 | M31: =L31/$L$56 -> 0.025604378
C33: Coordinating& following up with line managers/ dep. heads to set the annual objectives of their departments | D33: Annual objectives set on time | E33: HR Generalist | F33: Essential | G33: Annually | H33: =IF(G33="weekly",209,IF(G33="Daily",48,IF(G33="monthly",12,IF(G33="quarterly",4,IF(G33="annually",1,0))))) -> 1 | I33: 1 | J33: 1000 | K33: =J33/60 -> 16.666667 | L33: =K33*I33*H33 -> 16.666667 | M33: =L33/$L$56 -> 0.0020418164
C34: Coordinating& following up with line managers/ dep. heads to evaluate the performance of their employees. | D34: % of performance evaluation completed on time | E34: HR Generalist | F34: Essential | G34: Quarterly | H34: =IF(G34="weekly",209,IF(G34="Daily",48,IF(G34="monthly",12,IF(G34="quarterly",4,IF(G34="annually",1,0))))) -> 4 | I34: 4 | J34: 1000 | K34: =J34/60 -> 16.666667 | L34: =K34*I34*H34 -> 266.66667 | M34: =L34/$L$56 -> 0.032669062
C35: Conduct gap analysis, develop competencies framework and individual training plan | D35: No. of trainning sessions provided as planned % satisfaction of employees & manager on traininig | E35: HR Generalist | F35: Essential | G35: Quarterly | H35: =IF(G35="weekly",209,IF(G35="Daily",48,IF(G35="monthly",12,IF(G35="quarterly",4,IF(G35="annually",1,0))))) -> 4 | I35: 4 | J35: 1000 | K35: =J35/60 -> 16.666667 | L35: =K35*I35*H35 -> 266.66667 | M35: =L35/$L$56 -> 0.032669062
C36: Prepare annual reports with training metrics such as Training completion rate,Assessment pass rate,Employee feedback,Post-training performance,Cost per employee,Operational efficiency, Number enrolled and Return on investment | D36: No. of reports provided with recommendation | E36: HR Generalist | F36: Essential | G36: Quarterly | H36: =IF(G36="weekly",209,IF(G36="Daily",48,IF(G36="monthly",12,IF(G36="quarterly",4,IF(G36="annually",1,0))))) -> 4 | I36: 2 | J36: 1000 | K36: =J36/60 -> 16.666667 | L36: =K36*I36*H36 -> 133.33333 | M36: =L36/$L$56 -> 0.016334531
C37: Liase with training providers,assess training objectives, assessment methodology and the completeness & suitability of training binders and topics, collaborate with employees & direct managers to evaluate the training effectivness | D37: % training proposals assessed No. of trainning offers received database built with prefered suppliers | E37: HR Generalist | F37: Essential | G37: Quarterly | H37: =IF(G37="weekly",209,IF(G37="Daily",48,IF(G37="monthly",12,IF(G37="quarterly",4,IF(G37="annually",1,0))))) -> 4 | I37: 4 | J37: 1000 | K37: =J37/60 -> 16.666667 | L37: =K37*I37*H37 -> 266.66667 | M37: =L37/$L$56 -> 0.032669062
C38: Plan social activities that support a healthy work environment, encourage employees' participation and Interacting with their suggestions | D38: No. of social activities implemented per year | E38: HR Generalist | F38: Essential | G38: Quarterly | H38: =IF(G38="weekly",209,IF(G38="Daily",48,IF(G38="monthly",12,IF(G38="quarterly",4,IF(G38="annually",1,0))))) -> 4 | I38: 1 | J38: 1000 | K38: =J38/60 -> 16.666667 | L38: =K38*I38*H38 -> 66.666667 | M38: =L38/$L$56 -> 0.0081672656
C39: Preparing and publishing wellness newsletter, brochurs, employees handbook related to internal communication and onboarding with staff | D39: No. of brochures, designs, newsletter prepared as planned | E39: HR Generalist | F39: Essential | G39: Monthly | H39: =IF(G39="weekly",209,IF(G39="Daily",48,IF(G39="monthly",12,IF(G39="quarterly",4,IF(G39="annually",1,0))))) -> 12 | I39: 1 | J39: 400 | K39: =J39/60 -> 6.6666667 | L39: =K39*I39*H39 -> 80 | M39: =L39/$L$56 -> 0.0098007187
C41: Manage housekeeping, catering and offices supplies | D41: % Employees satisfaction on housekeeping & office supplies | E41: Senior Admin. | F41: Essential | G41: Daily | H41: =IF(G41="weekly",209,IF(G41="Daily",48,IF(G41="monthly",12,IF(G41="quarterly",4,IF(G41="annually",1,0))))) -> 48 | I41: 1 | J41: 200 | K41: =J41/60 -> 3.3333333 | L41: =K41*I41*H41 -> 160 | M41: =L41/$L$56 -> 0.019601437
C42: Manage corrective maintenance & relocation process | D42: No. of maintenance request resolved % achievment of relocation criteria as planned | E42: Senior Admin. | F42: Essential | G42: Annually | H42: =IF(G42="weekly",209,IF(G42="Daily",48,IF(G42="monthly",12,IF(G42="quarterly",4,IF(G42="annually",1,0))))) -> 1 | I42: 1 | J42: 1000 | K42: =J42/60 -> 16.666667 | L42: =K42*I42*H42 -> 16.666667 | M42: =L42/$L$56 -> 0.0020418164
C43: Manage procurement process, collect purchase requests, provide job offers, and liase with management for approvals | D43: No. of purchase requests handled with feedback | E43: Senior Admin. | F43: Essential | G43: Monthly | H43: =IF(G43="weekly",209,IF(G43="Daily",48,IF(G43="monthly",12,IF(G43="quarterly",4,IF(G43="annually",1,0))))) -> 12 | I43: 4 | J43: 300 | K43: =J43/60 -> 5 | L43: =K43*I43*H43 -> 240 | M43: =L43/$L$56 -> 0.029402156
... C48: Plan and organize leave consumption and follow up scheduling tentative vacation Planning with employees & linemanagers | D48: % of completed tentative vacation plans | E48: Senior Admin. | F48: Essential | G48: Annually | H48: =IF(G48="weekly",209,IF(G48="Daily",48,IF(G48="monthly",12,IF(G48="quarterly",4,IF(G48="annually",1,0))))) -> 1 | I48: 2 | J48: 400 | K48: =J48/60 -> 6.6666667 | L48: =K48*I48*H48 -> 13.333333 | M48: =L48/$L$56 -> 0.0016334531
C49: Meriam
C50: Preparing salary certificate& follow up the signature of all parties | D50: No. of salary certificates issued on time upon reuest | E50: Personeel Spesialist | F50: Exceptional | G50: Weekly | H50: =IF(G50="weekly",209,IF(G50="weekly",48,IF(G50="monthly",12,IF(G50="quarterly",4,IF(G50="annually",1,0))))) -> 209 | I50: 3 | J50: 10 | K50: =J50/60 -> 0.16666667 | L50: =K50*I50*H50 -> 104.5 | M50: =L50/$L$13 -> 0.391875
C51: Preparing Pay slip& follow up the signature of all parties | D51: No. of pay slips issued on time upon reuest | E51: Personeel Spesialist | F51: Exceptional | G51: Monthly | H51: =IF(G51="weekly",209,IF(G51="weekly",48,IF(G51="monthly",12,IF(G51="quarterly",4,IF(G51="annually",1,0))))) -> 12 | I51: 3 | J51: 30 | K51: =J51/60 -> 0.5 | L51: =K51*I51*H51 -> 18 | M51: =L51/$L$13 -> 0.0675
C52: Preparing increment letter & memos | D52: No. of increment letters issued on time upon reuest | E52: Personeel Spesialist | F52: Exceptional | G52: Monthly | H52: =IF(G52="weekly",209,IF(G52="weekly",48,IF(G52="monthly",12,IF(G52="quarterly",4,IF(G52="annually",1,0))))) -> 12 | I52: 3 | J52: 60 | K52: =J52/60 -> 1 | L52: =K52*I52*H52 -> 36 | M52: =L52/$L$13 -> 0.135
C53: Prepare expereince letter including all project details | D53: No. of expereince letters issued on time upon reuest | E53: Personeel Spesialist | F53: Exceptional | G53: Monthly | H53: =IF(G53="weekly",209,IF(G53="weekly",48,IF(G53="monthly",12,IF(G53="quarterly",4,IF(G53="annually",1,0))))) -> 12 | I53: 1 | J53: 90 | K53: =J53/60 -> 1.5 | L53: =K53*I53*H53 -> 18 | M53: =L53/$L$13 -> 0.0675
...

Sheet البيانات
B4: Daily
B5: Weekly | E5: Essential
B6: Monthly | E6: Exceptional
B7: Quarterly
B8: Annually
