Workbook
Name BankLoan: 'تكاليف التأسيس'!$G$36
Name Buildings: 'تكاليف التأسيس'!$F$7
Name Capital: 'تكاليف التأسيس'!$G$38
Name Equipment: 'تكاليف التأسيس'!$F$9
Name Furniture: 'تكاليف التأسيس'!$F$10
Name IntrestRate: 'تكاليف التأسيس'!$H$36
Name LAND: 'تكاليف التأسيس'!$F$6
Name LeaseImprovements: 'تكاليف التأسيس'!$F$8
Name MonthlyPayment: 'تكاليف التأسيس'!$J$36
Name OtherFixedAssets: 'تكاليف التأسيس'!$F$12
Name PaymentsInMonths: 'تكاليف التأسيس'!$I$36
Name s: 'تكاليف التأسيس'!$C$26
Name startup: 'تكاليف التأسيس'!$C$26
Name StartupEpense: 'تكاليف التأسيس'!$G$26
Name StartupExpense: 'تكاليف التأسيس'!$G$26
Name Startups: 'تكاليف التأسيس'!$C$15
Name Vehicles: 'تكاليف التأسيس'!$F$11
Name WorkingCapital: 'تكاليف التأسيس'!$F$28
Name أصول_ثابتة_أخرى: 'تكاليف التأسيس'!$F$12
Name الأثاث: 'تكاليف التأسيس'!$F$10
Name الاراضي: 'تكاليف التأسيس'!$F$6
Name الآلات: 'تكاليف التأسيس'!$F$9
Name الايجار: المصروفات!$B$21
Name الدفعة_الشهرية: 'تكاليف التأسيس'!$J$37
Name السيارات: 'تكاليف التأسيس'!$F$11
Name المباني: 'تكاليف التأسيس'!$F$7
Name ترميم: 'تكاليف التأسيس'!$F$8
Name ضريبة_الدخل: #REF!
Name قرض_بنك: 'تكاليف التأسيس'!$D$36
Name قروض_من_اشخاص: 'تكاليف التأسيس'!$D$37
Name قيمة_القرض: 'تكاليف التأسيس'!$G$37
Name مدة_السداد: 'تكاليف التأسيس'!$I$37
Name نسبة_الفائدة: 'تكاليف التأسيس'!$H$37

Sheet مقدمة
A1: من خلال هذا الملف فيه تستطيع عمل الجانب المالي لدراسة جدوى مبسطة نصائح عامة:- 1- لاتقم بتعديل المعادلات، فقط قم بتعبئة الحقول المخصصة 2- لا تبالغ في المبيعات وتقلل المصروفات، كن عقلانيا فقط 3- لا تقلق من صحة الارقام لانها توقعات مستقبلية 4- السنة الأولى سنة تأسيس وليست ارباح، لذلك احرص على وجود سيولة كافية | H1: المصدر
H11: https://salla.sa/alsaqaeh
J17: المدخلات
J19: المخرجات
J21: معلومات

Sheet تكاليف التأسيس
A1: ملحوظة هامة أستخدام القروض كمصدر لتمويل المشروع طبقا للشريعة الأسلامية حرام لأنه ربا ويمكن أستخدام مصادر أخري للتمويل متوافقة مع الشريعة الأسلامية
F4: المبلغ | G4: الإجمالي | H4: الاهلاك
C5: الأصول الثابتة | H5: بالسنوات
D6: الأراضي | F6: 0 | H6: 0
D7: المباني | F7: 0 | H7: 50
D8: ترميم مبنى مستأجر | F8: 0 | H8: 10
D9: الآلات والمعدات | F9: 0 | H9: 7
D10: الأثاث | F10: 0 | H10: 5
D11: السيارات | F11: 0 | H11: 5
D12: أصول ثابتة أخرى | F12: 0 | H12: 5
C13: اجمالي الأصول الثابتة | G13: =SUM(F6:F12) -> 0
C15: مصاريف التشغيل قبل الافتتاح
D16: رواتب الموظفين ما قبل الافتتاح
D17: دفع رسوم التأمين الصحي (مقدم سنة)
D18: المخزون
D19: المصاريف القانونية والمحاسبية
D20: مبلغ الأيجار (مقدم 6 اشهر)
D21: تأسيس الخدمات (كهرباء،انترنت،ماء)
D22: الموردين
D23: مصاريف التسويق قبل الافتتاح
D24: الرخص الحكومية
D25: مصاريف تأسيس أخرى
C26: اجمالي مصاريف التشغيل قبل الافتتاح | G26: =SUM(F16:F25) -> 0
D28: رأس المال العامل | E28: 150000
B30: اجمالي رأس المال لبدأ المشروع | G30: =G13+G26+F28 -> 0
B32: مصادر رأس المال لبدأ المشروع | F32: النسبة من رأس المال | G32: المبلغ الإجمالي | H32: نسبة الفائدة | I32: مدة السداد (بالأشهر) | J32: الدفعات الشهرية
C33: مدخرات شخصية للملاك | F33: =IF(G33=0,0,G33/$G$38) -> 0
C34: مستثمر خارجي | F34: =IF(G34=0,0,G34/$G$38) -> 0
C35: قروض او ديون إضافية
D36: قرض بنك | F36: =IF(G36=0,0,G36/$G$38) -> 0 | H36: 0.04 | I36: 60 | J36: =ABS(IF(G36=0,0,PMT(H36/12,I36,G36))) -> 0
D37: قروض او ديون أخرى | F37: =IF(G37=0,0,G37/$G$38) -> 0 | H37: 0 | I37: 12 | J37: =ABS(IF(G37=0,0,PMT(H37/12,I37,G37))) -> 0
B38: اجمالي مبلغ رأس المال | D38: الخلية H 41 لازم تساوي خلية H 30 | G38: =SUM(G33:G37) -> 0 | J38: =SUM(J36:J37) -> 0
D39: =IF(G39>0,"تحتاج رفع رأس المال (مبلغ) >> ",IF(G39<C387,"تحتاج خفض رأس المال (مبلغ) >>","تم تغطية رأس المال بالكامل (متوازن)")) -> تم تغطية رأس المال بالكامل (متوازن) | G39: =(G30-G38) -> 0

Sheet المبيعات
G3: المبيعات | H3: تكلفة البضاعة المباعة | I3: هامش الربح
F4: السنة 1 | G4: =Q44 -> 0 | H4: =Q45 -> 0 | I4: =Q46 -> 0
F5: السنة 2 | G5: =Q74 -> 0 | H5: =Q75 -> 0 | I5: =Q76 -> 0
F6: السنة 3 | G6: =Q106 -> 0 | H6: =Q107 -> 0 | I6: =Q108 -> 0
B18: اكمل هذا الجدول | E18: شهر 1 | F18: شهر 2 | G18: شهر 3 | H18: شهر 4 | I18: شهر 5 | J18: شهر 6 | K18: شهر 7 | L18: شهر 8 | M18: شهر 9 | N18: شهر 10 | O18: شهر 11 | P18: شهر 12
B19: اسم المنتج او الخدمة | C19: سعر البيع للوحدة | D19: تكلفة البضاعة المباعة | E19: عدد الوحدات المباعه لكل شهر ( السنة الأولى) | Q19: اجمالي عدد الوحدات لسنة الأولى
Q20: =SUM(E20:P20) -> 0
Q21: =SUM(E21:P21) -> 0
Q22: =SUM(E22:P22) -> 0
Q23: =SUM(E23:P23) -> 0
Q24: =SUM(E24:P24) -> 0
Q25: =SUM(E25:P25) -> 0
Q26: =SUM(C26:P26) -> 0
Q27: =SUM(E27:P27) -> 0
Q28: =SUM(E28:P28) -> 0
Q29: =SUM(E29:P29) -> 0
B30: عدد الوحدات المباعة لكل شهر | E30: =SUM(E20:E29) -> 0 | F30: =SUM(F20:F29) -> 0 | G30: =SUM(G20:G29) -> 0 | H30: =SUM(H20:H29) -> 0 | I30: =SUM(I20:I29) -> 0 | J30: =SUM(J20:J29) -> 0 | K30: =SUM(K20:K29) -> 0 | L30: =SUM(L20:L29) -> 0 | ... Q30: =SUM(Q20:Q29) -> 0
E32: شهر 1 | F32: شهر 2 | G32: شهر 3 | H32: شهر 4 | I32: شهر 5 | J32: شهر 6 | K32: شهر 7 | L32: شهر 8 | M32: شهر 9 | N32: شهر 10 | O32: شهر 11 | P32: شهر 12
B33: اسم المنتج او الخدمة | E33: قيمة المبيعات المتوقعة لكل شهر ( السنة الأولى) | Q33: المبيعات لسنة الأولى
B34: =IF(ISBLANK(B20), "منتج 1", B20) -> منتج 1 | E34: =(C20*E20) -> 0 | F34: =(C20*F20) -> 0 | G34: =(C20*G20) -> 0 | H34: =(C20*H20) -> 0 | I34: =(C20*I20) -> 0 | J34: =(C20*J20) -> 0 | K34: =(C20*K20) -> 0 | L34: =(C20*L20) -> 0 | M34: =(C20*M20) -> 0 | N34: =(C20*N20) -> 0 | O34: =(C20*O20) -> 0 | P34: =(C20*P20) -> 0 | Q34: =SUM(E34:P34) -> 0
B35: =IF(ISBLANK(B21), "منتج 2", B21) -> منتج 2 | E35: =(C21*E21) -> 0 | F35: =(C21*F21) -> 0 | G35: =(C21*G21) -> 0 | H35: =(C21*H21) -> 0 | I35: =(C21*I21) -> 0 | J35: =(C21*J21) -> 0 | K35: =(C21*K21) -> 0 | L35: =(C21*L21) -> 0 | M35: =(C21*M21) -> 0 | N35: =(C21*N21) -> 0 | O35: =(C21*O21) -> 0 | P35: =(C21*P21) -> 0 | Q35: =SUM(E35:P35) -> 0
B36: =IF(ISBLANK(B22), "منتج 3", B22) -> منتج 3 | E36: =(C22*E22) -> 0 | F36: =(C22*F22) -> 0 | G36: =(C22*G22) -> 0 | H36: =(C22*H22) -> 0 | I36: =(C22*I22) -> 0 | J36: =(C22*J22) -> 0 | K36: =(C22*K22) -> 0 | L36: =(C22*L22) -> 0 | M36: =(C22*M22) -> 0 | N36: =(C22*N22) -> 0 | O36: =(C22*O22) -> 0 | P36: =(C22*P22) -> 0 | Q36: =SUM(E36:P36) -> 0
B37: =IF(ISBLANK(B23), "منتج 4", B23) -> منتج 4 | E37: =(C23*E23) -> 0 | F37: =(C23*F23) -> 0 | G37: =(C23*G23) -> 0 | H37: =(C23*H23) -> 0 | I37: =(C23*I23) -> 0 | J37: =(C23*J23) -> 0 | K37: =(C23*K23) -> 0 | L37: =(C23*L23) -> 0 | M37: =(C23*M23) -> 0 | N37: =(C23*N23) -> 0 | O37: =(C23*O23) -> 0 | P37: =(C23*P23) -> 0 | Q37: =SUM(E37:P37) -> 0
B38: =IF(ISBLANK(B24), "منتج 5", B24) -> منتج 5 | E38: =(C24*E24) -> 0 | F38: =(C24*F24) -> 0 | G38: =(C24*G24) -> 0 | H38: =(C24*H24) -> 0 | I38: =(C24*I24) -> 0 | J38: =(C24*J24) -> 0 | K38: =(C24*K24) -> 0 | L38: =(C24*L24) -> 0 | M38: =(C24*M24) -> 0 | N38: =(C24*N24) -> 0 | O38: =(C24*O24) -> 0 | P38: =(C24*P24) -> 0 | Q38: =SUM(E38:P38) -> 0
B39: =IF(ISBLANK(B25), "منتج 6", B25) -> منتج 6 | E39: =(C25*E25) -> 0 | F39: =(C25*F25) -> 0 | G39: =(C25*G25) -> 0 | H39: =(C25*H25) -> 0 | I39: =(C25*I25) -> 0 | J39: =(C25*J25) -> 0 | K39: =(C25*K25) -> 0 | L39: =(C25*L25) -> 0 | M39: =(C25*M25) -> 0 | N39: =(C25*N25) -> 0 | O39: =(C25*O25) -> 0 | P39: =(C25*P25) -> 0 | Q39: =SUM(E39:P39) -> 0
B40: =IF(ISBLANK(B26), "منتج 7", B26) -> منتج 7 | E40: =(C26*E26) -> 0 | F40: =(C26*F26) -> 0 | G40: =(C26*G26) -> 0 | H40: =(C26*H26) -> 0 | I40: =(C26*I26) -> 0 | J40: =(C26*J26) -> 0 | K40: =(C26*K26) -> 0 | L40: =(C26*L26) -> 0 | M40: =(C26*M26) -> 0 | N40: =(C26*N26) -> 0 | O40: =(C26*O26) -> 0 | P40: =(C26*P26) -> 0 | Q40: =SUM(E40:P40) -> 0
B41: =IF(ISBLANK(B27), "منتج 8", B27) -> منتج 8 | E41: =(C27*E27) -> 0 | F41: =(C27*F27) -> 0 | G41: =(C27*G27) -> 0 | H41: =(C27*H27) -> 0 | I41: =(C27*I27) -> 0 | J41: =(C27*J27) -> 0 | K41: =(C27*K27) -> 0 | L41: =(C27*L27) -> 0 | M41: =(C27*M27) -> 0 | N41: =(C27*N27) -> 0 | O41: =(C27*O27) -> 0 | P41: =(C27*P27) -> 0 | Q41: =SUM(E41:P41) -> 0
B42: =IF(ISBLANK(B28), "منتج 9", B28) -> منتج 9 | E42: =(C28*E28) -> 0 | F42: =(C28*F28) -> 0 | G42: =(C28*G28) -> 0 | H42: =(C28*H28) -> 0 | I42: =(C28*I28) -> 0 | J42: =(C28*J28) -> 0 | K42: =(C28*K28) -> 0 | L42: =(C28*L28) -> 0 | M42: =(C28*M28) -> 0 | N42: =(C28*N28) -> 0 | O42: =(C28*O28) -> 0 | P42: =(C28*P28) -> 0 | Q42: =SUM(E42:P42) -> 0
B43: =IF(ISBLANK(B29), "منتج 10", B29) -> منتج 10 | E43: =(C29*E29) -> 0 | F43: =(C29*F29) -> 0 | G43: =(C29*G29) -> 0 | H43: =(C29*H29) -> 0 | I43: =(C29*I29) -> 0 | J43: =(C29*J29) -> 0 | K43: =(C29*K29) -> 0 | L43: =(C29*L29) -> 0 | M43: =(C29*M29) -> 0 | N43: =(C29*N29) -> 0 | O43: =(C29*O29) -> 0 | P43: =(C29*P29) -> 0 | Q43: =SUM(E43:P43) -> 0
B44: اجمالي المبيعات | E44: =SUM(E34:E43) -> 0 | F44: =SUM(F34:F43) -> 0 | G44: =SUM(G34:G43) -> 0 | H44: =SUM(H34:H43) -> 0 | I44: =SUM(I34:I43) -> 0 | J44: =SUM(J34:J43) -> 0 | K44: =SUM(K34:K43) -> 0 | L44: =SUM(L34:L43) -> 0 | ... P44: =SUM(P34:P43) -> 0 | Q44: =SUM(E44:P44) -> 0
B45: اجمالي تكلفة البضاعة المباعة | E45: =(D20*E20)+(D21*E21)+(D22*E22)+(D23*E23)+(D24*E24)+(D25*E25)+(D26*E26)+(D27*E27)+(D28*E28)+(D29*E29) -> 0 | F45: =(D20*F20)+(D21*F21)+(D22*F22)+(D23*F23)+(D24*F24)+(D25*F25)+(D26*F26)+(D27*F27)+(D28*F28)+(D29*F29) -> 0 | G45: =(D20*G20)+(D21*G21)+(D22*G22)+(D23*G23)+(D24*G24)+(D25*G25)+(D26*G26)+(D27*G27)+(D28*G28)+(D29*G29) -> 0 | H45: =(D20*H20)+(D21*H21)+(D22*H22)+(D23*H23)+(D24*H24)+(D25*H25)+(D26*H26)+(D27*H27)+(D28*H28)+(D29*H29) -> 0 | I45: =(D20*I20)+(D21*I21)+(D22*I22)+(D23*I23)+(D24*I24)+(D25*I25)+(D26*I26)+(D27*I27)+(D28*I28)+(D29*I29) -> 0 | J45: =(D20*J20)+(D21*J21)+(D22*J22)+(D23*J23)+(D24*J24)+(D25*J25)+(D26*J26)+(D27*J27)+(D28*J28)+(D29*J29) -> 0 | K45: =(D20*K20)+(D21*K21)+(D22*K22)+(D23*K23)+(D24*K24)+(D25*K25)+(D26*K26)+(D27*K27)+(D28*K28)+(D29*K29) -> 0 | L45: =(D20*L20)+(D21*L21)+(D22*L22)+(D23*L23)+(D24*L24)+(D25*L25)+(D26*L26)+(D27*L27)+(D28*L28)+(D29*L29) -> 0 | M45: =(D20*M20)+(D21*M21)+(D22*M22)+(D23*M23)+(D24*M24)+(D25*M25)+(D26*M26)+(D27*M27)+(D28*M28)+(D29*M29) -> 0 | N45: =(D20*N20)+(D21*N21)+(D22*N22)+(D23*N23)+(D24*N24)+(D25*N25)+(D26*N26)+(D27*N27)+(D28*N28)+(D29*N29) -> 0 | O45: =(D20*O20)+(D21*O21)+(D22*O22)+(D23*O23)+(D24*O24)+(D25*O25)+(D26*O26)+(D27*O27)+(D28*O28)+(D29*O29) -> 0 | P45: =(D20*P20)+(D21*P21)+(D22*P22)+(D23*P23)+(D24*P24)+(D25*P25)+(D26*P26)+(D27*P27)+(D28*P28)+(D29*P29) -> 0 | Q45: =SUM(E45:P45) -> 0
B46: اجمالي هامش الربح | E46: =(E44-E45) -> 0 | F46: =(F44-F45) -> 0 | G46: =(G44-G45) -> 0 | H46: =(H44-H45) -> 0 | I46: =(I44-I45) -> 0 | J46: =(J44-J45) -> 0 | K46: =(K44-K45) -> 0 | L46: =(L44-L45) -> 0 | ... Q46: =(Q44-Q45) -> 0
B49: اكمل هذا الجدول | E49: شهر 1 | F49: شهر 2 | G49: شهر 3 | H49: شهر 4 | I49: شهر 5 | J49: شهر 6 | K49: شهر 7 | L49: شهر 8 | M49: شهر 9 | N49: شهر 10 | O49: شهر 11 | P49: شهر 12
B50: اسم المنتج او الخدمة | C50: سعر البيع للوحدة | D50: تكلفة البضاعة المباعة | E50: عدد الوحدات المباعه لكل شهر ( السنة الثانية) | Q50: اجمالي عدد الوحدات لسنة الثانية
Q51: =SUM(E51:P51) -> 0
Q52: =SUM(E52:P52) -> 0
Q53: =SUM(E53:P53) -> 0
Q54: =SUM(E54:P54) -> 0
Q55: =SUM(E55:P55) -> 0
Q56: =SUM(E56:P56) -> 0
...

Sheet الرواتب
K4: رواتب الموظفين | L4: عدد الموظفين
J5: السنة 1 | K5: =(Q37) -> 0 | L5: =SUM(E27:P27)/12 -> 0
J6: السنة 2 | K6: =(Q60) -> 0 | L6: =SUM(E50:P50)/12 -> 0
J7: السنة 3 | K7: =(Q83) -> 0 | L7: =SUM(E73:P73)/12 -> 0
C18: اكمل هذا الجدول | E18: شهر 1 | F18: شهر 2 | G18: شهر 3 | H18: شهر 4 | I18: شهر 5 | J18: شهر 6 | K18: شهر 7 | L18: شهر 8 | M18: شهر 9 | N18: شهر 10 | O18: شهر 11 | P18: شهر 12
B19: نوع الوظيفة | C19: الرواتب | D19: البدلات | E19: عدد الموظفين خلال كل شهر ( السنة الأولى)
B27: عدد الموظفين | E27: =SUM(E20:E26) -> 0 | F27: =SUM(F20:F26) -> 0 | G27: =SUM(G20:G26) -> 0 | H27: =SUM(H20:H26) -> 0 | I27: =SUM(I20:I26) -> 0 | J27: =SUM(J20:J26) -> 0 | K27: =SUM(K20:K26) -> 0 | L27: =SUM(L20:L26) -> 0 | ... P27: =SUM(P20:P26) -> 0
E29: شهر 1 | F29: شهر 2 | G29: شهر 3 | H29: شهر 4 | I29: شهر 5 | J29: شهر 6 | K29: شهر 7 | L29: شهر 8 | M29: شهر 9 | N29: شهر 10 | O29: شهر 11 | P29: شهر 12 | Q29: اجمالي الرواتب السنوية
B30: =(B19) -> نوع الوظيفة | E30: قيمة الرواتب الموظفين الشهرية ( السنة الأولى) | Q30: =SUM(E31:P31) -> 0
B31: =B20 -> 0 | E31: =(C20+D20)*E20 -> 0 | F31: =(C20+D20)*(F20) -> 0 | G31: =(C20+D20)*(G20) -> 0 | H31: =(C20+D20)*H20 -> 0 | I31: =(C20+D20)*I20 -> 0 | J31: =(C20+D20)*J20 -> 0 | K31: =(C20+D20)*K20 -> 0 | L31: =(C20+D20)*L20 -> 0 | M31: =(C20+D20)*M20 -> 0 | N31: =(C20+D20)*N20 -> 0 | O31: =(C20+D20)*O20 -> 0 | P31: =(C20+D20)*P20 -> 0 | Q31: =SUM(E32:P32) -> 0
B32: =B21 -> 0 | E32: =(C21+D21)*E21 -> 0 | F32: =(C21+D21)*(F21) -> 0 | G32: =(C21+D21)*(G21) -> 0 | H32: =(C21+D21)*H21 -> 0 | I32: =(C21+D21)*I21 -> 0 | J32: =(C21+D21)*J21 -> 0 | K32: =(C21+D21)*K21 -> 0 | L32: =(C21+D21)*L21 -> 0 | M32: =(C21+D21)*M21 -> 0 | N32: =(C21+D21)*N21 -> 0 | O32: =(C21+D21)*O21 -> 0 | P32: =(C21+D21)*P21 -> 0 | Q32: =SUM(E33:P33) -> 0
B33: =B22 -> 0 | E33: =(C22+D22)*E22 -> 0 | F33: =(C22+D22)*(F22) -> 0 | G33: =(C22+D22)*(G22) -> 0 | H33: =(C22+D22)*H22 -> 0 | I33: =(C22+D22)*I22 -> 0 | J33: =(C22+D22)*J22 -> 0 | K33: =(C22+D22)*K22 -> 0 | L33: =(C22+D22)*L22 -> 0 | M33: =(C22+D22)*M22 -> 0 | N33: =(C22+D22)*N22 -> 0 | O33: =(C22+D22)*O22 -> 0 | P33: =(C22+D22)*P22 -> 0 | Q33: =SUM(E34:P34) -> 0
B34: =B23 -> 0 | E34: =(C23+D23)*E23 -> 0 | F34: =(C23+D23)*(F23) -> 0 | G34: =(C23+D23)*(G23) -> 0 | H34: =(C23+D23)*H23 -> 0 | I34: =(C23+D23)*I23 -> 0 | J34: =(C23+D23)*J23 -> 0 | K34: =(C23+D23)*K23 -> 0 | L34: =(C23+D23)*L23 -> 0 | M34: =(C23+D23)*M23 -> 0 | N34: =(C23+D23)*N23 -> 0 | O34: =(C23+D23)*O23 -> 0 | P34: =(C23+D23)*P23 -> 0 | Q34: =SUM(E35:P35) -> 0
B35: =B24 -> 0 | E35: =(C24+D24)*E24 -> 0 | F35: =(C24+D24)*(F24) -> 0 | G35: =(C24+D24)*(G24) -> 0 | H35: =(C24+D24)*H24 -> 0 | I35: =(C24+D24)*I24 -> 0 | J35: =(C24+D24)*J24 -> 0 | K35: =(C24+D24)*K24 -> 0 | L35: =(C24+D24)*L24 -> 0 | M35: =(C24+D24)*M24 -> 0 | N35: =(C24+D24)*N24 -> 0 | O35: =(C24+D24)*O24 -> 0 | P35: =(C24+D24)*P24 -> 0 | Q35: =SUM(E36:P36) -> 0
B36: =B25 -> 0 | E36: =(C25+D25)*E25 -> 0 | F36: =(C25+D25)*(F25) -> 0 | G36: =(C25+D25)*(G25) -> 0 | H36: =(C25+D25)*H25 -> 0 | I36: =(C25+D25)*I25 -> 0 | J36: =(C25+D25)*J25 -> 0 | K36: =(C25+D25)*K25 -> 0 | L36: =(C25+D25)*L25 -> 0 | M36: =(C25+D25)*M25 -> 0 | N36: =(C25+D25)*N25 -> 0 | O36: =(C25+D25)*O25 -> 0 | P36: =(C25+D25)*P25 -> 0 | Q36: =SUM(E37:P37) -> 0
B37: =B26 -> 0 | E37: =(C26+D26)*E26 -> 0 | F37: =(C26+D26)*(F26) -> 0 | G37: =(C26+D26)*(G26) -> 0 | H37: =(C26+D26)*H26 -> 0 | I37: =(C26+D26)*I26 -> 0 | J37: =(C26+D26)*J26 -> 0 | K37: =(C26+D26)*K26 -> 0 | L37: =(C26+D26)*L26 -> 0 | M37: =(C26+D26)*M26 -> 0 | N37: =(C26+D26)*N26 -> 0 | O37: =(C26+D26)*O26 -> 0 | P37: =(C26+D26)*P26 -> 0 | Q37: =SUM(E38:P38) -> 0
B38: اجمالي رواتب الموظفين | E38: =SUM(E31:E37) -> 0 | F38: =SUM(F31:F37) -> 0 | G38: =SUM(G31:G37) -> 0 | H38: =SUM(H31:H37) -> 0 | I38: =SUM(I31:I37) -> 0 | J38: =SUM(J31:J37) -> 0 | K38: =SUM(K31:K37) -> 0 | L38: =SUM(L31:L37) -> 0 | ... P38: =SUM(P31:P37) -> 0
B41: اكمل هذا الجدول | E41: شهر 1 | F41: شهر 2 | G41: شهر 3 | H41: شهر 4 | I41: شهر 5 | J41: شهر 6 | K41: شهر 7 | L41: شهر 8 | M41: شهر 9 | N41: شهر 10 | O41: شهر 11 | P41: شهر 12
B42: نوع الوظيفة | C42: الرواتب | D42: البدلات | E42: عدد الموظفين خلال كل شهر ( السنة الثانية)
B50: عدد الموظفين | E50: =SUM(E43:E49) -> 0 | F50: =SUM(F43:F49) -> 0 | G50: =SUM(G43:G49) -> 0 | H50: =SUM(H43:H49) -> 0 | I50: =SUM(I43:I49) -> 0 | J50: =SUM(J43:J49) -> 0 | K50: =SUM(K43:K49) -> 0 | L50: =SUM(L43:L49) -> 0 | ... P50: =SUM(P43:P49) -> 0
E52: شهر 1 | F52: شهر 2 | G52: شهر 3 | H52: شهر 4 | I52: شهر 5 | J52: شهر 6 | K52: شهر 7 | L52: شهر 8 | M52: شهر 9 | N52: شهر 10 | O52: شهر 11 | P52: شهر 12 | Q52: اجمالي الرواتب السنوية
B53: =B19 -> نوع الوظيفة | E53: قيمة الرواتب الموظفين لكل شهر ( السنة الثانية) | Q53: =SUM(E54:P54) -> 0
B54: =B43 -> 0 | E54: =(C43+D43)*E43 -> 0 | F54: =(C43+D43)*(F43) -> 0 | G54: =(C43+D43)*(G43) -> 0 | H54: =(C43+D43)*H43 -> 0 | I54: =(C43+D43)*I43 -> 0 | J54: =(C43+D43)*J43 -> 0 | K54: =(C43+D43)*K43 -> 0 | L54: =(C43+D43)*L43 -> 0 | M54: =(C43+D43)*M43 -> 0 | N54: =(C43+D43)*N43 -> 0 | O54: =(C43+D43)*O43 -> 0 | P54: =(C43+D43)*P43 -> 0 | Q54: =SUM(E55:P55) -> 0
B55: =B44 -> 0 | E55: =(C44+D44)*E44 -> 0 | F55: =(C44+D44)*(F44) -> 0 | G55: =(C44+D44)*(G44) -> 0 | H55: =(C44+D44)*H44 -> 0 | I55: =(C44+D44)*I44 -> 0 | J55: =(C44+D44)*J44 -> 0 | K55: =(C44+D44)*K44 -> 0 | L55: =(C44+D44)*L44 -> 0 | M55: =(C44+D44)*M44 -> 0 | N55: =(C44+D44)*N44 -> 0 | O55: =(C44+D44)*O44 -> 0 | P55: =(C44+D44)*P44 -> 0 | Q55: =SUM(E56:P56) -> 0
B56: =B45 -> 0 | E56: =(C45+D45)*E45 -> 0 | F56: =(C45+D45)*(F45) -> 0 | G56: =(C45+D45)*(G45) -> 0 | H56: =(C45+D45)*H45 -> 0 | I56: =(C45+D45)*I45 -> 0 | J56: =(C45+D45)*J45 -> 0 | K56: =(C45+D45)*K45 -> 0 | L56: =(C45+D45)*L45 -> 0 | M56: =(C45+D45)*M45 -> 0 | N56: =(C45+D45)*N45 -> 0 | O56: =(C45+D45)*O45 -> 0 | P56: =(C45+D45)*P45 -> 0 | Q56: =SUM(E57:P57) -> 0
B57: =B46 -> 0 | E57: =(C46+D46)*E46 -> 0 | F57: =(C46+D46)*(F46) -> 0 | G57: =(C46+D46)*(G46) -> 0 | H57: =(C46+D46)*H46 -> 0 | I57: =(C46+D46)*I46 -> 0 | J57: =(C46+D46)*J46 -> 0 | K57: =(C46+D46)*K46 -> 0 | L57: =(C46+D46)*L46 -> 0 | M57: =(C46+D46)*M46 -> 0 | N57: =(C46+D46)*N46 -> 0 | O57: =(C46+D46)*O46 -> 0 | P57: =(C46+D46)*P46 -> 0 | Q57: =SUM(E58:P58) -> 0
B58: =B47 -> 0 | E58: =(C47+D47)*E47 -> 0 | F58: =(C47+D47)*(F47) -> 0 | G58: =(C47+D47)*(G47) -> 0 | H58: =(C47+D47)*H47 -> 0 | I58: =(C47+D47)*I47 -> 0 | J58: =(C47+D47)*J47 -> 0 | K58: =(C47+D47)*K47 -> 0 | L58: =(C47+D47)*L47 -> 0 | M58: =(C47+D47)*M47 -> 0 | N58: =(C47+D47)*N47 -> 0 | O58: =(C47+D47)*O47 -> 0 | P58: =(C47+D47)*P47 -> 0 | Q58: =SUM(E59:P59) -> 0
B59: =B48 -> 0 | E59: =(C48+D48)*E48 -> 0 | F59: =(C48+D48)*(F48) -> 0 | G59: =(C48+D48)*(G48) -> 0 | H59: =(C48+D48)*H48 -> 0 | I59: =(C48+D48)*I48 -> 0 | J59: =(C48+D48)*J48 -> 0 | K59: =(C48+D48)*K48 -> 0 | L59: =(C48+D48)*L48 -> 0 | M59: =(C48+D48)*M48 -> 0 | N59: =(C48+D48)*N48 -> 0 | O59: =(C48+D48)*O48 -> 0 | P59: =(C48+D48)*P48 -> 0 | Q59: =SUM(E60:P60) -> 0
B60: =B49 -> 0 | E60: =(C49+D49)*E49 -> 0 | F60: =(C49+D49)*(F49) -> 0 | G60: =(C49+D49)*(G49) -> 0 | H60: =(C49+D49)*H49 -> 0 | I60: =(C49+D49)*I49 -> 0 | J60: =(C49+D49)*J49 -> 0 | K60: =(C49+D49)*K49 -> 0 | L60: =(C49+D49)*L49 -> 0 | M60: =(C49+D49)*M49 -> 0 | N60: =(C49+D49)*N49 -> 0 | O60: =(C49+D49)*O49 -> 0 | P60: =(C49+D49)*P49 -> 0 | Q60: =SUM(E61:P61) -> 0
B61: اجمالي رواتب الموظفين | E61: =SUM(E54:E60) -> 0 | F61: =SUM(F54:F60) -> 0 | G61: =SUM(G54:G60) -> 0 | H61: =SUM(H54:H60) -> 0 | I61: =SUM(I54:I60) -> 0 | J61: =SUM(J54:J60) -> 0 | K61: =SUM(K54:K60) -> 0 | L61: =SUM(L54:L60) -> 0 | ... P61: =SUM(P54:P60) -> 0
B64: اكمل هذا الجدول | E64: شهر 1 | F64: شهر 2 | G64: شهر 3 | H64: شهر 4 | I64: شهر 5 | J64: شهر 6 | K64: شهر 7 | L64: شهر 8 | M64: شهر 9 | N64: شهر 10 | O64: شهر 11 | P64: شهر 12
B65: نوع الوظيفة | C65: الرواتب | D65: البدلات | E65: عدد الموظفين خلال كل شهر ( السنة الثالثة)
B73: عدد الموظفين | E73: =SUM(E66:E72) -> 0 | F73: =SUM(F66:F72) -> 0 | G73: =SUM(G66:G72) -> 0 | H73: =SUM(H66:H72) -> 0 | I73: =SUM(I66:I72) -> 0 | J73: =SUM(J66:J72) -> 0 | K73: =SUM(K66:K72) -> 0 | L73: =SUM(L66:L72) -> 0 | ... P73: =SUM(P66:P72) -> 0
E75: شهر 1 | F75: شهر 2 | G75: شهر 3 | H75: شهر 4 | I75: شهر 5 | J75: شهر 6 | K75: شهر 7 | L75: شهر 8 | M75: شهر 9 | N75: شهر 10 | O75: شهر 11 | P75: شهر 12 | Q75: اجمالي الرواتب السنوية
B76: =(B65) -> نوع الوظيفة | E76: قيمة الرواتب الموظفين لكل شهر ( السنة الثالثة) | Q76: =SUM(E77:P77) -> 0
B77: =B66 -> 0 | E77: =(C66+D66)*E66 -> 0 | F77: =(C66+D66)*(F66) -> 0 | G77: =(C66+D66)*(G66) -> 0 | H77: =(C66+D66)*H66 -> 0 | I77: =(C66+D66)*I66 -> 0 | J77: =(C66+D66)*J66 -> 0 | K77: =(C66+D66)*K66 -> 0 | L77: =(C66+D66)*L66 -> 0 | M77: =(C66+D66)*M66 -> 0 | N77: =(C66+D66)*N66 -> 0 | O77: =(C66+D66)*O66 -> 0 | P77: =(C66+D66)*P66 -> 0 | Q77: =SUM(E78:P78) -> 0
B78: =B67 -> 0 | E78: =(C67+D67)*E67 -> 0 | F78: =(C67+D67)*(F67) -> 0 | G78: =(C67+D67)*(G67) -> 0 | H78: =(C67+D67)*H67 -> 0 | I78: =(C67+D67)*I67 -> 0 | J78: =(C67+D67)*J67 -> 0 | K78: =(C67+D67)*K67 -> 0 | L78: =(C67+D67)*L67 -> 0 | M78: =(C67+D67)*M67 -> 0 | N78: =(C67+D67)*N67 -> 0 | O78: =(C67+D67)*O67 -> 0 | P78: =(C67+D67)*P67 -> 0 | Q78: =SUM(E79:P79) -> 0
B79: =B68 -> 0 | E79: =(C68+D68)*E68 -> 0 | F79: =(C68+D68)*(F68) -> 0 | G79: =(C68+D68)*(G68) -> 0 | H79: =(C68+D68)*H68 -> 0 | I79: =(C68+D68)*I68 -> 0 | J79: =(C68+D68)*J68 -> 0 | K79: =(C68+D68)*K68 -> 0 | L79: =(C68+D68)*L68 -> 0 | M79: =(C68+D68)*M68 -> 0 | N79: =(C68+D68)*N68 -> 0 | O79: =(C68+D68)*O68 -> 0 | P79: =(C68+D68)*P68 -> 0 | Q79: =SUM(E80:P80) -> 0
B80: =B69 -> 0 | E80: =(C69+D69)*E69 -> 0 | F80: =(C69+D69)*(F69) -> 0 | G80: =(C69+D69)*(G69) -> 0 | H80: =(C69+D69)*H69 -> 0 | I80: =(C69+D69)*I69 -> 0 | J80: =(C69+D69)*J69 -> 0 | K80: =(C69+D69)*K69 -> 0 | L80: =(C69+D69)*L69 -> 0 | M80: =(C69+D69)*M69 -> 0 | N80: =(C69+D69)*N69 -> 0 | O80: =(C69+D69)*O69 -> 0 | P80: =(C69+D69)*P69 -> 0 | Q80: =SUM(E81:P81) -> 0
B81: =B70 -> 0 | E81: =(C70+D70)*E70 -> 0 | F81: =(C70+D70)*(F70) -> 0 | G81: =(C70+D70)*(G70) -> 0 | H81: =(C70+D70)*H70 -> 0 | I81: =(C70+D70)*I70 -> 0 | J81: =(C70+D70)*J70 -> 0 | K81: =(C70+D70)*K70 -> 0 | L81: =(C70+D70)*L70 -> 0 | M81: =(C70+D70)*M70 -> 0 | N81: =(C70+D70)*N70 -> 0 | O81: =(C70+D70)*O70 -> 0 | P81: =(C70+D70)*P70 -> 0 | Q81: =SUM(E82:P82) -> 0
...

Sheet المصروفات
A1: أضف جميع النفقات الشهرية لشركتك هنا - الإيجار ، والمرافق ، والتأمين ، وتكاليف التسويق ، واللوازم المكتبية ،...الخ تأكد من عدم إدخال أي من هذه ا لمصروفات، حيث يتم تغطيتها في مكان آخر : 1- دفعات سداد القرض والفوائد. تسجل في بند تكاليف التأسيس 2 - مصروفات الرواتب . تسجل في بند الرواتب. 3- مدفوعات الضرائب او الزكاة. تسجل في بند معلومات إضافية. 4 - المواد الخام المستخدمة لأنتاج المنتج أو عمولات مبيعات أو مشتريات بالجملة من المورد. تسجل في بند المبيعات تكلفة البضاعة المباعة 5 - الأصول الثابنة أو المركبات أو المشتريات الرئيسية الأخرى. تسجل في بند تكاليف التأسيس او بند معلومات إضافية. 6 - مصروف الاهلاك. تسجل في بند تكاليف التأسيس.
O2: =B26 -> 0
M5: المصروفات
L6: السنة 1 | M6: =O28 -> 0
L7: السنة 2 | M7: =O39 -> 0
L8: السنة 3 | M8: =O50 -> 0
C19: شهر 1 | D19: شهر 2 | E19: شهر 3 | F19: شهر 4 | G19: شهر 5 | H19: شهر 6 | I19: شهر 7 | J19: شهر 8 | K19: شهر 9 | L19: شهر 10 | M19: شهر 11 | N19: شهر 12
B20: اسم المصروف | C20: المصروفات لكل شهر ( السنة الأولى) | O20: اجمالي مصروفات السنة الأولى
O21: =SUM(C21:N21) -> 0
O22: =SUM(C22:N22) -> 0
O23: =SUM(C23:N23) -> 0
O24: =SUM(C24:N24) -> 0
O25: =SUM(C25:N25) -> 0
O26: =SUM(C26:N26) -> 0
O27: =SUM(C27:N27) -> 0
B28: اجمالي المصروفات الشهرية | C28: =SUM(C21:C27) -> 0 | D28: =SUM(D21:D27) -> 0 | E28: =SUM(E21:E27) -> 0 | F28: =SUM(F21:F27) -> 0 | G28: =SUM(G21:G27) -> 0 | H28: =SUM(H21:H27) -> 0 | I28: =SUM(I21:I27) -> 0 | J28: =SUM(J21:J27) -> 0 | ... N28: =SUM(N21:N27) -> 0 | O28: =SUM(C28:N28) -> 0
C30: شهر 1 | D30: شهر 2 | E30: شهر 3 | F30: شهر 4 | G30: شهر 5 | H30: شهر 6 | I30: شهر 7 | J30: شهر 8 | K30: شهر 9 | L30: شهر 10 | M30: شهر 11 | N30: شهر 12
B31: اسم المصروف | C31: المصروفات لكل شهر ( السنة الثانية) | O31: اجمالي مصروفات السنة الثانية
B32: =(B21) -> 0 | O32: =SUM(C32:N32) -> 0
B33: =(B22) -> 0 | O33: =SUM(C33:N33) -> 0
B34: =(B23) -> 0 | O34: =SUM(C34:N34) -> 0
B35: =(B24) -> 0 | O35: =SUM(C35:N35) -> 0
B36: =(B25) -> 0 | O36: =SUM(C36:N36) -> 0
B37: =B26 -> 0 | O37: =SUM(C37:N37) -> 0
B38: =B27 -> 0 | O38: =SUM(C38:N38) -> 0
B39: اجمالي المصروفات الشهرية | C39: =SUM(C32:C38) -> 0 | D39: =SUM(D32:D38) -> 0 | E39: =SUM(E32:E38) -> 0 | F39: =SUM(F32:F38) -> 0 | G39: =SUM(G32:G38) -> 0 | H39: =SUM(H32:H38) -> 0 | I39: =SUM(I32:I38) -> 0 | J39: =SUM(J32:J38) -> 0 | ... N39: =SUM(N32:N38) -> 0 | O39: =SUM(C39:N39) -> 0
C41: شهر 1 | D41: شهر 2 | E41: شهر 3 | F41: شهر 4 | G41: شهر 5 | H41: شهر 6 | I41: شهر 7 | J41: شهر 8 | K41: شهر 9 | L41: شهر 10 | M41: شهر 11 | N41: شهر 12
B42: اسم المصروف | C42: المصروفات لكل شهر ( السنة الثالثة) | O42: اجمالي مصروفات السنة الثالثة
B43: =(B32) -> 0 | O43: =SUM(C43:N43) -> 0
B44: =(B33) -> 0 | O44: =SUM(C44:N44) -> 0
B45: =(B34) -> 0 | O45: =SUM(C45:N45) -> 0
B46: =(B35) -> 0 | O46: =SUM(C46:N46) -> 0
B47: =(B36) -> 0 | O47: =SUM(C47:N47) -> 0
B48: =B37 -> 0 | O48: =SUM(C48:N48) -> 0
B49: =B38 -> 0 | O49: =SUM(C49:N49) -> 0
B50: اجمالي المصروفات الشهرية | C50: =SUM(C43:C49) -> 0 | D50: =SUM(D43:D49) -> 0 | E50: =SUM(E43:E49) -> 0 | F50: =SUM(F43:F49) -> 0 | G50: =SUM(G43:G49) -> 0 | H50: =SUM(H43:H49) -> 0 | I50: =SUM(I43:I49) -> 0 | J50: =SUM(J43:J49) -> 0 | ... N50: =SUM(N43:N49) -> 0 | O50: =SUM(C50:N50) -> 0

Sheet معلومات اضافية
B4: في حال البيع للآجل للعملاء
B5: نسبة التحصيل من العملاء | C5: السنة 1 | D5: السنة 2 | E5: السنة 3
B6: يدفع العميل خلال 30 يوم | C6: 1 | D6: 1 | E6: 1
B7: يدفع العميل بين 30 الى 60 يوم | C7: 0 | D7: 0 | E7: 0
B8: يدفع العميل اكثر من 60 يوم | C8: 0 | D8: 0 | E8: 0
B9: تعثر العميل عن السداد | C9: 0 | D9: 0 | E9: 0 | Q9: الزكاة والضرائب
B10: لازم هذا الرقم يساوي 100% | C10: =SUM(C6:C9) -> 1 | D10: =SUM(D6:D9) -> 1 | E10: =SUM(E6:E9) -> 1 | Q10: ضريبة القيمة المضافة (VAT) | R10: 0.15
Q11: الزكاة | R11: 0.025
B12: في حال الشراء من الموردين بالآجل
B13: نسبة السداد للموردين | C13: السنة 1 | D13: السنة 2 | E13: السنة 3
B14: تدفع للموردين خلال 30 يوم | C14: 1 | D14: 1 | E14: 1
B15: تدفع للموردين بين 30 الى 60 يوم | C15: 0 | D15: 0 | E15: 0
B16: تدفع للموردين اكثر من 60 يوم | C16: 0 | D16: 0 | E16: 0
B17: لازم هذا الرقم يساوي 100% | C17: =SUM(C14:C16) -> 1 | D17: =SUM(D14:D16) -> 1 | E17: =SUM(E14:E16) -> 1
G19: السنة الأولى
B21: أصول ثابتة إضافية ( تريد شرائها بعد تشغيل المشروع)
B22: الأصول الثابنة | C22: الأهلاك (بالسنوات) | D22: شهر 1 | E22: شهر 2 | F22: شهر 3 | G22: شهر 4 | H22: شهر 5 | I22: شهر 6 | J22: شهر 7 | K22: شهر 8 | L22: شهر 9 | M22: شهر 10 | N22: شهر 11 | O22: شهر 12 | P22: اجمالي السنة
B23: ='تكاليف التأسيس'!D6 -> الأراضي | C23: ='تكاليف التأسيس'!H6 -> 0 | D23: =LAND -> 0 | P23: =SUM(D23:O23) -> 0
B24: ='تكاليف التأسيس'!D7 -> المباني | C24: ='تكاليف التأسيس'!H7 -> 50 | D24: =Buildings -> 0 | P24: =SUM(D24:O24) -> 0
B25: ='تكاليف التأسيس'!D8 -> ترميم مبنى مستأجر | C25: ='تكاليف التأسيس'!H8 -> 10 | D25: =LeaseImprovements -> 0 | P25: =SUM(D25:O25) -> 0
B26: ='تكاليف التأسيس'!D9 -> الآلات والمعدات | C26: ='تكاليف التأسيس'!H9 -> 7 | D26: =Equipment -> 0 | P26: =SUM(D26:O26) -> 0
B27: ='تكاليف التأسيس'!D10 -> الأثاث | C27: ='تكاليف التأسيس'!H10 -> 5 | D27: =Furniture -> 0 | P27: =SUM(D27:O27) -> 0
B28: ='تكاليف التأسيس'!D11 -> السيارات | C28: ='تكاليف التأسيس'!H11 -> 5 | D28: =Vehicles -> 0 | P28: =SUM(D28:O28) -> 0
B29: ='تكاليف التأسيس'!D12 -> أصول ثابتة أخرى | C29: ='تكاليف التأسيس'!H12 -> 5 | D29: =OtherFixedAssets -> 0 | P29: =SUM(D29:O29) -> 0
B30: اجمالي الأصول الثابتة | D30: =SUM(D23:D29) -> 0 | E30: =SUM(E23:E29) -> 0 | F30: =SUM(F23:F28) -> 0 | G30: =SUM(G23:G28) -> 0 | H30: =SUM(H23:H28) -> 0 | I30: =SUM(I23:I28) -> 0 | J30: =SUM(J23:J28) -> 0 | K30: =SUM(K23:K28) -> 0 | L30: =SUM(L23:L28) -> 0 | M30: =SUM(M23:M28) -> 0 | ... P30: =SUM(P23:P28) -> 0
G32: السنة الثانية
B34: أصول ثابتة إضافية ( تريد شرائها بعد تشغيل المشروع)
B35: الأصول الثابنة | C35: الأهلاك (بالسنوات) | D35: شهر 1 | E35: شهر 2 | F35: شهر 3 | G35: شهر 4 | H35: شهر 5 | I35: شهر 6 | J35: شهر 7 | K35: شهر 8 | L35: شهر 9 | M35: شهر 10 | N35: شهر 11 | O35: شهر 12 | P35: اجمالي السنة
B36: ='تكاليف التأسيس'!D6 -> الأراضي | C36: ='تكاليف التأسيس'!H6 -> 0 | P36: =SUM(D36:O36) -> 0
B37: ='تكاليف التأسيس'!D7 -> المباني | C37: ='تكاليف التأسيس'!H7 -> 50 | P37: =SUM(D37:O37) -> 0
B38: ='تكاليف التأسيس'!D8 -> ترميم مبنى مستأجر | C38: ='تكاليف التأسيس'!H8 -> 10 | P38: =SUM(D38:O38) -> 0
B39: ='تكاليف التأسيس'!D9 -> الآلات والمعدات | C39: ='تكاليف التأسيس'!H9 -> 7 | P39: =SUM(D39:O39) -> 0
B40: ='تكاليف التأسيس'!D10 -> الأثاث | C40: ='تكاليف التأسيس'!H10 -> 5 | P40: =SUM(D40:O40) -> 0
B41: ='تكاليف التأسيس'!D11 -> السيارات | C41: ='تكاليف التأسيس'!H11 -> 5 | P41: =SUM(D41:O41) -> 0
B42: ='تكاليف التأسيس'!D12 -> أصول ثابتة أخرى | C42: ='تكاليف التأسيس'!H12 -> 5 | P42: =SUM(D42:O42) -> 0
B43: اجمالي الأصول الثابتة | D43: =SUM(D36:D42) -> 0 | E43: =SUM(E36:E41) -> 0 | F43: =SUM(F36:F41) -> 0 | G43: =SUM(G36:G41) -> 0 | H43: =SUM(H36:H41) -> 0 | I43: =SUM(I36:I41) -> 0 | J43: =SUM(J36:J41) -> 0 | K43: =SUM(K36:K41) -> 0 | L43: =SUM(L36:L41) -> 0 | ... P43: =SUM(P36:P41) -> 0
G45: السنة الثالة
B47: أصول ثابتة إضافية ( تريد شرائها بعد تشغيل المشروع)
B48: الأصول الثابنة | C48: الأهلاك (بالسنوات) | D48: شهر 1 | E48: شهر 2 | F48: شهر 3 | G48: شهر 4 | H48: شهر 5 | I48: شهر 6 | J48: شهر 7 | K48: شهر 8 | L48: شهر 9 | M48: شهر 10 | N48: شهر 11 | O48: شهر 12 | P48: اجمالي السنة
B49: ='تكاليف التأسيس'!D6 -> الأراضي | C49: 0 | P49: =SUM(D49:O49) -> 0
...

Sheet تكلفة البضاعة المباعة
D2: طريقة حساب تكاليف البضاعة المباعة
B4: تكاليف البضاعة المباعة غالبا تكون للانشطة التي تبيع منتجات ملموسة و هي تكاليف متغيرة اي كلما زاد الانتاج او المبيعات زادت التكلفة والعكس صحيح وبالأمثلة توضح:- 1- محل يبيع ملابس كلما زادت المبيعات زادت تكاليف البضاعة المباعة لأنه راح يشتري كمية اكثر من المورد يعني يشتري من مورد 10 ريال ويبيعها في المحل ب 15 ريال وتكون تكلفة البضاعة المباعة هي 10 ريال 2-مصنع الاثاث كلما زادت المبيعات زادت تكاليف البضاعة المباعة وهي المواد الخام مثل (الخشب،الحديد،النحاس) ويكون المنتج النهائي هو الأثاث على سبيل المثال تكلفة انتاج كرسي من خشب وحديد وقماش هي 10 ريال وسعر البيع هو 15 ريال فإن تكلفة البضاعة المباعة 10 ريال 3-المطعم كلما زادت المبيعات زادت تكلفة البضاعة المباعة مثل (اللحم، الدجاج، الخبز) ويكون المنتج النهائي ساندويش على سبيل المثال تكلفة المواد الخام (دجاج، لحم،خبز لتحضير ساندويش هي 10 ريال وسعر البيع هو 15 ريال اي ان تكلفة البضاعة المباعة هي 10 ريال 4- عند تحديد مبلغ عمولة لموظف المبيعات لكل عملية بيع للمنتج على سبيل المثال ان قيمة المنتج 10 ريال وتكلفة شراء المنتج من المورد 5 ريال و العمولة الى موظف المبيعات هي 1 ريال في كل عملية بيع اي ان تكلفة البضاعة المباعة للمنتج هي 6 ريال (5 ريال للمورد + 1 ريال عمولة لموظف المبيعات)
P5: 10 | Q5: تكلفة شراء االبضاعة من المورد
P6: 5 | Q6: عمولة المبيعات (ان وجد)
P7: =SUM(P5:P6) -> 15 | Q7: تكلفة البضاعة المباعة

Sheet الأرباح والخسائر
C2: السنة الأولى | D2: السنة الثانية | E2: السنة الثالثة
B3: المبيعات
B4: =B29 -> منتج 1 | C4: =O29 -> 0
B5: =B30 -> منتج 2 | C5: =O30 -> 0
B6: =B31 -> منتج 3 | C6: =O31 -> 0
B7: =B32 -> منتج 4 | C7: =O32 -> 0
B8: =B33 -> منتج 5 | C8: =O33 -> 0
B9: =B34 -> منتج 6 | C9: =O34 -> 0
B10: =B38 -> منتج 10 | C10: =O38 -> 0
B11: اجمالي المبيعات | C11: =O39 -> 0 | D11: =O80 -> 0 | E11: =O120 -> 0
B12: تكلفة البضاعة المباعة | C12: =O41 -> 0 | D12: =O82 -> 0 | E12: =O122 -> 0
B13: اجمالي هامش الربح | C13: =(C11-C12) -> 0 | D13: =(D11-D12) -> 0 | E13: =(E11-E12) -> 0 | K13: المبيعات | L13: التكاليف والمصروفات | M13: الأرباح او الخسائر
B14: % اجمالي هامش الربح | C14: =C43 -> #DIV/0! | D14: =O84 -> #DIV/0! | E14: =O124 -> #DIV/0! | J14: السنة 1 | K14: =C11 -> 0 | L14: =(C12+C16+C18) -> 0 | M14: =(K14-L14) -> 0
B15: مصاريف التشغيل | J15: السنة 2 | K15: =D11 -> 0 | L15: =(D12+D16+D18) -> #VALUE! | M15: =(K15-L15) -> #VALUE!
B16: اجمالي مصاريف التشغيل | C16: =O54 -> 0 | D16: =O94 -> 0 | E16: =O134 -> 0 | J16: السنة 3 | K16: =E11 -> 0 | L16: =(E12+E16+E18) -> 0 | M16: =(K16-L16) -> 0
B17: مصروفات أخرى
B18: اجمالي المصاريف الأخرى | C18: =O61 -> 0 | D18: =O101 -> #VALUE! | E18: =O141 -> 0
B19: الأرباح او الخسائر
B20: صافي الربح او الخسارة | C20: =(C13-C16-C18) -> 0 | D20: =O103 -> #VALUE! | E20: =O143 -> 0
B21: هامش صافي الربح % | C21: =O64 -> #DIV/0! | D21: =O104 -> #VALUE! | E21: =O144 -> #DIV/0!
G24: الأرباح والخسائر للسنة الأولى
C27: شهر 1 | D27: شهر 2 | E27: شهر 3 | F27: شهر 4 | G27: شهر 5 | H27: شهر 6 | I27: شهر 7 | J27: شهر 8 | K27: شهر 9 | L27: شهر 10 | M27: شهر 11 | N27: شهر 12 | O27: الإجمالي السنوي
A28: + | B28: المبيعات
B29: =المبيعات!B34 -> منتج 1 | C29: =المبيعات!E34 -> 0 | D29: =المبيعات!F34 -> 0 | E29: =المبيعات!G34 -> 0 | F29: =المبيعات!H34 -> 0 | G29: =المبيعات!I34 -> 0 | H29: =المبيعات!J34 -> 0 | I29: =المبيعات!K34 -> 0 | J29: =المبيعات!L34 -> 0 | ... N29: =المبيعات!P34 -> 0 | O29: =SUM(C29:N29) -> 0
B30: =المبيعات!B35 -> منتج 2 | C30: =المبيعات!E35 -> 0 | D30: =المبيعات!F35 -> 0 | E30: =المبيعات!G35 -> 0 | F30: =المبيعات!H35 -> 0 | G30: =المبيعات!I35 -> 0 | H30: =المبيعات!J35 -> 0 | I30: =المبيعات!K35 -> 0 | J30: =المبيعات!L35 -> 0 | ... N30: =المبيعات!P35 -> 0 | O30: =SUM(C30:N30) -> 0
B31: =المبيعات!B36 -> منتج 3 | C31: =المبيعات!E36 -> 0 | D31: =المبيعات!F36 -> 0 | E31: =المبيعات!G36 -> 0 | F31: =المبيعات!H36 -> 0 | G31: =المبيعات!I36 -> 0 | H31: =المبيعات!J36 -> 0 | I31: =المبيعات!K36 -> 0 | J31: =المبيعات!L36 -> 0 | ... N31: =المبيعات!P36 -> 0 | O31: =SUM(C31:N31) -> 0
B32: =المبيعات!B37 -> منتج 4 | C32: =المبيعات!E37 -> 0 | D32: =المبيعات!F37 -> 0 | E32: =المبيعات!G37 -> 0 | F32: =المبيعات!H37 -> 0 | G32: =المبيعات!I37 -> 0 | H32: =المبيعات!J37 -> 0 | I32: =المبيعات!K37 -> 0 | J32: =المبيعات!L37 -> 0 | ... N32: =المبيعات!P37 -> 0 | O32: =SUM(C32:N32) -> 0
B33: =المبيعات!B38 -> منتج 5 | C33: =المبيعات!E38 -> 0 | D33: =المبيعات!F38 -> 0 | E33: =المبيعات!G38 -> 0 | F33: =المبيعات!H38 -> 0 | G33: =المبيعات!I38 -> 0 | H33: =المبيعات!J38 -> 0 | I33: =المبيعات!K38 -> 0 | J33: =المبيعات!L38 -> 0 | ... N33: =المبيعات!P38 -> 0 | O33: =SUM(C33:N33) -> 0
B34: =المبيعات!B39 -> منتج 6 | C34: =المبيعات!E39 -> 0 | D34: =المبيعات!F39 -> 0 | E34: =المبيعات!G39 -> 0 | F34: =المبيعات!H39 -> 0 | G34: =المبيعات!I39 -> 0 | H34: =المبيعات!J39 -> 0 | I34: =المبيعات!K39 -> 0 | J34: =المبيعات!L39 -> 0 | ... N34: =المبيعات!P39 -> 0 | O34: =SUM(C34:N34) -> 0
B35: =المبيعات!B40 -> منتج 7 | C35: =المبيعات!E40 -> 0 | D35: =المبيعات!F40 -> 0 | E35: =المبيعات!G40 -> 0 | F35: =المبيعات!H40 -> 0 | G35: =المبيعات!I40 -> 0 | H35: =المبيعات!J40 -> 0 | I35: =المبيعات!K40 -> 0 | J35: =المبيعات!L40 -> 0 | ... N35: =المبيعات!P40 -> 0 | O35: =SUM(C35:N35) -> 0
B36: =المبيعات!B41 -> منتج 8 | C36: =المبيعات!E41 -> 0 | D36: =المبيعات!F41 -> 0 | E36: =المبيعات!G41 -> 0 | F36: =المبيعات!H41 -> 0 | G36: =المبيعات!I41 -> 0 | H36: =المبيعات!J41 -> 0 | I36: =المبيعات!K41 -> 0 | J36: =المبيعات!L41 -> 0 | ... N36: =المبيعات!P41 -> 0 | O36: =SUM(C36:N36) -> 0
B37: =المبيعات!B42 -> منتج 9 | C37: =المبيعات!E42 -> 0 | D37: =المبيعات!F42 -> 0 | E37: =المبيعات!G42 -> 0 | F37: =المبيعات!H42 -> 0 | G37: =المبيعات!I42 -> 0 | H37: =المبيعات!J42 -> 0 | I37: =المبيعات!K42 -> 0 | J37: =المبيعات!L42 -> 0 | ... N37: =المبيعات!P42 -> 0 | O37: =SUM(C37:N37) -> 0
B38: =المبيعات!B43 -> منتج 10 | C38: =المبيعات!E43 -> 0 | D38: =المبيعات!F43 -> 0 | E38: =المبيعات!G43 -> 0 | F38: =المبيعات!H43 -> 0 | G38: =المبيعات!I43 -> 0 | H38: =المبيعات!J43 -> 0 | I38: =المبيعات!K43 -> 0 | J38: =المبيعات!L43 -> 0 | ... N38: =المبيعات!P43 -> 0 | O38: =SUM(C38:N38) -> 0
B39: اجمالي المبيعات | C39: =SUM(C29:C38) -> 0 | D39: =SUM(D29:D38) -> 0 | E39: =SUM(E29:E38) -> 0 | F39: =SUM(F29:F38) -> 0 | G39: =SUM(G29:G38) -> 0 | H39: =SUM(H29:H38) -> 0 | I39: =SUM(I29:I38) -> 0 | J39: =SUM(J29:J38) -> 0 | ... O39: =SUM(O29:O38) -> 0
B40: VAT | C40: =C39*'معلومات اضافية'!R10 -> 0 | D40: =D39*'معلومات اضافية'!R10 -> 0 | E40: =E39*'معلومات اضافية'!R10 -> 0 | F40: =F39*'معلومات اضافية'!R10 -> 0 | G40: =G39*'معلومات اضافية'!R10 -> 0 | H40: =H39*'معلومات اضافية'!R10 -> 0 | I40: =I39*'معلومات اضافية'!R10 -> 0 | J40: =J39*'معلومات اضافية'!R10 -> 0 | K40: =K39*'معلومات اضافية'!R10 -> 0 | L40: =L39*'معلومات اضافية'!R10 -> 0 | M40: =M39*'معلومات اضافية'!R10 -> 0 | N40: =N39*'معلومات اضافية'!R10 -> 0
B41: تكلفة البضاعة المباعة | C41: =المبيعات!E45 -> 0 | D41: =المبيعات!F45 -> 0 | E41: =المبيعات!G45 -> 0 | F41: =المبيعات!H45 -> 0 | G41: =المبيعات!I45 -> 0 | H41: =المبيعات!J45 -> 0 | I41: =المبيعات!K45 -> 0 | J41: =المبيعات!L45 -> 0 | ... N41: =المبيعات!P45 -> 0 | O41: =SUM(C41:N41) -> 0
B42: اجمالي هامش الربح | C42: =(C39-C41) -> 0 | D42: =(D39-D41) -> 0 | E42: =(E39-E41) -> 0 | F42: =(F39-F41) -> 0 | G42: =(G39-G41) -> 0 | H42: =(H39-H41) -> 0 | I42: =(I39-I41) -> 0 | J42: =(J39-J41) -> 0 | ... N42: =(N39-N41) -> 0 | O42: =SUM(C42:N42) -> 0
B43: % اجمالي هامش الربح | C43: =(C42/C39) -> #DIV/0! | D43: =(D42/D39) -> #DIV/0! | E43: =(E42/E39) -> #DIV/0! | F43: =(F42/F39) -> #DIV/0! | G43: =(G42/G39) -> #DIV/0! | H43: =(H42/H39) -> #DIV/0! | I43: =(I42/I39) -> #DIV/0! | J43: =(J42/J39) -> #DIV/0! | ... O43: =(O42/O39) -> #DIV/0!
A44: + | B44: مصاريف التشغيل
B45: =Startups -> مصاريف التشغيل قبل الافتتاح | C45: =StartupEpense -> 0 | O45: =SUM(C45:N45) -> 0
...

Sheet التدفقات النقدية (حساب البنك)
G3: التدفقات النقدية للسنة الأولى
C6: شهر 1 | D6: شهر 2 | E6: شهر 3 | F6: شهر 4 | G6: شهر 5 | H6: شهر 6 | I6: شهر 7 | J6: شهر 8 | K6: شهر 9 | L6: شهر 10 | M6: شهر 11 | N6: شهر 12 | O6: الإجمالي
B7: الكاش اللي دخل للمشروع
B8: المبيعات بالنقد | C8: =(المبيعات!E44*'معلومات اضافية'!$C$6) -> 0 | D8: =المبيعات!F44*'معلومات اضافية'!$C$6 -> 0 | E8: =المبيعات!G44*'معلومات اضافية'!$C$6 -> 0 | F8: =المبيعات!H44*'معلومات اضافية'!$C$6 -> 0 | G8: =المبيعات!I44*'معلومات اضافية'!$C$6 -> 0 | H8: =المبيعات!J44*'معلومات اضافية'!$C$6 -> 0 | I8: =المبيعات!K44*'معلومات اضافية'!$C$6 -> 0 | J8: =المبيعات!L44*'معلومات اضافية'!$C$6 -> 0 | K8: =المبيعات!M44*'معلومات اضافية'!$C$6 -> 0 | ... N8: =المبيعات!P44*'معلومات اضافية'!$C$6 -> 0 | O8: =SUM(C8:N8) -> 0
B9: المبيعات بالآجل | D9: =المبيعات!E44*'معلومات اضافية'!$C$7 -> 0 | E9: =(المبيعات!F44*'معلومات اضافية'!$C$7)+(المبيعات!E44*'معلومات اضافية'!$C$8) -> 0 | F9: =(المبيعات!G44*'معلومات اضافية'!$C$7)+(المبيعات!F44*'معلومات اضافية'!$C$8) -> 0 | G9: =(المبيعات!H44*'معلومات اضافية'!$C$7)+(المبيعات!G44*'معلومات اضافية'!$C$8) -> 0 | H9: =(المبيعات!I44*'معلومات اضافية'!$C$7)+(المبيعات!H44*'معلومات اضافية'!$C$8) -> 0 | I9: =(المبيعات!J44*'معلومات اضافية'!$C$7)+(المبيعات!I44*'معلومات اضافية'!$C$8) -> 0 | J9: =(المبيعات!K44*'معلومات اضافية'!$C$7)+(المبيعات!J44*'معلومات اضافية'!$C$8) -> 0 | K9: =(المبيعات!L44*'معلومات اضافية'!$C$7)+(المبيعات!K44*'معلومات اضافية'!$C$8) -> 0 | L9: =(المبيعات!M44*'معلومات اضافية'!$C$7)+(المبيعات!L44*'معلومات اضافية'!$C$8) -> 0 | ... N9: =(المبيعات!O44*'معلومات اضافية'!$C$7)+(المبيعات!N44*'معلومات اضافية'!$C$8) -> 0 | O9: =SUM(C9:N9) -> 0
B10: ضريبة القيمة المضافة (VAT) | C10: ='الأرباح والخسائر'!C40 -> 0 | D10: ='الأرباح والخسائر'!D40 -> 0 | E10: ='الأرباح والخسائر'!E40 -> 0 | F10: ='الأرباح والخسائر'!F40 -> 0 | G10: ='الأرباح والخسائر'!G40 -> 0 | H10: ='الأرباح والخسائر'!H40 -> 0 | I10: ='الأرباح والخسائر'!I40 -> 0 | J10: ='الأرباح والخسائر'!J40 -> 0 | ... N10: ='الأرباح والخسائر'!N40 -> 0 | O10: =SUM(C10:N10) -> 0
B11: اجمالي الكاش اللي دخل المشروع | C11: =SUM(C8:C10) -> 0 | D11: =SUM(D8:D10) -> 0 | E11: =SUM(E8:E10) -> 0 | F11: =SUM(F8:F10) -> 0 | G11: =SUM(G8:G10) -> 0 | H11: =SUM(H8:H10) -> 0 | I11: =SUM(I8:I10) -> 0 | J11: =SUM(J8:J10) -> 0 | ... N11: =SUM(N8:N10) -> 0 | O11: =SUM(C11:N11) -> 0
B12: الكاش اللي طلع من االمشروع
B13: الأصول الثابتة | C13: ='معلومات اضافية'!D30 -> 0 | D13: ='معلومات اضافية'!E30 -> 0 | E13: ='معلومات اضافية'!F30 -> 0 | F13: ='معلومات اضافية'!G30 -> 0 | G13: ='معلومات اضافية'!H30 -> 0 | H13: ='معلومات اضافية'!I30 -> 0 | I13: ='معلومات اضافية'!J30 -> 0 | J13: ='معلومات اضافية'!K30 -> 0 | ... N13: ='معلومات اضافية'!O30 -> 0 | O13: =SUM(C13:N13) -> 0
B14: تكلفة البضاعة المباعة | C14: =المبيعات!E45*'معلومات اضافية'!$C$14 -> 0 | D14: =(المبيعات!F45*'معلومات اضافية'!$C$14)+(المبيعات!E45*'معلومات اضافية'!$C$15) -> 0 | E14: =(المبيعات!G45*'معلومات اضافية'!$C$14)+(المبيعات!F45*'معلومات اضافية'!$C$15)+(المبيعات!E45*'معلومات اضافية'!$C$16) -> 0 | F14: =(المبيعات!H45*'معلومات اضافية'!$C$14)+(المبيعات!G45*'معلومات اضافية'!$C$15)+(المبيعات!F45*'معلومات اضافية'!$C$16) -> 0 | G14: =(المبيعات!I45*'معلومات اضافية'!$C$14)+(المبيعات!H45*'معلومات اضافية'!$C$15)+(المبيعات!G45*'معلومات اضافية'!$C$16) -> 0 | H14: =(المبيعات!J45*'معلومات اضافية'!$C$14)+(المبيعات!I45*'معلومات اضافية'!$C$15)+(المبيعات!H45*'معلومات اضافية'!$C$16) -> 0 | I14: =(المبيعات!K45*'معلومات اضافية'!$C$14)+(المبيعات!J45*'معلومات اضافية'!$C$15)+(المبيعات!I45*'معلومات اضافية'!$C$16) -> 0 | J14: =(المبيعات!L45*'معلومات اضافية'!$C$14)+(المبيعات!K45*'معلومات اضافية'!$C$15)+(المبيعات!J45*'معلومات اضافية'!$C$16) -> 0 | K14: =(المبيعات!M45*'معلومات اضافية'!$C$14)+(المبيعات!L45*'معلومات اضافية'!$C$15)+(المبيعات!K45*'معلومات اضافية'!$C$16) -> 0 | L14: =(المبيعات!N45*'معلومات اضافية'!$C$14)+(المبيعات!M45*'معلومات اضافية'!$C$15)+(المبيعات!L45*'معلومات اضافية'!$C$16) -> 0 | ... N14: =(المبيعات!P45*'معلومات اضافية'!$C$14)+(المبيعات!O45*'معلومات اضافية'!$C$15)+(المبيعات!N45*'معلومات اضافية'!$C$16) -> 0 | O14: =SUM(C14:N14) -> 0
B15: مخزون إضافي | O15: =SUM(C15:N15) -> 0
B16: مصارف التشغيل | C16: ='الأرباح والخسائر'!C54 -> 0 | D16: ='الأرباح والخسائر'!D54 -> 0 | E16: ='الأرباح والخسائر'!E54 -> 0 | F16: ='الأرباح والخسائر'!F54 -> 0 | G16: ='الأرباح والخسائر'!G54 -> 0 | H16: ='الأرباح والخسائر'!H54 -> 0 | I16: ='الأرباح والخسائر'!I54 -> 0 | J16: ='الأرباح والخسائر'!J54 -> 0 | ... N16: ='الأرباح والخسائر'!N54 -> 0 | O16: =SUM(C16:N16) -> 0
B17: الزكاة + الضريبة (VAT) | F17: =SUM(C10+D10+E10) -> 0 | I17: =SUM(F10+G10+H10) -> 0 | L17: =SUM(I10+J10+K10) -> 0 | O17: =SUM(C17:N17) -> 0
B18: دفعات سداد القروض | C18: =SUM(' سداد القروض '!C14:C15)+SUM(' سداد القروض '!C34:C35) -> 0 | D18: =SUM(' سداد القروض '!D14:D15)+SUM(' سداد القروض '!D34:D35) -> 0 | E18: =SUM(' سداد القروض '!E14:E15)+SUM(' سداد القروض '!E34:E35) -> 0 | F18: =SUM(' سداد القروض '!F14:F15)+SUM(' سداد القروض '!F34:F35) -> 0 | G18: =SUM(' سداد القروض '!G14:G15)+SUM(' سداد القروض '!G34:G35) -> 0 | H18: =SUM(' سداد القروض '!H14:H15)+SUM(' سداد القروض '!H34:H35) -> 0 | I18: =SUM(' سداد القروض '!I14:I15)+SUM(' سداد القروض '!I34:I35) -> 0 | J18: =SUM(' سداد القروض '!J14:J15)+SUM(' سداد القروض '!J34:J35) -> 0 | ... N18: =SUM(' سداد القروض '!N14:N15)+SUM(' سداد القروض '!N34:N35) -> 0 | O18: =SUM(C18:N18) -> 0
B19: اجمالي الكاش الخارج من المشروع | C19: =SUM(C13:C18) -> 0 | D19: =SUM(D13:D18) -> 0 | E19: =SUM(E13:E18) -> 0 | F19: =SUM(F13:F18) -> 0 | G19: =SUM(G13:G18) -> 0 | H19: =SUM(H13:H18) -> 0 | I19: =SUM(I13:I18) -> 0 | J19: =SUM(J13:J18) -> 0 | ... O19: =SUM(O13:O18) -> 0
B20: اجمالي الكاش في البنك
B21: الكاش اللي يدخل البنك شهريا | C21: =(C11-C19) -> 0 | D21: =(D11-D19) -> 0 | E21: =(E11-E19) -> 0 | F21: =(F11-F19) -> 0 | G21: =(G11-G19) -> 0 | H21: =(H11-H19) -> 0 | I21: =(I11-I19) -> 0 | J21: =(J11-J19) -> 0 | ... N21: =(N11-N19) -> 0
B22: إضافات مالية من صاحب المشروع
B23: رصيد الكاش في البنك | C23: =(C21)+WorkingCapital+C22 -> 0 | D23: =(C23+D21+D22) -> 0 | E23: =(D23+E21+E22) -> 0 | F23: =(E23+F21+F22) -> 0 | G23: =(F23+G21+G22) -> 0 | H23: =(G23+H21+H22) -> 0 | I23: =(H23+I21+I22) -> 0 | J23: =(I23+J21+J22) -> 0 | K23: =(J23+K21+K22) -> 0 | ... N23: =(M23+N21+N22) -> 0 | O23: =(N23) -> 0
C24: رصيد البنك بداية السنة | O24: رصيد البنك نهاية السنة
G25: التدفقات النقدية للسنة الثانية
C28: شهر 1 | D28: شهر 2 | E28: شهر 3 | F28: شهر 4 | G28: شهر 5 | H28: شهر 6 | I28: شهر 7 | J28: شهر 8 | K28: شهر 9 | L28: شهر 10 | M28: شهر 11 | N28: شهر 12 | O28: الإجمالي
B29: الكاش اللي دخل للمشروع
B30: المبيعات بالنقد | C30: =المبيعات!E74*'معلومات اضافية'!$D$6 -> 0 | D30: =المبيعات!F74*'معلومات اضافية'!$D$6 -> 0 | E30: =المبيعات!G74*'معلومات اضافية'!$D$6 -> 0 | F30: =المبيعات!H74*'معلومات اضافية'!$D$6 -> #VALUE! | G30: =المبيعات!I74*'معلومات اضافية'!$D$6 -> 0 | H30: =المبيعات!J74*'معلومات اضافية'!$D$6 -> 0 | I30: =المبيعات!K74*'معلومات اضافية'!$D$6 -> 0 | J30: =المبيعات!L74*'معلومات اضافية'!$D$6 -> 0 | ... N30: =المبيعات!P74*'معلومات اضافية'!$D$6 -> 0 | O30: =SUM(C30:N30) -> #VALUE!
B31: المبيعات بالآجل | D31: =المبيعات!E74*'معلومات اضافية'!$D$7 -> 0 | E31: =(المبيعات!F74*'معلومات اضافية'!$D$7)+(المبيعات!E74*'معلومات اضافية'!$D$8) -> 0 | F31: =(المبيعات!G74*'معلومات اضافية'!$D$7)+(المبيعات!F74*'معلومات اضافية'!$D$8) -> 0 | G31: =(المبيعات!H74*'معلومات اضافية'!$D$7)+(المبيعات!G74*'معلومات اضافية'!$D$8) -> #VALUE! | H31: =(المبيعات!I74*'معلومات اضافية'!$D$7)+(المبيعات!H74*'معلومات اضافية'!$D$8) -> #VALUE! | I31: =(المبيعات!J74*'معلومات اضافية'!$D$7)+(المبيعات!I74*'معلومات اضافية'!$D$8) -> 0 | J31: =(المبيعات!K74*'معلومات اضافية'!$D$7)+(المبيعات!J74*'معلومات اضافية'!$D$8) -> 0 | K31: =(المبيعات!L74*'معلومات اضافية'!$D$7)+(المبيعات!K74*'معلومات اضافية'!$D$8) -> 0 | L31: =(المبيعات!M74*'معلومات اضافية'!$D$7)+(المبيعات!L74*'معلومات اضافية'!$D$8) -> 0 | ... N31: =(المبيعات!O74*'معلومات اضافية'!$D$7)+(المبيعات!N74*'معلومات اضافية'!$D$8) -> 0 | O31: =SUM(C31:N31) -> #VALUE!
B32: ضريبة القيمة المضافة (VAT) | C32: ='الأرباح والخسائر'!C81 -> 0 | D32: ='الأرباح والخسائر'!D81 -> 0 | E32: ='الأرباح والخسائر'!E81 -> 0 | F32: ='الأرباح والخسائر'!F81 -> 0 | G32: ='الأرباح والخسائر'!G81 -> 0 | H32: ='الأرباح والخسائر'!H81 -> 0 | I32: ='الأرباح والخسائر'!I81 -> 0 | J32: ='الأرباح والخسائر'!J81 -> 0 | ... N32: ='الأرباح والخسائر'!N81 -> 0 | O32: =SUM(C32:N32) -> 0
B33: اجمالي الكاش اللي دخل المشروع | C33: =SUM(C30:C32) -> 0 | D33: =SUM(D30:D32) -> 0 | E33: =SUM(E30:E32) -> 0 | F33: =SUM(F30:F32) -> #VALUE! | G33: =SUM(G30:G32) -> #VALUE! | H33: =SUM(H30:H32) -> #VALUE! | I33: =SUM(I30:I32) -> 0 | J33: =SUM(J30:J32) -> 0 | ... N33: =SUM(N30:N32) -> 0 | O33: =SUM(C33:N33) -> #VALUE!
B34: الكاش اللي طلع من االمشروع
B35: الأصول الثابتة | C35: ='معلومات اضافية'!D43 -> 0 | D35: ='معلومات اضافية'!E43 -> 0 | E35: ='معلومات اضافية'!F43 -> 0 | F35: ='معلومات اضافية'!G43 -> 0 | G35: ='معلومات اضافية'!H43 -> 0 | H35: ='معلومات اضافية'!I43 -> 0 | I35: ='معلومات اضافية'!J43 -> 0 | J35: ='معلومات اضافية'!K43 -> 0 | ... N35: ='معلومات اضافية'!O43 -> 0 | O35: =SUM(C35:N35) -> 0
B36: تكلفة البضاعة المباعة | C36: =المبيعات!E75*'معلومات اضافية'!$D$14 -> 0 | D36: =(المبيعات!F75*'معلومات اضافية'!$D$14)+(المبيعات!E75*'معلومات اضافية'!$D$15) -> 0 | E36: =(المبيعات!G75*'معلومات اضافية'!$D$14)+(المبيعات!F75*'معلومات اضافية'!$D$15)+(المبيعات!E75*'معلومات اضافية'!$D$16) -> 0 | F36: =(المبيعات!H75*'معلومات اضافية'!$D$14)+(المبيعات!G75*'معلومات اضافية'!$D$15)+(المبيعات!F75*'معلومات اضافية'!$D$16) -> 0 | G36: =(المبيعات!I75*'معلومات اضافية'!$D$14)+(المبيعات!H75*'معلومات اضافية'!$D$15)+(المبيعات!G75*'معلومات اضافية'!$D$16) -> 0 | H36: =(المبيعات!J75*'معلومات اضافية'!$D$14)+(المبيعات!I75*'معلومات اضافية'!$D$15)+(المبيعات!H75*'معلومات اضافية'!$D$16) -> 0 | I36: =(المبيعات!K75*'معلومات اضافية'!$D$14)+(المبيعات!J75*'معلومات اضافية'!$D$15)+(المبيعات!I75*'معلومات اضافية'!$D$16) -> 0 | J36: =(المبيعات!L75*'معلومات اضافية'!$D$14)+(المبيعات!K75*'معلومات اضافية'!$D$15)+(المبيعات!J75*'معلومات اضافية'!$D$16) -> 0 | K36: =(المبيعات!M75*'معلومات اضافية'!$D$14)+(المبيعات!L75*'معلومات اضافية'!$D$15)+(المبيعات!K75*'معلومات اضافية'!$D$16) -> 0 | L36: =(المبيعات!N75*'معلومات اضافية'!$D$14)+(المبيعات!M75*'معلومات اضافية'!$D$15)+(المبيعات!L75*'معلومات اضافية'!$D$16) -> 0 | ... N36: =(المبيعات!P75*'معلومات اضافية'!$D$14)+(المبيعات!O75*'معلومات اضافية'!$D$15)+(المبيعات!N75*'معلومات اضافية'!$D$16) -> 0 | O36: =SUM(C36:N36) -> 0
B37: مخزون إضافي | O37: =SUM(C37:N37) -> 0
B38: مصارف التشغيل | C38: ='الأرباح والخسائر'!C94 -> 0 | D38: ='الأرباح والخسائر'!D94 -> 0 | E38: ='الأرباح والخسائر'!E94 -> 0 | F38: ='الأرباح والخسائر'!F94 -> 0 | G38: ='الأرباح والخسائر'!G94 -> 0 | H38: ='الأرباح والخسائر'!H94 -> 0 | I38: ='الأرباح والخسائر'!I94 -> 0 | J38: ='الأرباح والخسائر'!J94 -> 0 | ... N38: ='الأرباح والخسائر'!N94 -> 0 | O38: =SUM(C38:N38) -> 0
B39: الزكاة + الضريبة (VAT) | C39: =SUM(L10+M10+N10)+'الأرباح والخسائر'!O100 -> 0 | F39: =SUM(C32+D32+E32) -> 0 | I39: =SUM(F32+G32+H32) -> 0 | L39: =SUM(I32+J32+K32) -> 0 | O39: =SUM(C39:N39) -> 0
B40: دفعات القروض+ الفوائد | C40: =SUM(' سداد القروض '!C18:C19)+SUM(' سداد القروض '!C38:C39) -> 0 | D40: =SUM(' سداد القروض '!D18:D19)+SUM(' سداد القروض '!D38:D39) -> 0 | E40: =SUM(' سداد القروض '!E18:E19)+SUM(' سداد القروض '!E38:E39) -> 0 | F40: =SUM(' سداد القروض '!F18:F19)+SUM(' سداد القروض '!F38:F39) -> 0 | G40: =SUM(' سداد القروض '!G18:G19)+SUM(' سداد القروض '!G38:G39) -> 0 | H40: =SUM(' سداد القروض '!H18:H19)+SUM(' سداد القروض '!H38:H39) -> 0 | I40: =SUM(' سداد القروض '!I18:I19)+SUM(' سداد القروض '!I38:I39) -> 0 | J40: =SUM(' سداد القروض '!J18:J19)+SUM(' سداد القروض '!J38:J39) -> 0 | ... N40: =SUM(' سداد القروض '!N18:N19)+SUM(' سداد القروض '!N38:N39) -> 0 | O40: =SUM(C40:N40) -> 0
B41: اجمالي الكاش الخارج من المشروع | C41: =SUM(C35:C40) -> 0 | D41: =SUM(D35:D40) -> 0 | E41: =SUM(E35:E40) -> 0 | F41: =SUM(F35:F40) -> 0 | G41: =SUM(G35:G40) -> 0 | H41: =SUM(H35:H40) -> 0 | I41: =SUM(I35:I40) -> 0 | J41: =SUM(J35:J40) -> 0 | ... O41: =SUM(O35:O40) -> 0
B42: اجمالي الكاش في البنك
B43: الكاش اللي يدخل البنك شهريا | C43: =(C33-C41) -> 0 | D43: =(D33-D41) -> 0 | E43: =(E33-E41) -> 0 | F43: =(F33-F41) -> #VALUE! | G43: =(G33-G41) -> #VALUE! | H43: =(H33-H41) -> #VALUE! | I43: =(I33-I41) -> 0 | J43: =(J33-J41) -> 0 | ... N43: =(N33-N41) -> 0
B44: إضافات مالية من صاحب المشروع
B45: رصيد الكاش في البنك | C45: =(C43+O23+C44) -> 0 | D45: =(C45+D43+D44) -> 0 | E45: =(D45+E43+E44) -> 0 | F45: =(E45+F43+F44) -> #VALUE! | G45: =(F45+G43+G44) -> #VALUE! | H45: =(G45+H43+H44) -> #VALUE! | I45: =(H45+I43+I44) -> #VALUE! | J45: =(I45+J43+J44) -> #VALUE! | K45: =(J45+K43+K44) -> #VALUE! | ... N45: =(M45+N43+N44) -> #VALUE! | O45: =(N45) -> #VALUE!
C46: رصيد البنك بداية السنة | O46: رصيد البنك نهاية السنة
...

Sheet  سداد القروض  
B7: =قرض_بنك -> قرض بنك
B8: مبلغ القرض | C8: =BankLoan -> 0
B9: نسبة الفائدة | C9: =IntrestRate -> 0.04
B10: مدة سداد (الأشهر) | C10: =PaymentsInMonths -> 60
B11: الدفعة الشهرية | C11: =ABS(PMT(C9/12,C10,C8)) -> 0
C12: شهر 1 | D12: شهر 2 | E12: شهر 3 | F12: شهر 4 | G12: شهر 5 | H12: شهر 6 | I12: شهر 7 | J12: شهر 8 | K12: شهر 9 | L12: شهر 10 | M12: شهر 11 | N12: شهر 12 | O12: الأجمالي
B13: السنة الأولى
B14: الفائدة | C14: =IF($C$10<1,0,ABS(IPMT($C$9/12,1,$C$10,$C$8))) -> 0 | D14: =IF($C$10<2,0,ABS(IPMT($C$9/12,2,$C$10,$C$8))) -> 0 | E14: =IF($C$10<3,0,ABS(IPMT($C$9/12,3,$C$10,$C$8))) -> 0 | F14: =IF($C$10<4,0,ABS(IPMT($C$9/12,4,$C$10,$C$8))) -> 0 | G14: =IF($C$10<5,0,ABS(IPMT($C$9/12,5,$C$10,$C$8))) -> 0 | H14: =IF($C$10<6,0,ABS(IPMT($C$9/12,6,$C$10,$C$8))) -> 0 | I14: =IF($C$10<7,0,ABS(IPMT($C$9/12,7,$C$10,$C$8))) -> 0 | J14: =IF($C$10<8,0,ABS(IPMT($C$9/12,8,$C$10,$C$8))) -> 0 | K14: =IF($C$10<9,0,ABS(IPMT($C$9/12,9,$C$10,$C$8))) -> 0 | L14: =IF($C$10<10,0,ABS(IPMT($C$9/12,10,$C$10,$C$8))) -> 0 | M14: =IF($C$10<11,0,ABS(IPMT($C$9/12,11,$C$10,$C$8))) -> 0 | N14: =IF($C$10<12,0,ABS(IPMT($C$9/12,12,$C$10,$C$8))) -> 0 | O14: =SUM(C14:N14) -> 0
B15: الأساسي | C15: =IF($C$10<1,0,ABS(PPMT($C$9/12,1,$C$10,$C$8))) -> 0 | D15: =IF($C$10<2,0,ABS(PPMT($C$9/12,2,$C$10,$C$8))) -> 0 | E15: =IF($C$10<3,0,ABS(PPMT($C$9/12,3,$C$10,$C$8))) -> 0 | F15: =IF($C$10<4,0,ABS(PPMT($C$9/12,4,$C$10,$C$8))) -> 0 | G15: =IF($C$10<5,0,ABS(PPMT($C$9/12,5,$C$10,$C$8))) -> 0 | H15: =IF($C$10<6,0,ABS(PPMT($C$9/12,6,$C$10,$C$8))) -> 0 | I15: =IF($C$10<7,0,ABS(PPMT($C$9/12,7,$C$10,$C$8))) -> 0 | J15: =IF($C$10<8,0,ABS(PPMT($C$9/12,8,$C$10,$C$8))) -> 0 | K15: =IF($C$10<9,0,ABS(PPMT($C$9/12,9,$C$10,$C$8))) -> 0 | L15: =IF($C$10<10,0,ABS(PPMT($C$9/12,10,$C$10,$C$8))) -> 0 | M15: =IF($C$10<11,0,ABS(PPMT($C$9/12,11,$C$10,$C$8))) -> 0 | N15: =IF($C$10<12,0,ABS(PPMT($C$9/12,12,$C$10,$C$8))) -> 0 | O15: =SUM(C15:N15) -> 0
B16: رصيد القرض المتبقي | C16: =$C$8-C15 -> 0 | D16: =C16-D15 -> 0 | E16: =D16-E15 -> 0 | F16: =E16-F15 -> 0 | G16: =F16-G15 -> 0 | H16: =G16-H15 -> 0 | I16: =H16-I15 -> 0 | J16: =I16-J15 -> 0 | K16: =J16-K15 -> 0 | ... N16: =M16-N15 -> 0
B17: السنة الثانية
B18: الفائدة | C18: =IF($C$10<13,0,ABS(IPMT($C$9/12,13,$C$10,$C$8))) -> 0 | D18: =IF($C$10<14,0,ABS(IPMT($C$9/12,14,$C$10,$C$8))) -> 0 | E18: =IF($C$10<15,0,ABS(IPMT($C$9/12,15,$C$10,$C$8))) -> 0 | F18: =IF($C$10<16,0,ABS(IPMT($C$9/12,16,$C$10,$C$8))) -> 0 | G18: =IF($C$10<17,0,ABS(IPMT($C$9/12,17,$C$10,$C$8))) -> 0 | H18: =IF($C$10<18,0,ABS(IPMT($C$9/12,18,$C$10,$C$8))) -> 0 | I18: =IF($C$10<19,0,ABS(IPMT($C$9/12,19,$C$10,$C$8))) -> 0 | J18: =IF($C$10<20,0,ABS(IPMT($C$9/12,20,$C$10,$C$8))) -> 0 | K18: =IF($C$10<21,0,ABS(IPMT($C$9/12,21,$C$10,$C$8))) -> 0 | L18: =IF($C$10<22,0,ABS(IPMT($C$9/12,22,$C$10,$C$8))) -> 0 | M18: =IF($C$10<23,0,ABS(IPMT($C$9/12,23,$C$10,$C$8))) -> 0 | N18: =IF($C$10<24,0,ABS(IPMT($C$9/12,24,$C$10,$C$8))) -> 0 | O18: =SUM(C18:N18) -> 0
B19: الأساسي | C19: =IF($C$10<13,0,ABS(PPMT($C$9/12,13,$C$10,$C$8))) -> 0 | D19: =IF($C$10<14,0,ABS(PPMT($C$9/12,14,$C$10,$C$8))) -> 0 | E19: =IF($C$10<15,0,ABS(PPMT($C$9/12,15,$C$10,$C$8))) -> 0 | F19: =IF($C$10<16,0,ABS(PPMT($C$9/12,16,$C$10,$C$8))) -> 0 | G19: =IF($C$10<17,0,ABS(PPMT($C$9/12,17,$C$10,$C$8))) -> 0 | H19: =IF($C$10<18,0,ABS(PPMT($C$9/12,18,$C$10,$C$8))) -> 0 | I19: =IF($C$10<19,0,ABS(PPMT($C$9/12,19,$C$10,$C$8))) -> 0 | J19: =IF($C$10<20,0,ABS(PPMT($C$9/12,20,$C$10,$C$8))) -> 0 | K19: =IF($C$10<21,0,ABS(PPMT($C$9/12,21,$C$10,$C$8))) -> 0 | L19: =IF($C$10<22,0,ABS(PPMT($C$9/12,22,$C$10,$C$8))) -> 0 | M19: =IF($C$10<23,0,ABS(PPMT($C$9/12,23,$C$10,$C$8))) -> 0 | N19: =IF($C$10<24,0,ABS(PPMT($C$9/12,24,$C$10,$C$8))) -> 0 | O19: =SUM(C19:N19) -> 0
B20: رصيد القرض المتبقي | C20: =N16-C19 -> 0 | D20: =C20-D19 -> 0 | E20: =D20-E19 -> 0 | F20: =E20-F19 -> 0 | G20: =F20-G19 -> 0 | H20: =G20-H19 -> 0 | I20: =H20-I19 -> 0 | J20: =I20-J19 -> 0 | K20: =J20-K19 -> 0 | ... N20: =M20-N19 -> 0
B21: السنة الثالثة
B22: الفائدة | C22: =IF($C$10<25,0,ABS(IPMT($C$9/12,25,$C$10,$C$8))) -> 0 | D22: =IF($C$10<26,0,ABS(IPMT($C$9/12,26,$C$10,$C$8))) -> 0 | E22: =IF($C$10<27,0,ABS(IPMT($C$9/12,27,$C$10,$C$8))) -> 0 | F22: =IF($C$10<28,0,ABS(IPMT($C$9/12,28,$C$10,$C$8))) -> 0 | G22: =IF($C$10<29,0,ABS(IPMT($C$9/12,29,$C$10,$C$8))) -> 0 | H22: =IF($C$10<30,0,ABS(IPMT($C$9/12,30,$C$10,$C$8))) -> 0 | I22: =IF($C$10<31,0,ABS(IPMT($C$9/12,31,$C$10,$C$8))) -> 0 | J22: =IF($C$10<32,0,ABS(IPMT($C$9/12,32,$C$10,$C$8))) -> 0 | K22: =IF($C$10<33,0,ABS(IPMT($C$9/12,33,$C$10,$C$8))) -> 0 | L22: =IF($C$10<34,0,ABS(IPMT($C$9/12,34,$C$10,$C$8))) -> 0 | M22: =IF($C$10<35,0,ABS(IPMT($C$9/12,35,$C$10,$C$8))) -> 0 | N22: =IF($C$10<36,0,ABS(IPMT($C$9/12,36,$C$10,$C$8))) -> 0 | O22: =SUM(C22:N22) -> 0
B23: الأساسي | C23: =IF($C$10<25,0,ABS(PPMT($C$9/12,25,$C$10,$C$8))) -> 0 | D23: =IF($C$10<26,0,ABS(PPMT($C$9/12,26,$C$10,$C$8))) -> 0 | E23: =IF($C$10<27,0,ABS(PPMT($C$9/12,27,$C$10,$C$8))) -> 0 | F23: =IF($C$10<28,0,ABS(PPMT($C$9/12,28,$C$10,$C$8))) -> 0 | G23: =IF($C$10<29,0,ABS(PPMT($C$9/12,29,$C$10,$C$8))) -> 0 | H23: =IF($C$10<30,0,ABS(PPMT($C$9/12,30,$C$10,$C$8))) -> 0 | I23: =IF($C$10<31,0,ABS(PPMT($C$9/12,31,$C$10,$C$8))) -> 0 | J23: =IF($C$10<32,0,ABS(PPMT($C$9/12,32,$C$10,$C$8))) -> 0 | K23: =IF($C$10<33,0,ABS(PPMT($C$9/12,33,$C$10,$C$8))) -> 0 | L23: =IF($C$10<34,0,ABS(PPMT($C$9/12,34,$C$10,$C$8))) -> 0 | M23: =IF($C$10<35,0,ABS(PPMT($C$9/12,35,$C$10,$C$8))) -> 0 | N23: =IF($C$10<36,0,ABS(PPMT($C$9/12,36,$C$10,$C$8))) -> 0 | O23: =SUM(C23:N23) -> 0
B24: رصيد القرض المتبقي | C24: =N20-C23 -> 0 | D24: =C24-D23 -> 0 | E24: =D24-E23 -> 0 | F24: =E24-F23 -> 0 | G24: =F24-G23 -> 0 | H24: =G24-H23 -> 0 | I24: =H24-I23 -> 0 | J24: =I24-J23 -> 0 | K24: =J24-K23 -> 0 | ... N24: =M24-N23 -> 0
N25: رصيد القرض المتبقي
B27: =قروض_من_اشخاص -> قروض او ديون أخرى
B28: مبلغ القرض او السلفة | C28: =قيمة_القرض -> 0
B29: نسبة الفائدة | C29: =نسبة_الفائدة -> 0
B30: مدة سداد (الأشهر) | C30: =مدة_السداد -> 12
B31: الدفعة الشهرية | C31: =الدفعة_الشهرية -> 0
C32: شهر 1 | D32: شهر 2 | E32: شهر 3 | F32: شهر 4 | G32: شهر 5 | H32: شهر 6 | I32: شهر 7 | J32: شهر 8 | K32: شهر 9 | L32: شهر 10 | M32: شهر 11 | N32: شهر 12 | O32: الأجمالي
B33: السنة الأولى
B34: الفائدة | C34: =IF($C$30<1,0,ABS(IPMT($C$29/12,1,$C$30,$C$28))) -> 0 | D34: =IF($C$30<2,0,ABS(IPMT($C$29/12,2,$C$30,$C$28))) -> 0 | E34: =IF($C$30<3,0,ABS(IPMT($C$29/12,3,$C$30,$C$28))) -> 0 | F34: =IF($C$30<4,0,ABS(IPMT($C$29/12,4,$C$30,$C$28))) -> 0 | G34: =IF($C$30<5,0,ABS(IPMT($C$29/12,5,$C$30,$C$28))) -> 0 | H34: =IF($C$30<6,0,ABS(IPMT($C$29/12,6,$C$30,$C$28))) -> 0 | I34: =IF($C$30<7,0,ABS(IPMT($C$29/12,7,$C$30,$C$28))) -> 0 | J34: =IF($C$30<8,0,ABS(IPMT($C$29/12,8,$C$30,$C$28))) -> 0 | K34: =IF($C$30<9,0,ABS(IPMT($C$29/12,9,$C$30,$C$28))) -> 0 | L34: =IF($C$30<10,0,ABS(IPMT($C$29/12,10,$C$30,$C$28))) -> 0 | M34: =IF($C$30<11,0,ABS(IPMT($C$29/12,11,$C$30,$C$28))) -> 0 | N34: =IF($C$30<12,0,ABS(IPMT($C$29/12,12,$C$30,$C$28))) -> 0 | O34: =SUM(C34:N34) -> 0
B35: الأساسي | C35: =IF($C$30<1,0,ABS(PPMT($C$29/12,1,$C$30,$C$28))) -> 0 | D35: =IF($C$30<2,0,ABS(PPMT($C$29/12,2,$C$30,$C$28))) -> 0 | E35: =IF($C$30<3,0,ABS(PPMT($C$29/12,3,$C$30,$C$28))) -> 0 | F35: =IF($C$30<4,0,ABS(PPMT($C$29/12,4,$C$30,$C$28))) -> 0 | G35: =IF($C$30<5,0,ABS(PPMT($C$29/12,5,$C$30,$C$28))) -> 0 | H35: =IF($C$30<6,0,ABS(PPMT($C$29/12,6,$C$30,$C$28))) -> 0 | I35: =IF($C$30<7,0,ABS(PPMT($C$29/12,7,$C$30,$C$28))) -> 0 | J35: =IF($C$30<8,0,ABS(PPMT($C$29/12,8,$C$30,$C$28))) -> 0 | K35: =IF($C$30<9,0,ABS(PPMT($C$29/12,9,$C$30,$C$28))) -> 0 | L35: =IF($C$30<10,0,ABS(PPMT($C$29/12,10,$C$30,$C$28))) -> 0 | M35: =IF($C$30<11,0,ABS(PPMT($C$29/12,11,$C$30,$C$28))) -> 0 | N35: =IF($C$30<12,0,ABS(PPMT($C$29/12,12,$C$30,$C$28))) -> 0 | O35: =SUM(C35:N35) -> 0
B36: رصيد القرض المتبقي | C36: =$C$28-C35 -> 0 | D36: =C36-D35 -> 0 | E36: =D36-E35 -> 0 | F36: =E36-F35 -> 0 | G36: =F36-G35 -> 0 | H36: =G36-H35 -> 0 | I36: =H36-I35 -> 0 | J36: =I36-J35 -> 0 | K36: =J36-K35 -> 0 | ... N36: =M36-N35 -> 0 | O36: 0
B37: السنة الثانية
B38: الفائدة | C38: =IF($C$30<13,0,ABS(IPMT($C$29/12,13,$C$30,$C$28))) -> 0 | D38: =IF($C$30<14,0,ABS(IPMT($C$29/12,14,$C$30,$C$28))) -> 0 | E38: =IF($C$30<15,0,ABS(IPMT($C$29/12,15,$C$30,$C$28))) -> 0 | F38: =IF($C$30<16,0,ABS(IPMT($C$29/12,16,$C$30,$C$28))) -> 0 | G38: =IF($C$30<17,0,ABS(IPMT($C$29/12,17,$C$30,$C$28))) -> 0 | H38: =IF($C$30<18,0,ABS(IPMT($C$29/12,18,$C$30,$C$28))) -> 0 | I38: =IF($C$30<19,0,ABS(IPMT($C$29/12,19,$C$30,$C$28))) -> 0 | J38: =IF($C$30<20,0,ABS(IPMT($C$29/12,20,$C$30,$C$28))) -> 0 | K38: =IF($C$30<21,0,ABS(IPMT($C$29/12,21,$C$30,$C$28))) -> 0 | L38: =IF($C$30<22,0,ABS(IPMT($C$29/12,22,$C$30,$C$28))) -> 0 | M38: =IF($C$30<23,0,ABS(IPMT($C$29/12,23,$C$30,$C$28))) -> 0 | N38: =IF($C$30<24,0,ABS(IPMT($C$29/12,24,$C$30,$C$28))) -> 0 | O38: =SUM(C38:N38) -> 0
B39: الأساسي | C39: =IF($C$30<13,0,ABS(PPMT($C$29/12,13,$C$30,$C$28))) -> 0 | D39: =IF($C$30<14,0,ABS(PPMT($C$29/12,14,$C$30,$C$28))) -> 0 | E39: =IF($C$30<15,0,ABS(PPMT($C$29/12,15,$C$30,$C$28))) -> 0 | F39: =IF($C$30<16,0,ABS(PPMT($C$29/12,16,$C$30,$C$28))) -> 0 | G39: =IF($C$30<17,0,ABS(PPMT($C$29/12,17,$C$30,$C$28))) -> 0 | H39: =IF($C$30<18,0,ABS(PPMT($C$29/12,18,$C$30,$C$28))) -> 0 | I39: =IF($C$30<19,0,ABS(PPMT($C$29/12,19,$C$30,$C$28))) -> 0 | J39: =IF($C$30<20,0,ABS(PPMT($C$29/12,20,$C$30,$C$28))) -> 0 | K39: =IF($C$30<21,0,ABS(PPMT($C$29/12,21,$C$30,$C$28))) -> 0 | L39: =IF($C$30<22,0,ABS(PPMT($C$29/12,22,$C$30,$C$28))) -> 0 | M39: =IF($C$30<23,0,ABS(PPMT($C$29/12,23,$C$30,$C$28))) -> 0 | N39: =IF($C$30<24,0,ABS(PPMT($C$29/12,24,$C$30,$C$28))) -> 0 | O39: =SUM(C39:N39) -> 0
B40: رصيد القرض المتبقي | C40: =N36-C39 -> 0 | D40: =C40-D39 -> 0 | E40: =D40-E39 -> 0 | F40: =E40-F39 -> 0 | G40: =F40-G39 -> 0 | H40: =G40-H39 -> 0 | I40: =H40-I39 -> 0 | J40: =I40-J39 -> 0 | K40: =J40-K39 -> 0 | ... N40: =M40-N39 -> 0 | O40: 0
B41: السنة الثالثة
B42: الفائدة | C42: =IF($C$30<25,0,ABS(IPMT($C$29/12,25,$C$30,$C$28))) -> 0 | D42: =IF($C$30<26,0,ABS(IPMT($C$29/12,26,$C$30,$C$28))) -> 0 | E42: =IF($C$30<27,0,ABS(IPMT($C$29/12,27,$C$30,$C$28))) -> 0 | F42: =IF($C$30<28,0,ABS(IPMT($C$29/12,28,$C$30,$C$28))) -> 0 | G42: =IF($C$30<29,0,ABS(IPMT($C$29/12,29,$C$30,$C$28))) -> 0 | H42: =IF($C$30<30,0,ABS(IPMT($C$29/12,30,$C$30,$C$28))) -> 0 | I42: =IF($C$30<31,0,ABS(IPMT($C$29/12,31,$C$30,$C$28))) -> 0 | J42: =IF($C$30<32,0,ABS(IPMT($C$29/12,32,$C$30,$C$28))) -> 0 | K42: =IF($C$30<33,0,ABS(IPMT($C$29/12,33,$C$30,$C$28))) -> 0 | L42: =IF($C$30<34,0,ABS(IPMT($C$29/12,34,$C$30,$C$28))) -> 0 | M42: =IF($C$30<35,0,ABS(IPMT($C$29/12,35,$C$30,$C$28))) -> 0 | N42: =IF($C$30<36,0,ABS(IPMT($C$29/12,36,$C$30,$C$28))) -> 0 | O42: =SUM(C42:N42) -> 0
