Workbook
Name BankLoan: 'تكاليف التأسيس'!$G$36
Name Buildings: 'تكاليف التأسيس'!$F$7
Name Capital: 'تكاليف التأسيس'!$G$38
Name Equipment: 'تكاليف التأسيس'!$F$9
Name Furniture: 'تكاليف التأسيس'!$F$10
Name IntrestRate: 'تكاليف التأسيس'!$H$36
Name LAND: 'تكاليف التأسيس'!$F$6
Name LeaseImprovements: 'تكاليف التأسيس'!$F$8
Name MonthlyPayment: 'تكاليف التأسيس'!$J$36
Name OtherFixedAssets: 'تكاليف التأسيس'!$F$12
Name PaymentsInMonths: 'تكاليف التأسيس'!$I$36
Name s: 'تكاليف التأسيس'!$C$26
Name startup: 'تكاليف التأسيس'!$C$26
Name StartupEpense: 'تكاليف التأسيس'!$G$26
Name StartupExpense: 'تكاليف التأسيس'!$G$26
Name Startups: 'تكاليف التأسيس'!$C$15
Name Vehicles: 'تكاليف التأسيس'!$F$11
Name WorkingCapital: 'تكاليف التأسيس'!$F$28
Name أصول_ثابتة_أخرى: 'تكاليف التأسيس'!$F$12
Name الأثاث: 'تكاليف التأسيس'!$F$10
Name الاراضي: 'تكاليف التأسيس'!$F$6
Name الآلات: 'تكاليف التأسيس'!$F$9
Name الايجار: المصروفات!$B$21
Name الدفعة_الشهرية: 'تكاليف التأسيس'!$J$37
Name السيارات: 'تكاليف التأسيس'!$F$11
Name المباني: 'تكاليف التأسيس'!$F$7
Name ترميم: 'تكاليف التأسيس'!$F$8
Name ضريبة_الدخل: #REF!
Name قرض_بنك: 'تكاليف التأسيس'!$D$36
Name قروض_من_اشخاص: 'تكاليف التأسيس'!$D$37
Name قيمة_القرض: 'تكاليف التأسيس'!$G$37
Name مدة_السداد: 'تكاليف التأسيس'!$I$37
Name نسبة_الفائدة: 'تكاليف التأسيس'!$H$37

Sheet مقدمة
A1: من خلال هذا الملف فيه تستطيع عمل الجانب المالي لدراسة جدوى مبسطة نصائح عامة:- 1- لاتقم بتعديل المعادلات، فقط قم بتعبئة الحقول المخصصة 2- لا تبالغ في المبيعات وتقلل المصروفات، كن عقلانيا فقط 3- لا تقلق من صحة الارقام لانها توقعات مستقبلية 4- السنة الأولى سنة تأسيس وليست ارباح، لذلك احرص على وجود سيولة كافية | H1: المصدر
H11: https://salla.sa/alsaqaeh
J17: المدخلات
J19: المخرجات
J21: معلومات

Sheet تكاليف التأسيس
A1: ملحوظة هامة أستخدام القروض كمصدر لتمويل المشروع طبقا للشريعة الأسلامية حرام لأنه ربا ويمكن أستخدام مصادر أخري للتمويل متوافقة مع الشريعة الأسلامية
F4: المبلغ | G4: الإجمالي | H4: الاهلاك
C5: الأصول الثابتة | H5: بالسنوات
D6: الأراضي | F6: 0 | H6: 0
D7: المباني | F7: 0 | H7: 50
D8: ترميم مبنى مستأجر | F8: 0 | H8: 10
D9: الآلات والمعدات | F9: 0 | H9: 7
D10: الأثاث | F10: 0 | H10: 5
D11: السيارات | F11: 0 | H11: 5
D12: أصول ثابتة أخرى | F12: 0 | H12: 5
C13: اجمالي الأصول الثابتة | G13: =SUM(F6:F12) -> 0
C15: مصاريف التشغيل قبل الافتتاح
D16: رواتب الموظفين ما قبل الافتتاح
D17: دفع رسوم التأمين الصحي (مقدم سنة)
D18: المخزون
D19: المصاريف القانونية والمحاسبية
D20: مبلغ الأيجار (مقدم 6 اشهر)
D21: تأسيس الخدمات (كهرباء،انترنت،ماء)
D22: الموردين
D23: مصاريف التسويق قبل الافتتاح
D24: الرخص الحكومية
D25: مصاريف تأسيس أخرى
C26: اجمالي مصاريف التشغيل قبل الافتتاح | G26: =SUM(F16:F25) -> 0
D28: رأس المال العامل | E28: 150000
B30: اجمالي رأس المال لبدأ المشروع | G30: =G13+G26+F28 -> 0
B32: مصادر رأس المال لبدأ المشروع | F32: النسبة من رأس المال | G32: المبلغ الإجمالي | H32: نسبة الفائدة | I32: مدة السداد (بالأشهر) | J32: الدفعات الشهرية
C33: مدخرات شخصية للملاك | F33: =IF(G33=0,0,G33/$G$38) -> 0
C34: مستثمر خارجي | F34: =IF(G34=0,0,G34/$G$38) -> 0
C35: قروض او ديون إضافية
D36: قرض بنك | F36: =IF(G36=0,0,G36/$G$38) -> 0 | H36: 0.04 | I36: 60 | J36: =ABS(IF(G36=0,0,PMT(H36/12,I36,G36))) -> 0
D37: قروض او ديون أخرى | F37: =IF(G37=0,0,G37/$G$38) -> 0 | H37: 0 | I37: 12 | J37: =ABS(IF(G37=0,0,PMT(H37/12,I37,G37))) -> 0
B38: اجمالي مبلغ رأس المال | D38: الخلية H 41 لازم تساوي خلية H 30 | G38: =SUM(G33:G37) -> 0 | J38: =SUM(J36:J37) -> 0
D39: =IF(G39>0,"تحتاج رفع رأس المال (مبلغ) >> ",IF(G39<C387,"تحتاج خفض رأس المال (مبلغ) >>","تم تغطية رأس المال بالكامل (متوازن)")) -> تم تغطية رأس المال بالكامل (متوازن) | G39: =(G30-G38) -> 0

Sheet المبيعات
G3: المبيعات | H3: تكلفة البضاعة المباعة | I3: هامش الربح
F4: السنة 1 | G4: =Q44 -> 0 | H4: =Q45 -> 0 | I4: =Q46 -> 0
F5: السنة 2 | G5: =Q74 -> 0 | H5: =Q75 -> 0 | I5: =Q76 -> 0
F6: السنة 3 | G6: =Q106 -> 0 | H6: =Q107 -> 0 | I6: =Q108 -> 0
B18: اكمل هذا الجدول | E18: شهر 1 | F18: شهر 2 | G18: شهر 3 | H18: شهر 4 | I18: شهر 5 | J18: شهر 6 | K18: شهر 7 | L18: شهر 8 | M18: شهر 9 | N18: شهر 10 | O18: شهر 11 | P18: شهر 12
B19: اسم المنتج او الخدمة | C19: سعر البيع للوحدة | D19: تكلفة البضاعة المباعة | E19: عدد الوحدات المباعه لكل شهر ( السنة الأولى) | Q19: اجمالي عدد الوحدات لسنة الأولى
Q20: =SUM(E20:P20) -> 0
Q21: =SUM(E21:P21) -> 0
Q22: =SUM(E22:P22) -> 0
Q23: =SUM(E23:P23) -> 0
Q24: =SUM(E24:P24) -> 0
Q25: =SUM(E25:P25) -> 0
Q26: =SUM(C26:P26) -> 0
Q27: =SUM(E27:P27) -> 0
Q28: =SUM(E28:P28) -> 0
Q29: =SUM(E29:P29) -> 0
B30: عدد الوحدات المباعة لكل شهر | E30: =SUM(E20:E29) -> 0 | F30: =SUM(F20:F29) -> 0 | G30: =SUM(G20:G29) -> 0 | H30: =SUM(H20:H29) -> 0 | I30: =SUM(I20:I29) -> 0 | J30: =SUM(J20:J29) -> 0 | K30: =SUM(K20:K29) -> 0 | L30: =SUM(L20:L29) -> 0 | ... Q30: =SUM(Q20:Q29) -> 0
E32: شهر 1 | F32: شهر 2 | G32: شهر 3 | H32: شهر 4 | I32: شهر 5 | J32: شهر 6 | K32: شهر 7 | L32: شهر 8 | M32: شهر 9 | N32: شهر 10 | O32: شهر 11 | P32: شهر 12
B33: اسم المنتج او الخدمة | E33: قيمة المبيعات المتوقعة لكل شهر ( السنة الأولى) | Q33: المبيعات لسنة الأولى
B34: =IF(ISBLANK(B20), "منتج 1", B20) -> منتج 1 | E34: =(C20*E20) -> 0 | F34: =(C20*F20) -> 0 | G34: =(C20*G20) -> 0 | H34: =(C20*H20) -> 0 | I34: =(C20*I20) -> 0 | J34: =(C20*J20) -> 0 | K34: =(C20*K20) -> 0 | L34: =(C20*L20) -> 0 | M34: =(C20*M20) -> 0 | N34: =(C20*N20) -> 0 | O34: =(C20*O20) -> 0 | P34: =(C20*P20) -> 0 | Q34: =SUM(E34:P34) -> 0
B35: =IF(ISBLANK(B21), "منتج 2", B21) -> منتج 2 | E35: =(C21*E21) -> 0 | F35: =(C21*F21) -> 0 | G35: =(C21*G21) -> 0 | H35: =(C21*H21) -> 0 | I35: =(C21*I21) -> 0 | J35: =(C21*J21) -> 0 | K35: =(C21*K21) -> 0 | L35: =(C21*L21) -> 0 | M35: =(C21*M21) -> 0 | N35: =(C21*N21) -> 0 | O35: =(C21*O21) -> 0 | P35: =(C21*P21) -> 0 | Q35: =SUM(E35:P35) -> 0
B36: =IF(ISBLANK(B22), "منتج 3", B22) -> منتج 3 | E36: =(C22*E22) -> 0 | F36: =(C22*F22) -> 0 | G36: =(C22*G22) -> 0 | H36: =(C22*H22) -> 0 | I36: =(C22*I22) -> 0 | J36: =(C22*J22) -> 0 | K36: =(C22*K22) -> 0 | L36: =(C22*L22) -> 0 | M36: =(C22*M22) -> 0 | N36: =(C22*N22) -> 0 | O36: =(C22*O22) -> 0 | P36: =(C22*P22) -> 0 | Q36: =SUM(E36:P36) -> 0
B37: =IF(ISBLANK(B23), "منتج 4", B23) -> منتج 4 | E37: =(C23*E23) -> 0 | F37: =(C23*F23) -> 0 | G37: =(C23*G23) -> 0 | H37: =(C23*H23) -> 0 | I37: =(C23*I23) -> 0 | J37: =(C23*J23) -> 0 | K37: =(C23*K23) -> 0 | L37: =(C23*L23) -> 0 | M37: =(C23*M23) -> 0 | N37: =(C23*N23) -> 0 | O37: =(C23*O23) -> 0 | P37: =(C23*P23) -> 0 | Q37: =SUM(E37:P37) -> 0
B38: =IF(ISBLANK(B24), "منتج 5", B24) -> منتج 5 | E38: =(C24*E24) -> 0 | F38: =(C24*F24) -> 0 | G38: =(C24*G24) -> 0 | H38: =(C24*H24) -> 0 | I38: =(C24*I24) -> 0 | J38: =(C24*J24) -> 0 | K38: =(C24*K24) -> 0 | L38: =(C24*L24) -> 0 | M38: =(C24*M24) -> 0 | N38: =(C24*N24) -> 0 | O38: =(C24*O24) -> 0 | P38: =(C24*P24) -> 0 | Q38: =SUM(E38:P38) -> 0
B39: =IF(ISBLANK(B25), "منتج 6", B25) -> منتج 6 | E39: =(C25*E25) -> 0 | F39: =(C25*F25) -> 0 | G39: =(C25*G25) -> 0 | H39: =(C25*H25) -> 0 | I39: =(C25*I25) -> 0 | J39: =(C25*J25) -> 0 | K39: =(C25*K25) -> 0 | L39: =(C25*L25) -> 0 | M39: =(C25*M25) -> 0 | N39: =(C25*N25) -> 0 | O39: =(C25*O25) -> 0 | P39: =(C25*P25) -> 0 | Q39: =SUM(E39:P39) -> 0
B40: =IF(ISBLANK(B26), "منتج 7", B26) -> منتج 7 | E40: =(C26*E26) -> 0 | F40: =(C26*F26) -> 0 | G40: =(C26*G26) -> 0 | H40: =(C26*H26) -> 0 | I40: =(C26*I26) -> 0 | J40: =(C26*J26) -> 0 | K40: =(C26*K26) -> 0 | L40: =(C26*L26) -> 0 | M40: =(C26*M26) -> 0 | N40: =(C26*N26) -> 0 | O40: =(C26*O26) -> 0 | P40: =(C26*P26) -> 0 | Q40: =SUM(E40:P40) -> 0
B41: =IF(ISBLANK(B27), "منتج 8", B27) -> منتج 8 | E41: =(C27*E27) -> 0 | F41: =(C27*F27) -> 0 | G41: =(C27*G27) -> 0 | H41: =(C27*H27) -> 0 | I41: =(C27*I27) -> 0 | J41: =(C27*J27) -> 0 | K41: =(C27*K27) -> 0 | L41: =(C27*L27) -> 0 | M41: =(C27*M27) -> 0 | N41: =(C27*N27) -> 0 | O41: =(C27*O27) -> 0 | P41: =(C27*P27) -> 0 | Q41: =SUM(E41:P41) -> 0
B42: =IF(ISBLANK(B28), "منتج 9", B28) -> منتج 9 | E42: =(C28*E28) -> 0 | F42: =(C28*F28) -> 0 | G42: =(C28*G28) -> 0 | H42: =(C28*H28) -> 0 | I42: =(C28*I28) -> 0 | J42: =(C28*J28) -> 0 | K42: =(C28*K28) -> 0 | L42: =(C28*L28) -> 0 | M42: =(C28*M28) -> 0 | N42: =(C28*N28) -> 0 | O42: =(C28*O28) -> 0 | P42: =(C28*P28) -> 0 | Q42: =SUM(E42:P42) -> 0
B43: =IF(ISBLANK(B29), "منتج 10", B29) -> منتج 10 | E43: =(C29*E29) -> 0 | F43: =(C29*F29) -> 0 | G43: =(C29*G29) -> 0 | H43: =(C29*H29) -> 0 | I43: =(C29*I29) -> 0 | J43: =(C29*J29) -> 0 | K43: =(C29*K29) -> 0 | L43: =(C29*L29) -> 0 | M43: =(C29*M29) -> 0 | N43: =(C29*N29) -> 0 | O43: =(C29*O29) -> 0 | P43: =(C29*P29) -> 0 | Q43: =SUM(E43:P43) -> 0
B44: اجمالي المبيعات | E44: =SUM(E34:E43) -> 0 | F44: =SUM(F34:F43) -> 0 | G44: =SUM(G34:G43) -> 0 | H44: =SUM(H34:H43) -> 0 | I44: =SUM(I34:I43) -> 0 | J44: =SUM(J34:J43) -> 0 | K44: =SUM(K34:K43) -> 0 | L44: =SUM(L34:L43) -> 0 | ... P44: =SUM(P34:P43) -> 0 | Q44: =SUM(E44:P44) -> 0
B45: اجمالي تكلفة البضاعة المباعة | E45: =(D20*E20)+(D21*E21)+(D22*E22)+(D23*E23)+(D24*E24)+(D25*E25)+(D26*E26)+(D27*E27)+(D28*E28)+(D29*E29) -> 0 | F45: =(D20*F20)+(D21*F21)+(D22*F22)+(D23*F23)+(D24*F24)+(D25*F25)+(D26*F26)+(D27*F27)+(D28*F28)+(D29*F29) -> 0 | G45: =(D20*G20)+(D21*G21)+(D22*G22)+(D23*G23)+(D24*G24)+(D25*G25)+(D26*G26)+(D27*G27)+(D28*G28)+(D29*G29) -> 0 | H45: =(D20*H20)+(D21*H21)+(D22*H22)+(D23*H23)+(D24*H24)+(D25*H25)+(D26*H26)+(D27*H27)+(D28*H28)+(D29*H29) -> 0 | I45: =(D20*I20)+(D21*I21)+(D22*I22)+(D23*I23)+(D24*I24)+(D25*I25)+(D26*I26)+(D27*I27)+(D28*I28)+(D29*I29) -> 0 | J45: =(D20*J20)+(D21*J21)+(D22*J22)+(D23*J23)+(D24*J24)+(D25*J25)+(D26*J26)+(D27*J27)+(D28*J28)+(D29*J29) -> 0 | K45: =(D20*K20)+(D21*K21)+(D22*K22)+(D23*K23)+(D24*K24)+(D25*K25)+(D26*K26)+(D27*K27)+(D28*K28)+(D29*K29) -> 0 | L45: =(D20*L20)+(D21*L21)+(D22*L22)+(D23*L23)+(D24*L24)+(D25*L25)+(D26*L26)+(D27*L27)+(D28*L28)+(D29*L29) -> 0 | M45: =(D20*M20)+(D21*M21)+(D22*M22)+(D23*M23)+(D24*M24)+(D25*M25)+(D26*M26)+(D27*M27)+(D28*M28)+(D29*M29) -> 0 | N45: =(D20*N20)+(D21*N21)+(D22*N22)+(D23*N23)+(D24*N24)+(D25*N25)+(D26*N26)+(D27*N27)+(D28*N28)+(D29*N29) -> 0 | O45: =(D20*O20)+(D21*O21)+(D22*O22)+(D23*O23)+(D24*O24)+(D25*O25)+(D26*O26)+(D27*O27)+(D28*O28)+(D29*O29) -> 0 | P45: =(D20*P20)+(D21*P21)+(D22*P22)+(D23*P23)+(D24*P24)+(D25*P25)+(D26*P26)+(D27*P27)+(D28*P28)+(D29*P29) -> 0 | Q45: =SUM(E45:P45) -> 0
B46: اجمالي هامش الربح | E46: =(E44-E45) -> 0 | F46: =(F44-F45) -> 0 | G46: =(G44-G45) -> 0 | H46: =(H44-H45) -> 0 | I46: =(I44-I45) -> 0 | J46: =(J44-J45) -> 0 | K46: =(K44-K45) -> 0 | L46: =(L44-L45) -> 0 | ... Q46: =(Q44-Q45) -> 0
B49: اكمل هذا الجدول | E49: شهر 1 | F49: شهر 2 | G49: شهر 3 | H49: شهر 4 | I49: شهر 5 | J49: شهر 6 | K49: شهر 7 | L49: شهر 8 | M49: شهر 9 | N49: شهر 10 | O49: شهر 11 | P49: شهر 12
B50: اسم المنتج او الخدمة | C50: سعر البيع للوحدة | D50: تكلفة البضاعة المباعة | E50: عدد الوحدات المباعه لكل شهر ( السنة الثانية) | Q50: اجمالي عدد الوحدات لسنة الثانية
Q51: =SUM(E51:P51) -> 0
Q52: =SUM(E52:P52) -> 0
Q53: =SUM(E53:P53) -> 0
Q54: =SUM(E54:P54) -> 0
Q55: =SUM(E55:P55) -> 0
Q56: =SUM(E56:P56) -> 0
Q57: =SUM(E57:P57) -> 0
Q58: =SUM(E58:P58) -> 0
Q59: =SUM(E59:P59) -> 0
Q60: =SUM(E60:P60) -> 0
B61: عدد الوحدات المباعة لكل شهر | E61: =SUM(E51:E60) -> 0 | F61: =SUM(F51:F60) -> 0 | G61: =SUM(G51:G60) -> 0 | H61: =SUM(H51:H60) -> 0 | I61: =SUM(I51:I60) -> 0 | J61: =SUM(J51:J60) -> 0 | K61: =SUM(K51:K60) -> 0 | L61: =SUM(L51:L60) -> 0 | ... Q61: =SUM(Q51:Q60) -> 0
E62: شهر 1 | F62: شهر 2 | G62: شهر 3 | H62: شهر 4 | I62: شهر 5 | J62: شهر 6 | K62: شهر 7 | L62: شهر 8 | M62: شهر 9 | N62: شهر 10 | O62: شهر 11 | P62: شهر 12
B63: اسم المنتج او الخدمة | E63: قيمة المبيعات المتوقعة لكل شهر ( السنة الثانية) | Q63: المبيعات لسنة الثانية
B64: =IF(ISBLANK(B51), "منتج 1", B51) -> منتج 1 | E64: =(C51*E51) -> 0 | F64: =(C51*F51) -> 0 | G64: =(C51*G51) -> 0 | H64: =(C51*H51) -> 0 | I64: =(C51*I51) -> 0 | J64: =(C51*J51) -> 0 | K64: =(C51*K51) -> 0 | L64: =(C51*L51) -> 0 | M64: =(C51*M51) -> 0 | N64: =(C51*N51) -> 0 | O64: =(C51*O51) -> 0 | P64: =(C51*P51) -> 0 | Q64: =SUM(E64:P64) -> 0
B65: =IF(ISBLANK(B52), "منتج 2", B52) -> منتج 2 | E65: =(C52*E52) -> 0 | F65: =(C52*F52) -> 0 | G65: =(C52*G52) -> 0 | H65: =(C52*H52) -> 0 | I65: =(C52*I52) -> 0 | J65: =(C52*J52) -> 0 | K65: =(C52*K52) -> 0 | L65: =(C52*L52) -> 0 | M65: =(C52*M52) -> 0 | N65: =(C52*N52) -> 0 | O65: =(C52*O52) -> 0 | P65: =(C52*P52) -> 0 | Q65: =SUM(E65:P65) -> 0
B66: =IF(ISBLANK(B53), "منتج 3", B53) -> منتج 3 | E66: =(C53*E53) -> 0 | F66: =(C53*F53) -> 0 | G66: =(C53*G53) -> 0 | H66: =(C53*H53) -> 0 | I66: =(C53*I53) -> 0 | J66: =(C53*J53) -> 0 | K66: =(C53*K53) -> 0 | L66: =(C53*L53) -> 0 | M66: =(C53*M53) -> 0 | N66: =(C53*N53) -> 0 | O66: =(C53*O53) -> 0 | P66: =(C53*P53) -> 0 | Q66: =SUM(E66:P66) -> 0
B67: =IF(ISBLANK(B54), "منتج 4", B54) -> منتج 4 | E67: =(C54*E54) -> 0 | F67: =(C54*F54) -> 0 | G67: =(C54*G54) -> 0 | H67: =(C54*H54) -> 0 | I67: =(C54*I54) -> 0 | J67: =(C54*J54) -> 0 | K67: =(C54*K54) -> 0 | L67: =(C54*L54) -> 0 | M67: =(C54*M54) -> 0 | N67: =(C54*N54) -> 0 | O67: =(C54*O54) -> 0 | P67: =(C54*P54) -> 0 | Q67: =SUM(E67:P67) -> 0
B68: =IF(ISBLANK(B55), "منتج 5", B55) -> منتج 5 | E68: =(C55*E55) -> 0 | F68: =(C55*F55) -> 0 | G68: =(C55*G55) -> 0 | H68: =(C55*H55) -> 0 | I68: =(C55*I55) -> 0 | J68: =(C55*J55) -> 0 | K68: =(C55*K55) -> 0 | L68: =(C55*L55) -> 0 | M68: =(C55*M55) -> 0 | N68: =(C55*N55) -> 0 | O68: =(C55*O55) -> 0 | P68: =(C55*P55) -> 0 | Q68: =SUM(E68:P68) -> 0
B69: =IF(ISBLANK(B56), "منتج 6", B56) -> منتج 6 | E69: =(C56*E56) -> 0 | F69: =(C56*F56) -> 0 | G69: =(C56*G56) -> 0 | H69: =(C56*H56) -> 0 | I69: =(C56*I56) -> 0 | J69: =(C56*J56) -> 0 | K69: =(C56*K56) -> 0 | L69: =(C56*L56) -> 0 | M69: =(C56*M56) -> 0 | N69: =(C56*N56) -> 0 | O69: =(C56*O56) -> 0 | P69: =(C56*P56) -> 0 | Q69: =SUM(E69:P69) -> 0
B70: =IF(ISBLANK(B57), "منتج 7", B57) -> منتج 7 | E70: =(C57*E57) -> 0 | F70: =(C57*F57) -> 0 | G70: =(C57*G57) -> 0 | H70: =(C57*H57) -> 0 | I70: =(C57*I57) -> 0 | J70: =(C57*J57) -> 0 | K70: =(C57*K57) -> 0 | L70: =(C57*L57) -> 0 | M70: =(C57*M57) -> 0 | N70: =(C57*N57) -> 0 | O70: =(C57*O57) -> 0 | P70: =(C57*P57) -> 0 | Q70: =SUM(E70:P70) -> 0
B71: =IF(ISBLANK(B58), "منتج 8", B58) -> منتج 8 | E71: =(C58*E58) -> 0 | F71: =(C58*F58) -> 0 | G71: =(C58*G58) -> 0 | H71: =(C58*H58) -> 0 | I71: =(C58*I58) -> 0 | J71: =(C58*J58) -> 0 | K71: =(C58*K58) -> 0 | L71: =(C58*L58) -> 0 | M71: =(C58*M58) -> 0 | N71: =(C58*N58) -> 0 | O71: =(C58*O58) -> 0 | P71: =(C58*P58) -> 0 | Q71: =SUM(E71:P71) -> 0
B72: =IF(ISBLANK(B59), "منتج 9", B59) -> منتج 9 | E72: =(C59*E59) -> 0 | F72: =(C59*F59) -> 0 | G72: =(C59*G59) -> 0 | H72: =(C59*H59) -> 0 | I72: =(C59*I59) -> 0 | J72: =(C59*J59) -> 0 | K72: =(C59*K59) -> 0 | L72: =(C59*L59) -> 0 | M72: =(C59*M59) -> 0 | N72: =(C59*N59) -> 0 | O72: =(C59*O59) -> 0 | P72: =(C59*P59) -> 0 | Q72: =SUM(E72:P72) -> 0
B73: =IF(ISBLANK(B60), "منتج 10", B60) -> منتج 10 | E73: =(C60*E60) -> 0 | F73: =(C60*F60) -> 0 | G73: =(C60*G60) -> 0 | H73: =(C60*H60) -> 0 | I73: =(C60*I60) -> 0 | J73: =(C60*J60) -> 0 | K73: =(C60*K60) -> 0 | L73: =(C60*L60) -> 0 | M73: =(C60*M60) -> 0 | N73: =(C60*N60) -> 0 | O73: =(C60*O60) -> 0 | P73: =(C60*P60) -> 0 | Q73: =SUM(E73:P73) -> 0
B74: اجمالي المبيعات | E74: =SUM(E64:E73) -> 0 | F74: =SUM(F64:F73) -> 0 | G74: =SUM(G64:G73) -> 0 | H74: COGS Per Unit | I74: =SUM(I64:I73) -> 0 | J74: =SUM(J64:J73) -> 0 | K74: =SUM(K64:K73) -> 0 | L74: =SUM(L64:L73) -> 0 | M74: =SUM(M64:M73) -> 0 | N74: =SUM(N64:N73) -> 0 | O74: =SUM(O64:O73) -> 0 | P74: =SUM(P64:P73) -> 0 | Q74: =SUM(E74:P74) -> 0
B75: اجمالي تكلفة البضاعة المباعة | E75: =(D51*E51)+(D52*E52)+(D53*E53)+(D54*E54)+(D55*E55)+(D56*E56)+(D57*E57)+(D58*E58)+(D59*E59)+(D60*E60) -> 0 | F75: =(D51*F51)+(D52*F52)+(D53*F53)+(D54*F54)+(D55*F55)+(D56*F56)+(D57*F57)+(D58*F58)+(D59*F59)+(D60*F60) -> 0 | G75: =(D51*G51)+(D52*G52)+(D53*G53)+(D54*G54)+(D55*G55)+(D56*G56)+(D57*G57)+(D58*G58)+(D59*G59)+(D60*G60) -> 0 | H75: =(D51*H51)+(D52*H52)+(D53*H53)+(D54*H54)+(D55*H55)+(D56*H56)+(D57*H57)+(D58*H58)+(D59*H59)+(D60*H60) -> 0 | I75: =(D51*I51)+(D52*I52)+(D53*I53)+(D54*I54)+(D55*I55)+(D56*I56)+(D57*I57)+(D58*I58)+(D59*I59)+(D60*I60) -> 0 | J75: =(D51*J51)+(D52*J52)+(D53*J53)+(D54*J54)+(D55*J55)+(D56*J56)+(D57*J57)+(D58*J58)+(D59*J59)+(D60*J60) -> 0 | K75: =(D51*K51)+(D52*K52)+(D53*K53)+(D54*K54)+(D55*K55)+(D56*K56)+(D57*K57)+(D58*K58)+(D59*K59)+(D60*K60) -> 0 | L75: =(D51*L51)+(D52*L52)+(D53*L53)+(D54*L54)+(D55*L55)+(D56*L56)+(D57*L57)+(D58*L58)+(D59*L59)+(D60*L60) -> 0 | M75: =(D51*M51)+(D52*M52)+(D53*M53)+(D54*M54)+(D55*M55)+(D56*M56)+(D57*M57)+(D58*M58)+(D59*M59)+(D60*M60) -> 0 | N75: =(D51*N51)+(D52*N52)+(D53*N53)+(D54*N54)+(D55*N55)+(D56*N56)+(D57*N57)+(D58*N58)+(D59*N59)+(D60*N60) -> 0 | O75: =(D51*O51)+(D52*O52)+(D53*O53)+(D54*O54)+(D55*O55)+(D56*O56)+(D57*O57)+(D58*O58)+(D59*O59)+(D60*O60) -> 0 | P75: =(D51*P51)+(D52*P52)+(D53*P53)+(D54*P54)+(D55*P55)+(D56*P56)+(D57*P57)+(D58*P58)+(D59*P59)+(D60*P60) -> 0 | Q75: =SUM(E75:P75) -> 0
B76: اجمالي هامش الربح | E76: =(E74-E75) -> 0 | F76: =(F74-F75) -> 0 | G76: =(G74-G75) -> 0 | H76: =(H74-H75) -> #VALUE! | I76: =(I74-I75) -> 0 | J76: =(J74-J75) -> 0 | K76: =(K74-K75) -> 0 | L76: =(L74-L75) -> 0 | ... Q76: =(Q74-Q75) -> 0
B80: اكمل هذا الجدول | E80: شهر 1 | F80: شهر 2 | G80: شهر 3 | H80: شهر 4 | I80: شهر 5 | J80: شهر 6 | K80: شهر 7 | L80: شهر 8 | M80: شهر 9 | N80: شهر 10 | O80: شهر 11 | P80: شهر 12
B81: اسم المنتج او الخدمة | C81: سعر البيع للوحدة | D81: تكلفة البضاعة المباعة | E81: عدد الوحدات المباعه لكل شهر ( السنة الثالثة) | Q81: اجمالي عدد الوحدات لسنة الثالثة
Q82: =SUM(E82:P82) -> 0
Q83: =SUM(E83:P83) -> 0
Q84: =SUM(E84:P84) -> 0
Q85: =SUM(E85:P85) -> 0
Q86: =SUM(E86:P86) -> 0
Q87: =SUM(E87:P87) -> 0
Q88: =SUM(E88:P88) -> 0
Q89: =SUM(E89:P89) -> 0
Q90: =SUM(E90:P90) -> 0
Q91: =SUM(E91:P91) -> 0
B92: عدد الوحدات المباعة لكل شهر | E92: =SUM(E82:E91) -> 0 | F92: =SUM(F82:F91) -> 0 | G92: =SUM(G82:G91) -> 0 | H92: =SUM(H82:H91) -> 0 | I92: =SUM(I82:I91) -> 0 | J92: =SUM(J82:J91) -> 0 | K92: =SUM(K82:K91) -> 0 | L92: =SUM(L82:L91) -> 0 | ... Q92: =SUM(Q82:Q91) -> 0
E94: شهر 1 | F94: شهر 2 | G94: شهر 3 | H94: شهر 4 | I94: شهر 5 | J94: شهر 6 | K94: شهر 7 | L94: شهر 8 | M94: شهر 9 | N94: شهر 10 | O94: شهر 11 | P94: شهر 12
B95: اسم المنتج او الخدمة | E95: قيمة المبيعات المتوقعة لكل شهر ( السنة الثاثة) | Q95: المبيعات لسنة الثالثة
B96: =IF(ISBLANK(B82), "منتج 1", B82) -> منتج 1 | E96: =(C82*E82) -> 0 | F96: =(C82*F82) -> 0 | G96: =(C82*G82) -> 0 | H96: =(C82*H82) -> 0 | I96: =(C82*I82) -> 0 | J96: =(C82*J82) -> 0 | K96: =(C82*K82) -> 0 | L96: =(C82*L82) -> 0 | M96: =(C82*M82) -> 0 | N96: =(C82*N82) -> 0 | O96: =(C82*O82) -> 0 | P96: =(C82*P82) -> 0 | Q96: =SUM(E96:P96) -> 0
B97: =IF(ISBLANK(B83), "منتج 2", B83) -> منتج 2 | E97: =(C83*E83) -> 0 | F97: =(C83*F83) -> 0 | G97: =(C83*G83) -> 0 | H97: =(C83*H83) -> 0 | I97: =(C83*I83) -> 0 | J97: =(C83*J83) -> 0 | K97: =(C83*K83) -> 0 | L97: =(C83*L83) -> 0 | M97: =(C83*M83) -> 0 | N97: =(C83*N83) -> 0 | O97: =(C83*O83) -> 0 | P97: =(C83*P83) -> 0 | Q97: =SUM(E97:P97) -> 0
B98: =IF(ISBLANK(B84), "منتج 3", B84) -> منتج 3 | E98: =(C84*E84) -> 0 | F98: =(C84*F84) -> 0 | G98: =(C84*G84) -> 0 | H98: =(C84*H84) -> 0 | I98: =(C84*I84) -> 0 | J98: =(C84*J84) -> 0 | K98: =(C84*K84) -> 0 | L98: =(C84*L84) -> 0 | M98: =(C84*M84) -> 0 | N98: =(C84*N84) -> 0 | O98: =(C84*O84) -> 0 | P98: =(C84*P84) -> 0 | Q98: =SUM(E98:P98) -> 0
B99: =IF(ISBLANK(B85), "منتج 4", B85) -> منتج 4 | E99: =(C85*E85) -> 0 | F99: =(C85*F85) -> 0 | G99: =(C85*G85) -> 0 | H99: =(C85*H85) -> 0 | I99: =(C85*I85) -> 0 | J99: =(C85*J85) -> 0 | K99: =(C85*K85) -> 0 | L99: =(C85*L85) -> 0 | M99: =(C85*M85) -> 0 | N99: =(C85*N85) -> 0 | O99: =(C85*O85) -> 0 | P99: =(C85*P85) -> 0 | Q99: =SUM(E99:P99) -> 0
B100: =IF(ISBLANK(B86), "منتج 5", B86) -> منتج 5 | E100: =(C86*E86) -> 0 | F100: =(C86*F86) -> 0 | G100: =(C86*G86) -> 0 | H100: =(C86*H86) -> 0 | I100: =(C86*I86) -> 0 | J100: =(C86*J86) -> 0 | K100: =(C86*K86) -> 0 | L100: =(C86*L86) -> 0 | M100: =(C86*M86) -> 0 | N100: =(C86*N86) -> 0 | O100: =(C86*O86) -> 0 | P100: =(C86*P86) -> 0 | Q100: =SUM(E100:P100) -> 0
B101: =IF(ISBLANK(B87), "منتج 6", B87) -> منتج 6 | E101: =(C87*E87) -> 0 | F101: =(C87*F87) -> 0 | G101: =(C87*G87) -> 0 | H101: =(C87*H87) -> 0 | I101: =(C87*I87) -> 0 | J101: =(C87*J87) -> 0 | K101: =(C87*K87) -> 0 | L101: =(C87*L87) -> 0 | M101: =(C87*M87) -> 0 | N101: =(C87*N87) -> 0 | O101: =(C87*O87) -> 0 | P101: =(C87*P87) -> 0 | Q101: =SUM(E101:P101) -> 0
B102: =IF(ISBLANK(B88), "منتج7", B88) -> منتج7 | E102: =(C88*E88) -> 0 | F102: =(C88*F88) -> 0 | G102: =(C88*G88) -> 0 | H102: =(C88*H88) -> 0 | I102: =(C88*I88) -> 0 | J102: =(C88*J88) -> 0 | K102: =(C88*K88) -> 0 | L102: =(C88*L88) -> 0 | M102: =(C88*M88) -> 0 | N102: =(C88*N88) -> 0 | O102: =(C88*O88) -> 0 | P102: =(C88*P88) -> 0 | Q102: =SUM(E102:P102) -> 0
B103: =IF(ISBLANK(B89), "منتج 8", B89) -> منتج 8 | E103: =(C89*E89) -> 0 | F103: =(C89*F89) -> 0 | G103: =(C89*G89) -> 0 | H103: =(C89*H89) -> 0 | I103: =(C89*I89) -> 0 | J103: =(C89*J89) -> 0 | K103: =(C89*K89) -> 0 | L103: =(C89*L89) -> 0 | M103: =(C89*M89) -> 0 | N103: =(C89*N89) -> 0 | O103: =(C89*O89) -> 0 | P103: =(C89*P89) -> 0 | Q103: =SUM(E103:P103) -> 0
B104: =IF(ISBLANK(B90), "منتج 9", B90) -> منتج 9 | E104: =(C90*E90) -> 0 | F104: =(C90*F90) -> 0 | G104: =(C90*G90) -> 0 | H104: =(C90*H90) -> 0 | I104: =(C90*I90) -> 0 | J104: =(C90*J90) -> 0 | K104: =(C90*K90) -> 0 | L104: =(C90*L90) -> 0 | M104: =(C90*M90) -> 0 | N104: =(C90*N90) -> 0 | O104: =(C90*O90) -> 0 | P104: =(C90*P90) -> 0 | Q104: =SUM(E104:P104) -> 0
B105: =IF(ISBLANK(B91), "منتج 10 ", B91) -> منتج 10 | E105: =(C91*E91) -> 0 | F105: =(C91*F91) -> 0 | G105: =(C91*G91) -> 0 | H105: =(C91*H91) -> 0 | I105: =(C91*I91) -> 0 | J105: =(C91*J91) -> 0 | K105: =(C91*K91) -> 0 | L105: =(C91*L91) -> 0 | M105: =(C91*M91) -> 0 | N105: =(C91*N91) -> 0 | O105: =(C91*O91) -> 0 | P105: =(C91*P91) -> 0 | Q105: =SUM(E105:P105) -> 0
B106: اجمالي المبيعات | E106: =SUM(E96:E105) -> 0 | F106: =SUM(F96:F105) -> 0 | G106: =SUM(G96:G105) -> 0 | H106: =SUM(H96:H105) -> 0 | I106: =SUM(I96:I105) -> 0 | J106: =SUM(J96:J105) -> 0 | K106: =SUM(K96:K105) -> 0 | L106: =SUM(L96:L105) -> 0 | ... P106: =SUM(P96:P105) -> 0 | Q106: =SUM(E106:P106) -> 0
B107: اجمالي تكلفة البضاعة المباعة | E107: =(D82*E82)+(D83*E83)+(D84*E84)+(D85*E85)+(D86*E86)+(D87*E87)+(D88*E88)+(D89*E89)+(D90*E90)+(D91*E91) -> 0 | F107: =(D82*F82)+(D83*F83)+(D84*F84)+(D85*F85)+(D86*F86)+(D87*F87)+(D88*F88)+(D89*F89)+(D90*F90)+(D91*F91) -> 0 | G107: =(D82*G82)+(D83*G83)+(D84*G84)+(D85*G85)+(D86*G86)+(D87*G87)+(D88*G88)+(D89*G89)+(D90*G90)+(D91*G91) -> 0 | H107: =(D82*H82)+(D83*H83)+(D84*H84)+(D85*H85)+(D86*H86)+(D87*H87)+(D88*H88)+(D89*H89)+(D90*H90)+(D91*H91) -> 0 | I107: =(D82*I82)+(D83*I83)+(D84*I84)+(D85*I85)+(D86*I86)+(D87*I87)+(D88*I88)+(D89*I89)+(D90*I90)+(D91*I91) -> 0 | J107: =(D82*J82)+(D83*J83)+(D84*J84)+(D85*J85)+(D86*J86)+(D87*J87)+(D88*J88)+(D89*J89)+(D90*J90)+(D91*J91) -> 0 | K107: =(D82*K82)+(D83*K83)+(D84*K84)+(D85*K85)+(D86*K86)+(D87*K87)+(D88*K88)+(D89*K89)+(D90*K90)+(D91*K91) -> 0 | L107: =(D82*L82)+(D83*L83)+(D84*L84)+(D85*L85)+(D86*L86)+(D87*L87)+(D88*L88)+(D89*L89)+(D90*L90)+(D91*L91) -> 0 | M107: =(D82*M82)+(D83*M83)+(D84*M84)+(D85*M85)+(D86*M86)+(D87*M87)+(D88*M88)+(D89*M89)+(D90*M90)+(D91*M91) -> 0 | N107: =(D82*N82)+(D83*N83)+(D84*N84)+(D85*N85)+(D86*N86)+(D87*N87)+(D88*N88)+(D89*N89)+(D90*N90)+(D91*N91) -> 0 | O107: =(D82*O82)+(D83*O83)+(D84*O84)+(D85*O85)+(D86*O86)+(D87*O87)+(D88*O88)+(D89*O89)+(D90*O90)+(D91*O91) -> 0 | P107: =(D82*P82)+(D83*P83)+(D84*P84)+(D85*P85)+(D86*P86)+(D87*P87)+(D88*P88)+(D89*P89)+(D90*P90)+(D91*P91) -> 0 | Q107: =SUM(E107:P107) -> 0
B108: اجمالي هامش الربح | E108: =(E106-E107) -> 0 | F108: =(F106-F107) -> 0 | G108: =(G106-G107) -> 0 | H108: =(H106-H107) -> 0 | I108: =(I106-I107) -> 0 | J108: =(J106-J107) -> 0 | K108: =(K106-K107) -> 0 | L108: =(L106-L107) -> 0 | ... Q108: =(Q106-Q107) -> 0

Sheet الرواتب
K4: رواتب الموظفين | L4: عدد الموظفين
J5: السنة 1 | K5: =(Q37) -> 0 | L5: =SUM(E27:P27)/12 -> 0
J6: السنة 2 | K6: =(Q60) -> 0 | L6: =SUM(E50:P50)/12 -> 0
J7: السنة 3 | K7: =(Q83) -> 0 | L7: =SUM(E73:P73)/12 -> 0
C18: اكمل هذا الجدول | E18: شهر 1 | F18: شهر 2 | G18: شهر 3 | H18: شهر 4 | I18: شهر 5 | J18: شهر 6 | K18: شهر 7 | L18: شهر 8 | M18: شهر 9 | N18: شهر 10 | O18: شهر 11 | P18: شهر 12
B19: نوع الوظيفة | C19: الرواتب | D19: البدلات | E19: عدد الموظفين خلال كل شهر ( السنة الأولى)
B27: عدد الموظفين | E27: =SUM(E20:E26) -> 0 | F27: =SUM(F20:F26) -> 0 | G27: =SUM(G20:G26) -> 0 | H27: =SUM(H20:H26) -> 0 | I27: =SUM(I20:I26) -> 0 | J27: =SUM(J20:J26) -> 0 | K27: =SUM(K20:K26) -> 0 | L27: =SUM(L20:L26) -> 0 | ... P27: =SUM(P20:P26) -> 0
E29: شهر 1 | F29: شهر 2 | G29: شهر 3 | H29: شهر 4 | I29: شهر 5 | J29: شهر 6 | K29: شهر 7 | L29: شهر 8 | M29: شهر 9 | N29: شهر 10 | O29: شهر 11 | P29: شهر 12 | Q29: اجمالي الرواتب السنوية
B30: =(B19) -> نوع الوظيفة | E30: قيمة الرواتب الموظفين الشهرية ( السنة الأولى) | Q30: =SUM(E31:P31) -> 0
B31: =B20 -> 0 | E31: =(C20+D20)*E20 -> 0 | F31: =(C20+D20)*(F20) -> 0 | G31: =(C20+D20)*(G20) -> 0 | H31: =(C20+D20)*H20 -> 0 | I31: =(C20+D20)*I20 -> 0 | J31: =(C20+D20)*J20 -> 0 | K31: =(C20+D20)*K20 -> 0 | L31: =(C20+D20)*L20 -> 0 | M31: =(C20+D20)*M20 -> 0 | N31: =(C20+D20)*N20 -> 0 | O31: =(C20+D20)*O20 -> 0 | P31: =(C20+D20)*P20 -> 0 | Q31: =SUM(E32:P32) -> 0
B32: =B21 -> 0 | E32: =(C21+D21)*E21 -> 0 | F32: =(C21+D21)*(F21) -> 0 | G32: =(C21+D21)*(G21) -> 0 | H32: =(C21+D21)*H21 -> 0 | I32: =(C21+D21)*I21 -> 0 | J32: =(C21+D21)*J21 -> 0 | K32: =(C21+D21)*K21 -> 0 | L32: =(C21+D21)*L21 -> 0 | M32: =(C21+D21)*M21 -> 0 | N32: =(C21+D21)*N21 -> 0 | O32: =(C21+D21)*O21 -> 0 | P32: =(C21+D21)*P21 -> 0 | Q32: =SUM(E33:P33) -> 0
B33: =B22 -> 0 | E33: =(C22+D22)*E22 -> 0 | F33: =(C22+D22)*(F22) -> 0 | G33: =(C22+D22)*(G22) -> 0 | H33: =(C22+D22)*H22 -> 0 | I33: =(C22+D22)*I22 -> 0 | J33: =(C22+D22)*J22 -> 0 | K33: =(C22+D22)*K22 -> 0 | L33: =(C22+D22)*L22 -> 0 | M33: =(C22+D22)*M22 -> 0 | N33: =(C22+D22)*N22 -> 0 | O33: =(C22+D22)*O22 -> 0 | P33: =(C22+D22)*P22 -> 0 | Q33: =SUM(E34:P34) -> 0
B34: =B23 -> 0 | E34: =(C23+D23)*E23 -> 0 | F34: =(C23+D23)*(F23) -> 0 | G34: =(C23+D23)*(G23) -> 0 | H34: =(C23+D23)*H23 -> 0 | I34: =(C23+D23)*I23 -> 0 | J34: =(C23+D23)*J23 -> 0 | K34: =(C23+D23)*K23 -> 0 | L34: =(C23+D23)*L23 -> 0 | M34: =(C23+D23)*M23 -> 0 | N34: =(C23+D23)*N23 -> 0 | O34: =(C23+D23)*O23 -> 0 | P34: =(C23+D23)*P23 -> 0 | Q34: =SUM(E35:P35) -> 0
B35: =B24 -> 0 | E35: =(C24+D24)*E24 -> 0 | F35: =(C24+D24)*(F24) -> 0 | G35: =(C24+D24)*(G24) -> 0 | H35: =(C24+D24)*H24 -> 0 | I35: =(C24+D24)*I24 -> 0 | J35: =(C24+D24)*J24 -> 0 | K35: =(C24+D24)*K24 -> 0 | L35: =(C24+D24)*L24 -> 0 | M35: =(C24+D24)*M24 -> 0 | N35: =(C24+D24)*N24 -> 0 | O35: =(C24+D24)*O24 -> 0 | P35: =(C24+D24)*P24 -> 0 | Q35: =SUM(E36:P36) -> 0
B36: =B25 -> 0 | E36: =(C25+D25)*E25 -> 0 | F36: =(C25+D25)*(F25) -> 0 | G36: =(C25+D25)*(G25) -> 0 | H36: =(C25+D25)*H25 -> 0 | I36: =(C25+D25)*I25 -> 0 | J36: =(C25+D25)*J25 -> 0 | K36: =(C25+D25)*K25 -> 0 | L36: =(C25+D25)*L25 -> 0 | M36: =(C25+D25)*M25 -> 0 | N36: =(C25+D25)*N25 -> 0 | O36: =(C25+D25)*O25 -> 0 | P36: =(C25+D25)*P25 -> 0 | Q36: =SUM(E37:P37) -> 0
B37: =B26 -> 0 | E37: =(C26+D26)*E26 -> 0 | F37: =(C26+D26)*(F26) -> 0 | G37: =(C26+D26)*(G26) -> 0 | H37: =(C26+D26)*H26 -> 0 | I37: =(C26+D26)*I26 -> 0 | J37: =(C26+D26)*J26 -> 0 | K37: =(C26+D26)*K26 -> 0 | L37: =(C26+D26)*L26 -> 0 | M37: =(C26+D26)*M26 -> 0 | N37: =(C26+D26)*N26 -> 0 | O37: =(C26+D26)*O26 -> 0 | P37: =(C26+D26)*P26 -> 0 | Q37: =SUM(E38:P38) -> 0
B38: اجمالي رواتب الموظفين | E38: =SUM(E31:E37) -> 0 | F38: =SUM(F31:F37) -> 0 | G38: =SUM(G31:G37) -> 0 | H38: =SUM(H31:H37) -> 0 | I38: =SUM(I31:I37) -> 0 | J38: =SUM(J31:J37) -> 0 | K38: =SUM(K31:K37) -> 0 | L38: =SUM(L31:L37) -> 0 | ... P38: =SUM(P31:P37) -> 0
B41: اكمل هذا الجدول | E41: شهر 1 | F41: شهر 2 | G41: شهر 3 | H41: شهر 4 | I41: شهر 5 | J41: شهر 6 | K41: شهر 7 | L41: شهر 8 | M41: شهر 9 | N41: شهر 10 | O41: شهر 11 | P41: شهر 12
B42: نوع الوظيفة | C42: الرواتب | D42: البدلات | E42: عدد الموظفين خلال كل شهر ( السنة الثانية)
B50: عدد الموظفين | E50: =SUM(E43:E49) -> 0 | F50: =SUM(F43:F49) -> 0 | G50: =SUM(G43:G49) -> 0 | H50: =SUM(H43:H49) -> 0 | I50: =SUM(I43:I49) -> 0 | J50: =SUM(J43:J49) -> 0 | K50: =SUM(K43:K49) -> 0 | L50: =SUM(L43:L49) -> 0 | ... P50: =SUM(P43:P49) -> 0
E52: شهر 1 | F52: شهر 2 | G52: شهر 3 | H52: شهر 4 | I52: شهر 5 | J52: شهر 6 | K52: شهر 7 | L52: شهر 8 | M52: شهر 9 | N52: شهر 10 | O52: شهر 11 | P52: شهر 12 | Q52: اجمالي الرواتب السنوية
B53: =B19 -> نوع الوظيفة | E53: قيمة الرواتب الموظفين لكل شهر ( السنة الثانية) | Q53: =SUM(E54:P54) -> 0
B54: =B43 -> 0 | E54: =(C43+D43)*E43 -> 0 | F54: =(C43+D43)*(F43) -> 0 | G54: =(C43+D43)*(G43) -> 0 | H54: =(C43+D43)*H43 -> 0 | I54: =(C43+D43)*I43 -> 0 | J54: =(C43+D43)*J43 -> 0 | K54: =(C43+D43)*K43 -> 0 | L54: =(C43+D43)*L43 -> 0 | M54: =(C43+D43)*M43 -> 0 | N54: =(C43+D43)*N43 -> 0 | O54: =(C43+D43)*O43 -> 0 | P54: =(C43+D43)*P43 -> 0 | Q54: =SUM(E55:P55) -> 0
B55: =B44 -> 0 | E55: =(C44+D44)*E44 -> 0 | F55: =(C44+D44)*(F44) -> 0 | G55: =(C44+D44)*(G44) -> 0 | H55: =(C44+D44)*H44 -> 0 | I55: =(C44+D44)*I44 -> 0 | J55: =(C44+D44)*J44 -> 0 | K55: =(C44+D44)*K44 -> 0 | L55: =(C44+D44)*L44 -> 0 | M55: =(C44+D44)*M44 -> 0 | N55: =(C44+D44)*N44 -> 0 | O55: =(C44+D44)*O44 -> 0 | P55: =(C44+D44)*P44 -> 0 | Q55: =SUM(E56:P56) -> 0
B56: =B45 -> 0 | E56: =(C45+D45)*E45 -> 0 | F56: =(C45+D45)*(F45) -> 0 | G56: =(C45+D45)*(G45) -> 0 | H56: =(C45+D45)*H45 -> 0 | I56: =(C45+D45)*I45 -> 0 | J56: =(C45+D45)*J45 -> 0 | K56: =(C45+D45)*K45 -> 0 | L56: =(C45+D45)*L45 -> 0 | M56: =(C45+D45)*M45 -> 0 | N56: =(C45+D45)*N45 -> 0 | O56: =(C45+D45)*O45 -> 0 | P56: =(C45+D45)*P45 -> 0 | Q56: =SUM(E57:P57) -> 0
B57: =B46 -> 0 | E57: =(C46+D46)*E46 -> 0 | F57: =(C46+D46)*(F46) -> 0 | G57: =(C46+D46)*(G46) -> 0 | H57: =(C46+D46)*H46 -> 0 | I57: =(C46+D46)*I46 -> 0 | J57: =(C46+D46)*J46 -> 0 | K57: =(C46+D46)*K46 -> 0 | L57: =(C46+D46)*L46 -> 0 | M57: =(C46+D46)*M46 -> 0 | N57: =(C46+D46)*N46 -> 0 | O57: =(C46+D46)*O46 -> 0 | P57: =(C46+D46)*P46 -> 0 | Q57: =SUM(E58:P58) -> 0
B58: =B47 -> 0 | E58: =(C47+D47)*E47 -> 0 | F58: =(C47+D47)*(F47) -> 0 | G58: =(C47+D47)*(G47) -> 0 | H58: =(C47+D47)*H47 -> 0 | I58: =(C47+D47)*I47 -> 0 | J58: =(C47+D47)*J47 -> 0 | K58: =(C47+D47)*K47 -> 0 | L58: =(C47+D47)*L47 -> 0 | M58: =(C47+D47)*M47 -> 0 | N58: =(C47+D47)*N47 -> 0 | O58: =(C47+D47)*O47 -> 0 | P58: =(C47+D47)*P47 -> 0 | Q58: =SUM(E59:P59) -> 0
B59: =B48 -> 0 | E59: =(C48+D48)*E48 -> 0 | F59: =(C48+D48)*(F48) -> 0 | G59: =(C48+D48)*(G48) -> 0 | H59: =(C48+D48)*H48 -> 0 | I59: =(C48+D48)*I48 -> 0 | J59: =(C48+D48)*J48 -> 0 | K59: =(C48+D48)*K48 -> 0 | L59: =(C48+D48)*L48 -> 0 | M59: =(C48+D48)*M48 -> 0 | N59: =(C48+D48)*N48 -> 0 | O59: =(C48+D48)*O48 -> 0 | P59: =(C48+D48)*P48 -> 0 | Q59: =SUM(E60:P60) -> 0
B60: =B49 -> 0 | E60: =(C49+D49)*E49 -> 0 | F60: =(C49+D49)*(F49) -> 0 | G60: =(C49+D49)*(G49) -> 0 | H60: =(C49+D49)*H49 -> 0 | I60: =(C49+D49)*I49 -> 0 | J60: =(C49+D49)*J49 -> 0 | K60: =(C49+D49)*K49 -> 0 | L60: =(C49+D49)*L49 -> 0 | M60: =(C49+D49)*M49 -> 0 | N60: =(C49+D49)*N49 -> 0 | O60: =(C49+D49)*O49 -> 0 | P60: =(C49+D49)*P49 -> 0 | Q60: =SUM(E61:P61) -> 0
B61: اجمالي رواتب الموظفين | E61: =SUM(E54:E60) -> 0 | F61: =SUM(F54:F60) -> 0 | G61: =SUM(G54:G60) -> 0 | H61: =SUM(H54:H60) -> 0 | I61: =SUM(I54:I60) -> 0 | J61: =SUM(J54:J60) -> 0 | K61: =SUM(K54:K60) -> 0 | L61: =SUM(L54:L60) -> 0 | ... P61: =SUM(P54:P60) -> 0
B64: اكمل هذا الجدول | E64: شهر 1 | F64: شهر 2 | G64: شهر 3 | H64: شهر 4 | I64: شهر 5 | J64: شهر 6 | K64: شهر 7 | L64: شهر 8 | M64: شهر 9 | N64: شهر 10 | O64: شهر 11 | P64: شهر 12
B65: نوع الوظيفة | C65: الرواتب | D65: البدلات | E65: عدد الموظفين خلال كل شهر ( السنة الثالثة)
B73: عدد الموظفين | E73: =SUM(E66:E72) -> 0 | F73: =SUM(F66:F72) -> 0 | G73: =SUM(G66:G72) -> 0 | H73: =SUM(H66:H72) -> 0 | I73: =SUM(I66:I72) -> 0 | J73: =SUM(J66:J72) -> 0 | K73: =SUM(K66:K72) -> 0 | L73: =SUM(L66:L72) -> 0 | ... P73: =SUM(P66:P72) -> 0
E75: شهر 1 | F75: شهر 2 | G75: شهر 3 | H75: شهر 4 | I75: شهر 5 | J75: شهر 6 | K75: شهر 7 | L75: شهر 8 | M75: شهر 9 | N75: شهر 10 | O75: شهر 11 | P75: شهر 12 | Q75: اجمالي الرواتب السنوية
B76: =(B65) -> نوع الوظيفة | E76: قيمة الرواتب الموظفين لكل شهر ( السنة الثالثة) | Q76: =SUM(E77:P77) -> 0
B77: =B66 -> 0 | E77: =(C66+D66)*E66 -> 0 | F77: =(C66+D66)*(F66) -> 0 | G77: =(C66+D66)*(G66) -> 0 | H77: =(C66+D66)*H66 -> 0 | I77: =(C66+D66)*I66 -> 0 | J77: =(C66+D66)*J66 -> 0 | K77: =(C66+D66)*K66 -> 0 | L77: =(C66+D66)*L66 -> 0 | M77: =(C66+D66)*M66 -> 0 | N77: =(C66+D66)*N66 -> 0 | O77: =(C66+D66)*O66 -> 0 | P77: =(C66+D66)*P66 -> 0 | Q77: =SUM(E78:P78) -> 0
B78: =B67 -> 0 | E78: =(C67+D67)*E67 -> 0 | F78: =(C67+D67)*(F67) -> 0 | G78: =(C67+D67)*(G67) -> 0 | H78: =(C67+D67)*H67 -> 0 | I78: =(C67+D67)*I67 -> 0 | J78: =(C67+D67)*J67 -> 0 | K78: =(C67+D67)*K67 -> 0 | L78: =(C67+D67)*L67 -> 0 | M78: =(C67+D67)*M67 -> 0 | N78: =(C67+D67)*N67 -> 0 | O78: =(C67+D67)*O67 -> 0 | P78: =(C67+D67)*P67 -> 0 | Q78: =SUM(E79:P79) -> 0
B79: =B68 -> 0 | E79: =(C68+D68)*E68 -> 0 | F79: =(C68+D68)*(F68) -> 0 | G79: =(C68+D68)*(G68) -> 0 | H79: =(C68+D68)*H68 -> 0 | I79: =(C68+D68)*I68 -> 0 | J79: =(C68+D68)*J68 -> 0 | K79: =(C68+D68)*K68 -> 0 | L79: =(C68+D68)*L68 -> 0 | M79: =(C68+D68)*M68 -> 0 | N79: =(C68+D68)*N68 -> 0 | O79: =(C68+D68)*O68 -> 0 | P79: =(C68+D68)*P68 -> 0 | Q79: =SUM(E80:P80) -> 0
B80: =B69 -> 0 | E80: =(C69+D69)*E69 -> 0 | F80: =(C69+D69)*(F69) -> 0 | G80: =(C69+D69)*(G69) -> 0 | H80: =(C69+D69)*H69 -> 0 | I80: =(C69+D69)*I69 -> 0 | J80: =(C69+D69)*J69 -> 0 | K80: =(C69+D69)*K69 -> 0 | L80: =(C69+D69)*L69 -> 0 | M80: =(C69+D69)*M69 -> 0 | N80: =(C69+D69)*N69 -> 0 | O80: =(C69+D69)*O69 -> 0 | P80: =(C69+D69)*P69 -> 0 | Q80: =SUM(E81:P81) -> 0
B81: =B70 -> 0 | E81: =(C70+D70)*E70 -> 0 | F81: =(C70+D70)*(F70) -> 0 | G81: =(C70+D70)*(G70) -> 0 | H81: =(C70+D70)*H70 -> 0 | I81: =(C70+D70)*I70 -> 0 | J81: =(C70+D70)*J70 -> 0 | K81: =(C70+D70)*K70 -> 0 | L81: =(C70+D70)*L70 -> 0 | M81: =(C70+D70)*M70 -> 0 | N81: =(C70+D70)*N70 -> 0 | O81: =(C70+D70)*O70 -> 0 | P81: =(C70+D70)*P70 -> 0 | Q81: =SUM(E82:P82) -> 0
B82: =B71 -> 0 | E82: =(C71+D71)*E71 -> 0 | F82: =(C71+D71)*(F71) -> 0 | G82: =(C71+D71)*(G71) -> 0 | H82: =(C71+D71)*H71 -> 0 | I82: =(C71+D71)*I71 -> 0 | J82: =(C71+D71)*J71 -> 0 | K82: =(C71+D71)*K71 -> 0 | L82: =(C71+D71)*L71 -> 0 | M82: =(C71+D71)*M71 -> 0 | N82: =(C71+D71)*N71 -> 0 | O82: =(C71+D71)*O71 -> 0 | P82: =(C71+D71)*P71 -> 0 | Q82: =SUM(E83:P83) -> 0
B83: =B72 -> 0 | E83: =(C72+D72)*E72 -> 0 | F83: =(C72+D72)*(F72) -> 0 | G83: =(C72+D72)*(G72) -> 0 | H83: =(C72+D72)*H72 -> 0 | I83: =(C72+D72)*I72 -> 0 | J83: =(C72+D72)*J72 -> 0 | K83: =(C72+D72)*K72 -> 0 | L83: =(C72+D72)*L72 -> 0 | M83: =(C72+D72)*M72 -> 0 | N83: =(C72+D72)*N72 -> 0 | O83: =(C72+D72)*O72 -> 0 | P83: =(C72+D72)*P72 -> 0 | Q83: =SUM(E84:P84) -> 0
B84: اجمالي رواتب الموظفين | E84: =SUM(E77:E83) -> 0 | F84: =SUM(F77:F83) -> 0 | G84: =SUM(G77:G83) -> 0 | H84: =SUM(H77:H83) -> 0 | I84: =SUM(I77:I83) -> 0 | J84: =SUM(J77:J83) -> 0 | K84: =SUM(K77:K83) -> 0 | L84: =SUM(L77:L83) -> 0 | ... P84: =SUM(P77:P83) -> 0

Sheet المصروفات
A1: أضف جميع النفقات الشهرية لشركتك هنا - الإيجار ، والمرافق ، والتأمين ، وتكاليف التسويق ، واللوازم المكتبية ،...الخ تأكد من عدم إدخال أي من هذه ا لمصروفات، حيث يتم تغطيتها في مكان آخر : 1- دفعات سداد القرض والفوائد. تسجل في بند تكاليف التأسيس 2 - مصروفات الرواتب . تسجل في بند الرواتب. 3- مدفوعات الضرائب او الزكاة. تسجل في بند معلومات إضافية. 4 - المواد الخام المستخدمة لأنتاج المنتج أو عمولات مبيعات أو مشتريات بالجملة من المورد. تسجل في بند المبيعات تكلفة البضاعة المباعة 5 - الأصول الثابنة أو المركبات أو المشتريات الرئيسية الأخرى. تسجل في بند تكاليف التأسيس او بند معلومات إضافية. 6 - مصروف الاهلاك. تسجل في بند تكاليف التأسيس.
O2: =B26 -> 0
M5: المصروفات
L6: السنة 1 | M6: =O28 -> 0
L7: السنة 2 | M7: =O39 -> 0
L8: السنة 3 | M8: =O50 -> 0
C19: شهر 1 | D19: شهر 2 | E19: شهر 3 | F19: شهر 4 | G19: شهر 5 | H19: شهر 6 | I19: شهر 7 | J19: شهر 8 | K19: شهر 9 | L19: شهر 10 | M19: شهر 11 | N19: شهر 12
B20: اسم المصروف | C20: المصروفات لكل شهر ( السنة الأولى) | O20: اجمالي مصروفات السنة الأولى
O21: =SUM(C21:N21) -> 0
O22: =SUM(C22:N22) -> 0
O23: =SUM(C23:N23) -> 0
O24: =SUM(C24:N24) -> 0
O25: =SUM(C25:N25) -> 0
O26: =SUM(C26:N26) -> 0
O27: =SUM(C27:N27) -> 0
B28: اجمالي المصروفات الشهرية | C28: =SUM(C21:C27) -> 0 | D28: =SUM(D21:D27) -> 0 | E28: =SUM(E21:E27) -> 0 | F28: =SUM(F21:F27) -> 0 | G28: =SUM(G21:G27) -> 0 | H28: =SUM(H21:H27) -> 0 | I28: =SUM(I21:I27) -> 0 | J28: =SUM(J21:J27) -> 0 | ... N28: =SUM(N21:N27) -> 0 | O28: =SUM(C28:N28) -> 0
C30: شهر 1 | D30: شهر 2 | E30: شهر 3 | F30: شهر 4 | G30: شهر 5 | H30: شهر 6 | I30: شهر 7 | J30: شهر 8 | K30: شهر 9 | L30: شهر 10 | M30: شهر 11 | N30: شهر 12
B31: اسم المصروف | C31: المصروفات لكل شهر ( السنة الثانية) | O31: اجمالي مصروفات السنة الثانية
B32: =(B21) -> 0 | O32: =SUM(C32:N32) -> 0
B33: =(B22) -> 0 | O33: =SUM(C33:N33) -> 0
B34: =(B23) -> 0 | O34: =SUM(C34:N34) -> 0
B35: =(B24) -> 0 | O35: =SUM(C35:N35) -> 0
B36: =(B25) -> 0 | O36: =SUM(C36:N36) -> 0
B37: =B26 -> 0 | O37: =SUM(C37:N37) -> 0
B38: =B27 -> 0 | O38: =SUM(C38:N38) -> 0
B39: اجمالي المصروفات الشهرية | C39: =SUM(C32:C38) -> 0 | D39: =SUM(D32:D38) -> 0 | E39: =SUM(E32:E38) -> 0 | F39: =SUM(F32:F38) -> 0 | G39: =SUM(G32:G38) -> 0 | H39: =SUM(H32:H38) -> 0 | I39: =SUM(I32:I38) -> 0 | J39: =SUM(J32:J38) -> 0 | ... N39: =SUM(N32:N38) -> 0 | O39: =SUM(C39:N39) -> 0
C41: شهر 1 | D41: شهر 2 | E41: شهر 3 | F41: شهر 4 | G41: شهر 5 | H41: شهر 6 | I41: شهر 7 | J41: شهر 8 | K41: شهر 9 | L41: شهر 10 | M41: شهر 11 | N41: شهر 12
B42: اسم المصروف | C42: المصروفات لكل شهر ( السنة الثالثة) | O42: اجمالي مصروفات السنة الثالثة
B43: =(B32) -> 0 | O43: =SUM(C43:N43) -> 0
B44: =(B33) -> 0 | O44: =SUM(C44:N44) -> 0
B45: =(B34) -> 0 | O45: =SUM(C45:N45) -> 0
B46: =(B35) -> 0 | O46: =SUM(C46:N46) -> 0
B47: =(B36) -> 0 | O47: =SUM(C47:N47) -> 0
B48: =B37 -> 0 | O48: =SUM(C48:N48) -> 0
B49: =B38 -> 0 | O49: =SUM(C49:N49) -> 0
B50: اجمالي المصروفات الشهرية | C50: =SUM(C43:C49) -> 0 | D50: =SUM(D43:D49) -> 0 | E50: =SUM(E43:E49) -> 0 | F50: =SUM(F43:F49) -> 0 | G50: =SUM(G43:G49) -> 0 | H50: =SUM(H43:H49) -> 0 | I50: =SUM(I43:I49) -> 0 | J50: =SUM(J43:J49) -> 0 | ... N50: =SUM(N43:N49) -> 0 | O50: =SUM(C50:N50) -> 0

Sheet معلومات اضافية
B4: في حال البيع للآجل للعملاء
B5: نسبة التحصيل من العملاء | C5: السنة 1 | D5: السنة 2 | E5: السنة 3
B6: يدفع العميل خلال 30 يوم | C6: 1 | D6: 1 | E6: 1
B7: يدفع العميل بين 30 الى 60 يوم | C7: 0 | D7: 0 | E7: 0
B8: يدفع العميل اكثر من 60 يوم | C8: 0 | D8: 0 | E8: 0
B9: تعثر العميل عن السداد | C9: 0 | D9: 0 | E9: 0 | Q9: الزكاة والضرائب
B10: لازم هذا الرقم يساوي 100% | C10: =SUM(C6:C9) -> 1 | D10: =SUM(D6:D9) -> 1 | E10: =SUM(E6:E9) -> 1 | Q10: ضريبة القيمة المضافة (VAT) | R10: 0.15
Q11: الزكاة | R11: 0.025
B12: في حال الشراء من الموردين بالآجل
B13: نسبة السداد للموردين | C13: السنة 1 | D13: السنة 2 | E13: السنة 3
B14: تدفع للموردين خلال 30 يوم | C14: 1 | D14: 1 | E14: 1
B15: تدفع للموردين بين 30 الى 60 يوم | C15: 0 | D15: 0 | E15: 0
B16: تدفع للموردين اكثر من 60 يوم | C16: 0 | D16: 0 | E16: 0
B17: لازم هذا الرقم يساوي 100% | C17: =SUM(C14:C16) -> 1 | D17: =SUM(D14:D16) -> 1 | E17: =SUM(E14:E16) -> 1
G19: السنة الأولى
B21: أصول ثابتة إضافية ( تريد شرائها بعد تشغيل المشروع)
B22: الأصول الثابنة | C22: الأهلاك (بالسنوات) | D22: شهر 1 | E22: شهر 2 | F22: شهر 3 | G22: شهر 4 | H22: شهر 5 | I22: شهر 6 | J22: شهر 7 | K22: شهر 8 | L22: شهر 9 | M22: شهر 10 | N22: شهر 11 | O22: شهر 12 | P22: اجمالي السنة
B23: ='تكاليف التأسيس'!D6 -> الأراضي | C23: ='تكاليف التأسيس'!H6 -> 0 | D23: =LAND -> 0 | P23: =SUM(D23:O23) -> 0
B24: ='تكاليف التأسيس'!D7 -> المباني | C24: ='تكاليف التأسيس'!H7 -> 50 | D24: =Buildings -> 0 | P24: =SUM(D24:O24) -> 0
B25: ='تكاليف التأسيس'!D8 -> ترميم مبنى مستأجر | C25: ='تكاليف التأسيس'!H8 -> 10 | D25: =LeaseImprovements -> 0 | P25: =SUM(D25:O25) -> 0
B26: ='تكاليف التأسيس'!D9 -> الآلات والمعدات | C26: ='تكاليف التأسيس'!H9 -> 7 | D26: =Equipment -> 0 | P26: =SUM(D26:O26) -> 0
B27: ='تكاليف التأسيس'!D10 -> الأثاث | C27: ='تكاليف التأسيس'!H10 -> 5 | D27: =Furniture -> 0 | P27: =SUM(D27:O27) -> 0
B28: ='تكاليف التأسيس'!D11 -> السيارات | C28: ='تكاليف التأسيس'!H11 -> 5 | D28: =Vehicles -> 0 | P28: =SUM(D28:O28) -> 0
B29: ='تكاليف التأسيس'!D12 -> أصول ثابتة أخرى | C29: ='تكاليف التأسيس'!H12 -> 5 | D29: =OtherFixedAssets -> 0 | P29: =SUM(D29:O29) -> 0
B30: اجمالي الأصول الثابتة | D30: =SUM(D23:D29) -> 0 | E30: =SUM(E23:E29) -> 0 | F30: =SUM(F23:F28) -> 0 | G30: =SUM(G23:G28) -> 0 | H30: =SUM(H23:H28) -> 0 | I30: =SUM(I23:I28) -> 0 | J30: =SUM(J23:J28) -> 0 | K30: =SUM(K23:K28) -> 0 | L30: =SUM(L23:L28) -> 0 | M30: =SUM(M23:M28) -> 0 | ... P30: =SUM(P23:P28) -> 0
G32: السنة الثانية
B34: أصول ثابتة إضافية ( تريد شرائها بعد تشغيل المشروع)
B35: الأصول الثابنة | C35: الأهلاك (بالسنوات) | D35: شهر 1 | E35: شهر 2 | F35: شهر 3 | G35: شهر 4 | H35: شهر 5 | I35: شهر 6 | J35: شهر 7 | K35: شهر 8 | L35: شهر 9 | M35: شهر 10 | N35: شهر 11 | O35: شهر 12 | P35: اجمالي السنة
B36: ='تكاليف التأسيس'!D6 -> الأراضي | C36: ='تكاليف التأسيس'!H6 -> 0 | P36: =SUM(D36:O36) -> 0
B37: ='تكاليف التأسيس'!D7 -> المباني | C37: ='تكاليف التأسيس'!H7 -> 50 | P37: =SUM(D37:O37) -> 0
B38: ='تكاليف التأسيس'!D8 -> ترميم مبنى مستأجر | C38: ='تكاليف التأسيس'!H8 -> 10 | P38: =SUM(D38:O38) -> 0
B39: ='تكاليف التأسيس'!D9 -> الآلات والمعدات | C39: ='تكاليف التأسيس'!H9 -> 7 | P39: =SUM(D39:O39) -> 0
B40: ='تكاليف التأسيس'!D10 -> الأثاث | C40: ='تكاليف التأسيس'!H10 -> 5 | P40: =SUM(D40:O40) -> 0
B41: ='تكاليف التأسيس'!D11 -> السيارات | C41: ='تكاليف التأسيس'!H11 -> 5 | P41: =SUM(D41:O41) -> 0
B42: ='تكاليف التأسيس'!D12 -> أصول ثابتة أخرى | C42: ='تكاليف التأسيس'!H12 -> 5 | P42: =SUM(D42:O42) -> 0
B43: اجمالي الأصول الثابتة | D43: =SUM(D36:D42) -> 0 | E43: =SUM(E36:E41) -> 0 | F43: =SUM(F36:F41) -> 0 | G43: =SUM(G36:G41) -> 0 | H43: =SUM(H36:H41) -> 0 | I43: =SUM(I36:I41) -> 0 | J43: =SUM(J36:J41) -> 0 | K43: =SUM(K36:K41) -> 0 | L43: =SUM(L36:L41) -> 0 | ... P43: =SUM(P36:P41) -> 0
G45: السنة الثالة
B47: أصول ثابتة إضافية ( تريد شرائها بعد تشغيل المشروع)
B48: الأصول الثابنة | C48: الأهلاك (بالسنوات) | D48: شهر 1 | E48: شهر 2 | F48: شهر 3 | G48: شهر 4 | H48: شهر 5 | I48: شهر 6 | J48: شهر 7 | K48: شهر 8 | L48: شهر 9 | M48: شهر 10 | N48: شهر 11 | O48: شهر 12 | P48: اجمالي السنة
B49: ='تكاليف التأسيس'!D6 -> الأراضي | C49: 0 | P49: =SUM(D49:O49) -> 0
B50: ='تكاليف التأسيس'!D7 -> المباني | C50: ='تكاليف التأسيس'!H7 -> 50 | P50: =SUM(D50:O50) -> 0
B51: ='تكاليف التأسيس'!D8 -> ترميم مبنى مستأجر | C51: ='تكاليف التأسيس'!H8 -> 10 | P51: =SUM(D51:O51) -> 0
B52: ='تكاليف التأسيس'!D9 -> الآلات والمعدات | C52: ='تكاليف التأسيس'!H9 -> 7 | P52: =SUM(D52:O52) -> 0
B53: ='تكاليف التأسيس'!D10 -> الأثاث | C53: ='تكاليف التأسيس'!H10 -> 5 | P53: =SUM(D53:O53) -> 0
B54: ='تكاليف التأسيس'!D11 -> السيارات | C54: ='تكاليف التأسيس'!H11 -> 5 | P54: =SUM(D54:O54) -> 0
B55: ='تكاليف التأسيس'!D12 -> أصول ثابتة أخرى | C55: ='تكاليف التأسيس'!H12 -> 5 | P55: =SUM(D55:O55) -> 0
B56: اجمالي الأصول الثابتة | D56: =SUM(D49:D55) -> 0 | E56: =SUM(E49:E54) -> 0 | F56: =SUM(F49:F54) -> 0 | G56: =SUM(G49:G54) -> 0 | H56: =SUM(H49:H54) -> 0 | I56: =SUM(I49:I54) -> 0 | J56: =SUM(J49:J54) -> 0 | K56: =SUM(K49:K54) -> 0 | L56: =SUM(L49:L54) -> 0 | ... P56: =SUM(P49:P54) -> 0

Sheet تكلفة البضاعة المباعة
D2: طريقة حساب تكاليف البضاعة المباعة
B4: تكاليف البضاعة المباعة غالبا تكون للانشطة التي تبيع منتجات ملموسة و هي تكاليف متغيرة اي كلما زاد الانتاج او المبيعات زادت التكلفة والعكس صحيح وبالأمثلة توضح:- 1- محل يبيع ملابس كلما زادت المبيعات زادت تكاليف البضاعة المباعة لأنه راح يشتري كمية اكثر من المورد يعني يشتري من مورد 10 ريال ويبيعها في المحل ب 15 ريال وتكون تكلفة البضاعة المباعة هي 10 ريال 2-مصنع الاثاث كلما زادت المبيعات زادت تكاليف البضاعة المباعة وهي المواد الخام مثل (الخشب،الحديد،النحاس) ويكون المنتج النهائي هو الأثاث على سبيل المثال تكلفة انتاج كرسي من خشب وحديد وقماش هي 10 ريال وسعر البيع هو 15 ريال فإن تكلفة البضاعة المباعة 10 ريال 3-المطعم كلما زادت المبيعات زادت تكلفة البضاعة المباعة مثل (اللحم، الدجاج، الخبز) ويكون المنتج النهائي ساندويش على سبيل المثال تكلفة المواد الخام (دجاج، لحم،خبز لتحضير ساندويش هي 10 ريال وسعر البيع هو 15 ريال اي ان تكلفة البضاعة المباعة هي 10 ريال 4- عند تحديد مبلغ عمولة لموظف المبيعات لكل عملية بيع للمنتج على سبيل المثال ان قيمة المنتج 10 ريال وتكلفة شراء المنتج من المورد 5 ريال و العمولة الى موظف المبيعات هي 1 ريال في كل عملية بيع اي ان تكلفة البضاعة المباعة للمنتج هي 6 ريال (5 ريال للمورد + 1 ريال عمولة لموظف المبيعات)
P5: 10 | Q5: تكلفة شراء االبضاعة من المورد
P6: 5 | Q6: عمولة المبيعات (ان وجد)
P7: =SUM(P5:P6) -> 15 | Q7: تكلفة البضاعة المباعة

Sheet الأرباح والخسائر
C2: السنة الأولى | D2: السنة الثانية | E2: السنة الثالثة
B3: المبيعات
B4: =B29 -> منتج 1 | C4: =O29 -> 0
B5: =B30 -> منتج 2 | C5: =O30 -> 0
B6: =B31 -> منتج 3 | C6: =O31 -> 0
B7: =B32 -> منتج 4 | C7: =O32 -> 0
B8: =B33 -> منتج 5 | C8: =O33 -> 0
B9: =B34 -> منتج 6 | C9: =O34 -> 0
B10: =B38 -> منتج 10 | C10: =O38 -> 0
B11: اجمالي المبيعات | C11: =O39 -> 0 | D11: =O80 -> 0 | E11: =O120 -> 0
B12: تكلفة البضاعة المباعة | C12: =O41 -> 0 | D12: =O82 -> 0 | E12: =O122 -> 0
B13: اجمالي هامش الربح | C13: =(C11-C12) -> 0 | D13: =(D11-D12) -> 0 | E13: =(E11-E12) -> 0 | K13: المبيعات | L13: التكاليف والمصروفات | M13: الأرباح او الخسائر
B14: % اجمالي هامش الربح | C14: =C43 -> #DIV/0! | D14: =O84 -> #DIV/0! | E14: =O124 -> #DIV/0! | J14: السنة 1 | K14: =C11 -> 0 | L14: =(C12+C16+C18) -> 0 | M14: =(K14-L14) -> 0
B15: مصاريف التشغيل | J15: السنة 2 | K15: =D11 -> 0 | L15: =(D12+D16+D18) -> #VALUE! | M15: =(K15-L15) -> #VALUE!
B16: اجمالي مصاريف التشغيل | C16: =O54 -> 0 | D16: =O94 -> 0 | E16: =O134 -> 0 | J16: السنة 3 | K16: =E11 -> 0 | L16: =(E12+E16+E18) -> 0 | M16: =(K16-L16) -> 0
B17: مصروفات أخرى
B18: اجمالي المصاريف الأخرى | C18: =O61 -> 0 | D18: =O101 -> #VALUE! | E18: =O141 -> 0
B19: الأرباح او الخسائر
B20: صافي الربح او الخسارة | C20: =(C13-C16-C18) -> 0 | D20: =O103 -> #VALUE! | E20: =O143 -> 0
B21: هامش صافي الربح % | C21: =O64 -> #DIV/0! | D21: =O104 -> #VALUE! | E21: =O144 -> #DIV/0!
G24: الأرباح والخسائر للسنة الأولى
C27: شهر 1 | D27: شهر 2 | E27: شهر 3 | F27: شهر 4 | G27: شهر 5 | H27: شهر 6 | I27: شهر 7 | J27: شهر 8 | K27: شهر 9 | L27: شهر 10 | M27: شهر 11 | N27: شهر 12 | O27: الإجمالي السنوي
A28: + | B28: المبيعات
B29: =المبيعات!B34 -> منتج 1 | C29: =المبيعات!E34 -> 0 | D29: =المبيعات!F34 -> 0 | E29: =المبيعات!G34 -> 0 | F29: =المبيعات!H34 -> 0 | G29: =المبيعات!I34 -> 0 | H29: =المبيعات!J34 -> 0 | I29: =المبيعات!K34 -> 0 | J29: =المبيعات!L34 -> 0 | ... N29: =المبيعات!P34 -> 0 | O29: =SUM(C29:N29) -> 0
B30: =المبيعات!B35 -> منتج 2 | C30: =المبيعات!E35 -> 0 | D30: =المبيعات!F35 -> 0 | E30: =المبيعات!G35 -> 0 | F30: =المبيعات!H35 -> 0 | G30: =المبيعات!I35 -> 0 | H30: =المبيعات!J35 -> 0 | I30: =المبيعات!K35 -> 0 | J30: =المبيعات!L35 -> 0 | ... N30: =المبيعات!P35 -> 0 | O30: =SUM(C30:N30) -> 0
B31: =المبيعات!B36 -> منتج 3 | C31: =المبيعات!E36 -> 0 | D31: =المبيعات!F36 -> 0 | E31: =المبيعات!G36 -> 0 | F31: =المبيعات!H36 -> 0 | G31: =المبيعات!I36 -> 0 | H31: =المبيعات!J36 -> 0 | I31: =المبيعات!K36 -> 0 | J31: =المبيعات!L36 -> 0 | ... N31: =المبيعات!P36 -> 0 | O31: =SUM(C31:N31) -> 0
B32: =المبيعات!B37 -> منتج 4 | C32: =المبيعات!E37 -> 0 | D32: =المبيعات!F37 -> 0 | E32: =المبيعات!G37 -> 0 | F32: =المبيعات!H37 -> 0 | G32: =المبيعات!I37 -> 0 | H32: =المبيعات!J37 -> 0 | I32: =المبيعات!K37 -> 0 | J32: =المبيعات!L37 -> 0 | ... N32: =المبيعات!P37 -> 0 | O32: =SUM(C32:N32) -> 0
B33: =المبيعات!B38 -> منتج 5 | C33: =المبيعات!E38 -> 0 | D33: =المبيعات!F38 -> 0 | E33: =المبيعات!G38 -> 0 | F33: =المبيعات!H38 -> 0 | G33: =المبيعات!I38 -> 0 | H33: =المبيعات!J38 -> 0 | I33: =المبيعات!K38 -> 0 | J33: =المبيعات!L38 -> 0 | ... N33: =المبيعات!P38 -> 0 | O33: =SUM(C33:N33) -> 0
B34: =المبيعات!B39 -> منتج 6 | C34: =المبيعات!E39 -> 0 | D34: =المبيعات!F39 -> 0 | E34: =المبيعات!G39 -> 0 | F34: =المبيعات!H39 -> 0 | G34: =المبيعات!I39 -> 0 | H34: =المبيعات!J39 -> 0 | I34: =المبيعات!K39 -> 0 | J34: =المبيعات!L39 -> 0 | ... N34: =المبيعات!P39 -> 0 | O34: =SUM(C34:N34) -> 0
B35: =المبيعات!B40 -> منتج 7 | C35: =المبيعات!E40 -> 0 | D35: =المبيعات!F40 -> 0 | E35: =المبيعات!G40 -> 0 | F35: =المبيعات!H40 -> 0 | G35: =المبيعات!I40 -> 0 | H35: =المبيعات!J40 -> 0 | I35: =المبيعات!K40 -> 0 | J35: =المبيعات!L40 -> 0 | ... N35: =المبيعات!P40 -> 0 | O35: =SUM(C35:N35) -> 0
B36: =المبيعات!B41 -> منتج 8 | C36: =المبيعات!E41 -> 0 | D36: =المبيعات!F41 -> 0 | E36: =المبيعات!G41 -> 0 | F36: =المبيعات!H41 -> 0 | G36: =المبيعات!I41 -> 0 | H36: =المبيعات!J41 -> 0 | I36: =المبيعات!K41 -> 0 | J36: =المبيعات!L41 -> 0 | ... N36: =المبيعات!P41 -> 0 | O36: =SUM(C36:N36) -> 0
B37: =المبيعات!B42 -> منتج 9 | C37: =المبيعات!E42 -> 0 | D37: =المبيعات!F42 -> 0 | E37: =المبيعات!G42 -> 0 | F37: =المبيعات!H42 -> 0 | G37: =المبيعات!I42 -> 0 | H37: =المبيعات!J42 -> 0 | I37: =المبيعات!K42 -> 0 | J37: =المبيعات!L42 -> 0 | ... N37: =المبيعات!P42 -> 0 | O37: =SUM(C37:N37) -> 0
B38: =المبيعات!B43 -> منتج 10 | C38: =المبيعات!E43 -> 0 | D38: =المبيعات!F43 -> 0 | E38: =المبيعات!G43 -> 0 | F38: =المبيعات!H43 -> 0 | G38: =المبيعات!I43 -> 0 | H38: =المبيعات!J43 -> 0 | I38: =المبيعات!K43 -> 0 | J38: =المبيعات!L43 -> 0 | ... N38: =المبيعات!P43 -> 0 | O38: =SUM(C38:N38) -> 0
B39: اجمالي المبيعات | C39: =SUM(C29:C38) -> 0 | D39: =SUM(D29:D38) -> 0 | E39: =SUM(E29:E38) -> 0 | F39: =SUM(F29:F38) -> 0 | G39: =SUM(G29:G38) -> 0 | H39: =SUM(H29:H38) -> 0 | I39: =SUM(I29:I38) -> 0 | J39: =SUM(J29:J38) -> 0 | ... O39: =SUM(O29:O38) -> 0
B40: VAT | C40: =C39*'معلومات اضافية'!R10 -> 0 | D40: =D39*'معلومات اضافية'!R10 -> 0 | E40: =E39*'معلومات اضافية'!R10 -> 0 | F40: =F39*'معلومات اضافية'!R10 -> 0 | G40: =G39*'معلومات اضافية'!R10 -> 0 | H40: =H39*'معلومات اضافية'!R10 -> 0 | I40: =I39*'معلومات اضافية'!R10 -> 0 | J40: =J39*'معلومات اضافية'!R10 -> 0 | K40: =K39*'معلومات اضافية'!R10 -> 0 | L40: =L39*'معلومات اضافية'!R10 -> 0 | M40: =M39*'معلومات اضافية'!R10 -> 0 | N40: =N39*'معلومات اضافية'!R10 -> 0
B41: تكلفة البضاعة المباعة | C41: =المبيعات!E45 -> 0 | D41: =المبيعات!F45 -> 0 | E41: =المبيعات!G45 -> 0 | F41: =المبيعات!H45 -> 0 | G41: =المبيعات!I45 -> 0 | H41: =المبيعات!J45 -> 0 | I41: =المبيعات!K45 -> 0 | J41: =المبيعات!L45 -> 0 | ... N41: =المبيعات!P45 -> 0 | O41: =SUM(C41:N41) -> 0
B42: اجمالي هامش الربح | C42: =(C39-C41) -> 0 | D42: =(D39-D41) -> 0 | E42: =(E39-E41) -> 0 | F42: =(F39-F41) -> 0 | G42: =(G39-G41) -> 0 | H42: =(H39-H41) -> 0 | I42: =(I39-I41) -> 0 | J42: =(J39-J41) -> 0 | ... N42: =(N39-N41) -> 0 | O42: =SUM(C42:N42) -> 0
B43: % اجمالي هامش الربح | C43: =(C42/C39) -> #DIV/0! | D43: =(D42/D39) -> #DIV/0! | E43: =(E42/E39) -> #DIV/0! | F43: =(F42/F39) -> #DIV/0! | G43: =(G42/G39) -> #DIV/0! | H43: =(H42/H39) -> #DIV/0! | I43: =(I42/I39) -> #DIV/0! | J43: =(J42/J39) -> #DIV/0! | ... O43: =(O42/O39) -> #DIV/0!
A44: + | B44: مصاريف التشغيل
B45: =Startups -> مصاريف التشغيل قبل الافتتاح | C45: =StartupEpense -> 0 | O45: =SUM(C45:N45) -> 0
B46: الرواتب | C46: =الرواتب!E38 -> 0 | D46: =الرواتب!F38 -> 0 | E46: =الرواتب!G38 -> 0 | F46: =الرواتب!H38 -> 0 | G46: =الرواتب!I38 -> 0 | H46: =الرواتب!J38 -> 0 | I46: =الرواتب!K38 -> 0 | J46: =الرواتب!L38 -> 0 | ... N46: =الرواتب!P38 -> 0 | O46: =SUM(C46:N46) -> 0
B47: =المصروفات!B21 -> 0 | C47: =المصروفات!C21 -> 0 | D47: =المصروفات!D21 -> 0 | E47: =المصروفات!E21 -> 0 | F47: =المصروفات!F21 -> 0 | G47: =المصروفات!G21 -> 0 | H47: =المصروفات!H21 -> 0 | I47: =المصروفات!I21 -> 0 | ... N47: =المصروفات!N21 -> 0 | O47: =SUM(C47:N47) -> 0
B48: =المصروفات!B22 -> 0 | C48: =المصروفات!C22 -> 0 | D48: =المصروفات!D22 -> 0 | E48: =المصروفات!E22 -> 0 | F48: =المصروفات!F22 -> 0 | G48: =المصروفات!G22 -> 0 | H48: =المصروفات!H22 -> 0 | I48: =المصروفات!I22 -> 0 | ... N48: =المصروفات!N22 -> 0 | O48: =SUM(C48:N48) -> 0
B49: =المصروفات!B23 -> 0 | C49: =المصروفات!C23 -> 0 | D49: =المصروفات!D23 -> 0 | E49: =المصروفات!E23 -> 0 | F49: =المصروفات!F23 -> 0 | G49: =المصروفات!G23 -> 0 | H49: =المصروفات!H23 -> 0 | I49: =المصروفات!I23 -> 0 | ... N49: =المصروفات!N23 -> 0 | O49: =SUM(C49:N49) -> 0
B50: =المصروفات!B24 -> 0 | C50: =المصروفات!C24 -> 0 | D50: =المصروفات!D24 -> 0 | E50: =المصروفات!E24 -> 0 | F50: =المصروفات!F24 -> 0 | G50: =المصروفات!G24 -> 0 | H50: =المصروفات!H24 -> 0 | I50: =المصروفات!I24 -> 0 | ... N50: =المصروفات!N24 -> 0 | O50: =SUM(C50:N50) -> 0
B51: =المصروفات!B25 -> 0 | C51: =المصروفات!C25 -> 0 | D51: =المصروفات!D25 -> 0 | E51: =المصروفات!E25 -> 0 | F51: =المصروفات!F25 -> 0 | G51: =المصروفات!G25 -> 0 | H51: =المصروفات!H25 -> 0 | I51: =المصروفات!I25 -> 0 | ... N51: =المصروفات!N25 -> 0 | O51: =SUM(C51:N51) -> 0
B52: =المصروفات!B26 -> 0 | C52: =المصروفات!C26 -> 0 | D52: =المصروفات!D26 -> 0 | E52: =المصروفات!E26 -> 0 | F52: =المصروفات!F26 -> 0 | G52: =المصروفات!G26 -> 0 | H52: =المصروفات!H26 -> 0 | I52: =المصروفات!I26 -> 0 | ... N52: =المصروفات!N26 -> 0 | O52: =SUM(C52:N52) -> 0
B53: =المصروفات!B27 -> 0 | C53: =المصروفات!C27 -> 0 | D53: =المصروفات!D27 -> 0 | E53: =المصروفات!E27 -> 0 | F53: =المصروفات!F27 -> 0 | G53: =المصروفات!G27 -> 0 | H53: =المصروفات!H27 -> 0 | I53: =المصروفات!I27 -> 0 | ... N53: =المصروفات!N27 -> 0 | O53: =SUM(C53:N53) -> 0
B54: اجمالي مصاريف التشغيل | C54: =SUM(C45:C53) -> 0 | D54: =SUM(D46:D53) -> 0 | E54: =SUM(E46:E53) -> 0 | F54: =SUM(F46:F53) -> 0 | G54: =SUM(G46:G53) -> 0 | H54: =SUM(H46:H53) -> 0 | I54: =SUM(I46:I53) -> 0 | J54: =SUM(J46:J53) -> 0 | K54: =SUM(K46:K53) -> 0 | ... N54: =SUM(N46:N53) -> 0 | O54: =SUM(C54:N54) -> 0
A55: + | B55: مصروفات أخرى
B56: الاهلاك | C56: =' سداد القروض '!C58 -> 0 | D56: =' سداد القروض '!D58 -> 0 | E56: =' سداد القروض '!E58 -> 0 | F56: =' سداد القروض '!F58 -> 0 | G56: =' سداد القروض '!G58 -> 0 | H56: =' سداد القروض '!H58 -> 0 | I56: =' سداد القروض '!I58 -> 0 | J56: =' سداد القروض '!J58 -> 0 | ... N56: =' سداد القروض '!N58 -> 0 | O56: =SUM(C56:N56) -> 0
B57: فوائد قرض البنك | C57: =' سداد القروض '!C14 -> 0 | D57: =' سداد القروض '!D14 -> 0 | E57: =' سداد القروض '!E14 -> 0 | F57: =' سداد القروض '!F14 -> 0 | G57: =' سداد القروض '!G14 -> 0 | H57: =' سداد القروض '!H14 -> 0 | I57: =' سداد القروض '!I14 -> 0 | J57: =' سداد القروض '!J14 -> 0 | ... N57: =' سداد القروض '!N14 -> 0 | O57: =SUM(C57:N57) -> 0
B58: فوائد قروض وديون أخرى | C58: =' سداد القروض '!C34 -> 0 | D58: =' سداد القروض '!D34 -> 0 | E58: =' سداد القروض '!E34 -> 0 | F58: =' سداد القروض '!F34 -> 0 | G58: =' سداد القروض '!G34 -> 0 | H58: =' سداد القروض '!H34 -> 0 | I58: =' سداد القروض '!I34 -> 0 | J58: =' سداد القروض '!J34 -> 0 | ... N58: =' سداد القروض '!N34 -> 0 | O58: =SUM(C58:N58) -> 0
B59: الديون المعدومة | C59: =+المبيعات!E44*'معلومات اضافية'!$C$9 -> 0 | D59: =+المبيعات!F44*'معلومات اضافية'!$C$9 -> 0 | E59: =+المبيعات!G44*'معلومات اضافية'!$C$9 -> 0 | F59: =+المبيعات!H44*'معلومات اضافية'!$C$9 -> 0 | G59: =+المبيعات!I44*'معلومات اضافية'!$C$9 -> 0 | H59: =+المبيعات!J44*'معلومات اضافية'!$C$9 -> 0 | I59: =+المبيعات!K44*'معلومات اضافية'!$C$9 -> 0 | J59: =+المبيعات!L44*'معلومات اضافية'!$C$9 -> 0 | ... N59: =+المبيعات!P44*'معلومات اضافية'!$C$9 -> 0 | O59: 0
B60: الزكاة | C60: =(C39*0.00688) -> 0 | D60: =(D39*0.00688) -> 0 | E60: =(E39*0.00688) -> 0 | F60: =(F39*0.00688) -> 0 | G60: =(G39*0.00688) -> 0 | H60: =(H39*0.00688) -> 0 | I60: =(I39*0.00688) -> 0 | J60: =(J39*0.00688) -> 0 | ... N60: =(N39*0.00688) -> 0 | O60: =SUM(C60:N60) -> 0
B61: اجمالي مصروفات أخرى | C61: =SUM(C56:C60) -> 0 | D61: =SUM(D56:D60) -> 0 | E61: =SUM(E56:E60) -> 0 | F61: =SUM(F56:F60) -> 0 | G61: =SUM(G56:G60) -> 0 | H61: =SUM(H56:H60) -> 0 | I61: =SUM(I56:I60) -> 0 | J61: =SUM(J56:J60) -> 0 | ... N61: =SUM(N56:N60) -> 0 | O61: =SUM(C61:N61) -> 0
B62: الأرباح او الخسائر
B63: صافي الربح | C63: =(C42-C54-C61) -> 0 | D63: =(D42-D54-D61) -> 0 | E63: =(E42-E54-E61) -> 0 | F63: =(F42-F54-F61) -> 0 | G63: =(G42-G54-G61) -> 0 | H63: =(H42-H54-H61) -> 0 | I63: =(I42-I54-I61) -> 0 | J63: =(J42-J54-J61) -> 0 | ... N63: =(N42-N54-N61) -> 0 | O63: =SUM(C63:N63) -> 0
B64: هامش صافي الربح % | C64: =(C63/C39) -> #DIV/0! | D64: =(D63/D39) -> #DIV/0! | E64: =(E63/E39) -> #DIV/0! | F64: =(F63/F39) -> #DIV/0! | G64: =(G63/G39) -> #DIV/0! | H64: =(H63/H39) -> #DIV/0! | I64: =(I63/I39) -> #DIV/0! | J64: =(J63/J39) -> #DIV/0! | ... O64: =(O63/O39) -> #DIV/0!
G65: الأرباح والخسائر للسنة الثانية
C68: شهر 1 | D68: شهر 2 | E68: شهر 3 | F68: شهر 4 | G68: شهر 5 | H68: شهر 6 | I68: شهر 7 | J68: شهر 8 | K68: شهر 9 | L68: شهر 10 | M68: شهر 11 | N68: شهر 12 | O68: الإجمالي السنوي
A69: + | B69: المبيعات
B70: =المبيعات!B64 -> منتج 1 | C70: =المبيعات!E64 -> 0 | D70: =المبيعات!F64 -> 0 | E70: =المبيعات!G64 -> 0 | F70: =المبيعات!H64 -> 0 | G70: =المبيعات!I64 -> 0 | H70: =المبيعات!J64 -> 0 | I70: =المبيعات!K64 -> 0 | J70: =المبيعات!L64 -> 0 | ... N70: =المبيعات!P64 -> 0 | O70: =SUM(C70:N70) -> 0
B71: =المبيعات!B65 -> منتج 2 | C71: =المبيعات!E65 -> 0 | D71: =المبيعات!F65 -> 0 | E71: =المبيعات!G65 -> 0 | F71: =المبيعات!H65 -> 0 | G71: =المبيعات!I65 -> 0 | H71: =المبيعات!J65 -> 0 | I71: =المبيعات!K65 -> 0 | J71: =المبيعات!L65 -> 0 | ... N71: =المبيعات!P65 -> 0 | O71: =SUM(C71:N71) -> 0
B72: =المبيعات!B66 -> منتج 3 | C72: =المبيعات!E66 -> 0 | D72: =المبيعات!F66 -> 0 | E72: =المبيعات!G66 -> 0 | F72: =المبيعات!H66 -> 0 | G72: =المبيعات!I66 -> 0 | H72: =المبيعات!J66 -> 0 | I72: =المبيعات!K66 -> 0 | J72: =المبيعات!L66 -> 0 | ... N72: =المبيعات!P66 -> 0 | O72: =SUM(C72:N72) -> 0
B73: =المبيعات!B67 -> منتج 4 | C73: =المبيعات!E67 -> 0 | D73: =المبيعات!F67 -> 0 | E73: =المبيعات!G67 -> 0 | F73: =المبيعات!H67 -> 0 | G73: =المبيعات!I67 -> 0 | H73: =المبيعات!J67 -> 0 | I73: =المبيعات!K67 -> 0 | J73: =المبيعات!L67 -> 0 | ... N73: =المبيعات!P67 -> 0 | O73: =SUM(C73:N73) -> 0
B74: =المبيعات!B68 -> منتج 5 | C74: =المبيعات!E68 -> 0 | D74: =المبيعات!F68 -> 0 | E74: =المبيعات!G68 -> 0 | F74: =المبيعات!H68 -> 0 | G74: =المبيعات!I68 -> 0 | H74: =المبيعات!J68 -> 0 | I74: =المبيعات!K68 -> 0 | J74: =المبيعات!L68 -> 0 | ... N74: =المبيعات!P68 -> 0 | O74: =SUM(C74:N74) -> 0
B75: =المبيعات!B69 -> منتج 6 | C75: =المبيعات!E69 -> 0 | D75: =المبيعات!F69 -> 0 | E75: =المبيعات!G69 -> 0 | F75: =المبيعات!H69 -> 0 | G75: =المبيعات!I69 -> 0 | H75: =المبيعات!J69 -> 0 | I75: =المبيعات!K69 -> 0 | J75: =المبيعات!L69 -> 0 | ... N75: =المبيعات!P69 -> 0 | O75: =SUM(C75:N75) -> 0
B76: =المبيعات!B70 -> منتج 7 | C76: =المبيعات!E70 -> 0 | D76: =المبيعات!F70 -> 0 | E76: =المبيعات!G70 -> 0 | F76: =المبيعات!H70 -> 0 | G76: =المبيعات!I70 -> 0 | H76: =المبيعات!J70 -> 0 | I76: =المبيعات!K70 -> 0 | J76: =المبيعات!L70 -> 0 | ... N76: =المبيعات!P70 -> 0 | O76: =SUM(C76:N76) -> 0
B77: =المبيعات!B71 -> منتج 8 | C77: =المبيعات!E71 -> 0 | D77: =المبيعات!F71 -> 0 | E77: =المبيعات!G71 -> 0 | F77: =المبيعات!H71 -> 0 | G77: =المبيعات!I71 -> 0 | H77: =المبيعات!J71 -> 0 | I77: =المبيعات!K71 -> 0 | J77: =المبيعات!L71 -> 0 | ... N77: =المبيعات!P71 -> 0 | O77: =SUM(C77:N77) -> 0
B78: =المبيعات!B72 -> منتج 9 | C78: =المبيعات!E72 -> 0 | D78: =المبيعات!F72 -> 0 | E78: =المبيعات!G72 -> 0 | F78: =المبيعات!H72 -> 0 | G78: =المبيعات!I72 -> 0 | H78: =المبيعات!J72 -> 0 | I78: =المبيعات!K72 -> 0 | J78: =المبيعات!L72 -> 0 | ... N78: =المبيعات!P72 -> 0 | O78: =SUM(C78:N78) -> 0
B79: =المبيعات!B73 -> منتج 10 | C79: =المبيعات!E73 -> 0 | D79: =المبيعات!F73 -> 0 | E79: =المبيعات!G73 -> 0 | F79: =المبيعات!H73 -> 0 | G79: =المبيعات!I73 -> 0 | H79: =المبيعات!J73 -> 0 | I79: =المبيعات!K73 -> 0 | J79: =المبيعات!L73 -> 0 | ... N79: =المبيعات!P73 -> 0 | O79: =SUM(C79:N79) -> 0
B80: اجمالي المبيعات | C80: =SUM(C70:C79) -> 0 | D80: =SUM(D70:D79) -> 0 | E80: =SUM(E70:E79) -> 0 | F80: =SUM(F70:F79) -> 0 | G80: =SUM(G70:G79) -> 0 | H80: =SUM(H70:H79) -> 0 | I80: =SUM(I70:I79) -> 0 | J80: =SUM(J70:J79) -> 0 | ... N80: =SUM(N70:N79) -> 0 | O80: =SUM(C80:N80) -> 0
B81: VAT | C81: =C80*'معلومات اضافية'!R10 -> 0 | D81: =D80*'معلومات اضافية'!R10 -> 0 | E81: =E80*'معلومات اضافية'!R10 -> 0 | F81: =F80*'معلومات اضافية'!R10 -> 0 | G81: =G80*'معلومات اضافية'!R10 -> 0 | H81: =H80*'معلومات اضافية'!R10 -> 0 | I81: =I80*'معلومات اضافية'!R10 -> 0 | J81: =J80*'معلومات اضافية'!R10 -> 0 | K81: =K80*'معلومات اضافية'!R10 -> 0 | L81: =L80*'معلومات اضافية'!R10 -> 0 | M81: =M80*'معلومات اضافية'!R10 -> 0 | N81: =N80*'معلومات اضافية'!R10 -> 0
B82: تكلفة البضاعة المباعة | C82: =المبيعات!E75 -> 0 | D82: =المبيعات!F75 -> 0 | E82: =المبيعات!G75 -> 0 | F82: =المبيعات!H75 -> 0 | G82: =المبيعات!I75 -> 0 | H82: =المبيعات!J75 -> 0 | I82: =المبيعات!K75 -> 0 | J82: =المبيعات!L75 -> 0 | ... N82: =المبيعات!P75 -> 0 | O82: =SUM(C82:N82) -> 0
B83: اجمالي هامش الربح | C83: =(C80-C82) -> 0 | D83: =(D80-D82) -> 0 | E83: =(E80-E82) -> 0 | F83: =(F80-F82) -> 0 | G83: =(G80-G82) -> 0 | H83: =(H80-H82) -> 0 | I83: =(I80-I82) -> 0 | J83: =(J80-J82) -> 0 | ... N83: =(N80-N82) -> 0 | O83: =SUM(C83:N83) -> 0
B84: % هامش الربح | C84: =(C83/C80) -> #DIV/0! | D84: =(D83/D80) -> #DIV/0! | E84: =(E83/E80) -> #DIV/0! | F84: =(F83/F80) -> #DIV/0! | G84: =(G83/G80) -> #DIV/0! | H84: =(H83/H80) -> #DIV/0! | I84: =(I83/I80) -> #DIV/0! | J84: =(J83/J80) -> #DIV/0! | ... O84: =(O83/O80) -> #DIV/0!
A85: + | B85: مصاريف التشغيل
B86: الرواتب | C86: =الرواتب!E61 -> 0 | D86: =الرواتب!F61 -> 0 | E86: =الرواتب!G61 -> 0 | F86: =الرواتب!H61 -> 0 | G86: =الرواتب!I61 -> 0 | H86: =الرواتب!J61 -> 0 | I86: =الرواتب!K61 -> 0 | J86: =الرواتب!L61 -> 0 | ... N86: =الرواتب!P61 -> 0 | O86: =SUM(C86:N86) -> 0
B87: =المصروفات!B32 -> 0 | C87: =المصروفات!C32 -> 0 | D87: =المصروفات!D32 -> 0 | E87: =المصروفات!E32 -> 0 | F87: =المصروفات!F32 -> 0 | G87: =المصروفات!G32 -> 0 | H87: =المصروفات!H32 -> 0 | I87: =المصروفات!I32 -> 0 | ... N87: =المصروفات!N32 -> 0 | O87: =SUM(C87:N87) -> 0
B88: =المصروفات!B33 -> 0 | C88: =المصروفات!C33 -> 0 | D88: =المصروفات!D33 -> 0 | E88: =المصروفات!E33 -> 0 | F88: =المصروفات!F33 -> 0 | G88: =المصروفات!G33 -> 0 | H88: =المصروفات!H33 -> 0 | I88: =المصروفات!I33 -> 0 | ... N88: =المصروفات!N33 -> 0 | O88: =SUM(C88:N88) -> 0
B89: =المصروفات!B34 -> 0 | C89: =المصروفات!C34 -> 0 | D89: =المصروفات!D34 -> 0 | E89: =المصروفات!E34 -> 0 | F89: =المصروفات!F34 -> 0 | G89: =المصروفات!G34 -> 0 | H89: =المصروفات!H34 -> 0 | I89: =المصروفات!I34 -> 0 | ... N89: =المصروفات!N34 -> 0 | O89: =SUM(C89:N89) -> 0
B90: =المصروفات!B35 -> 0 | C90: =المصروفات!C35 -> 0 | D90: =المصروفات!D35 -> 0 | E90: =المصروفات!E35 -> 0 | F90: =المصروفات!F35 -> 0 | G90: =المصروفات!G35 -> 0 | H90: =المصروفات!H35 -> 0 | I90: =المصروفات!I35 -> 0 | ... N90: =المصروفات!N35 -> 0 | O90: =SUM(C90:N90) -> 0
B91: =المصروفات!B36 -> 0 | C91: =المصروفات!C36 -> 0 | D91: =المصروفات!D36 -> 0 | E91: =المصروفات!E36 -> 0 | F91: =المصروفات!F36 -> 0 | G91: =المصروفات!G36 -> 0 | H91: =المصروفات!H36 -> 0 | I91: =المصروفات!I36 -> 0 | ... N91: =المصروفات!N36 -> 0 | O91: =SUM(C91:N91) -> 0
B92: =المصروفات!B37 -> 0 | C92: =المصروفات!C37 -> 0 | D92: =المصروفات!D37 -> 0 | E92: =المصروفات!E37 -> 0 | F92: =المصروفات!F37 -> 0 | G92: =المصروفات!G37 -> 0 | H92: =المصروفات!H37 -> 0 | I92: =المصروفات!I37 -> 0 | ... N92: =المصروفات!N37 -> 0 | O92: =SUM(C92:N92) -> 0
B93: =المصروفات!B38 -> 0 | C93: =المصروفات!C38 -> 0 | D93: =المصروفات!D38 -> 0 | E93: =المصروفات!E38 -> 0 | F93: =المصروفات!F38 -> 0 | G93: =المصروفات!G38 -> 0 | H93: =المصروفات!H38 -> 0 | I93: =المصروفات!I38 -> 0 | ... N93: =المصروفات!N38 -> 0 | O93: =SUM(C93:N93) -> 0
B94: اجمالي مصاريف التشغيل | C94: =SUM(C86:C93) -> 0 | D94: =SUM(D86:D93) -> 0 | E94: =SUM(E86:E93) -> 0 | F94: =SUM(F86:F93) -> 0 | G94: =SUM(G86:G93) -> 0 | H94: =SUM(H86:H93) -> 0 | I94: =SUM(I86:I93) -> 0 | J94: =SUM(J86:J93) -> 0 | ... N94: =SUM(N86:N93) -> 0 | O94: =SUM(C94:N94) -> 0
A95: + | B95: مصروفات أخرى
B96: الاهلاك | C96: =' سداد القروض '!C62 -> 0 | D96: =' سداد القروض '!D62 -> 0 | E96: =' سداد القروض '!E62 -> 0 | F96: =' سداد القروض '!F62 -> 0 | G96: =' سداد القروض '!G62 -> 0 | H96: =' سداد القروض '!H62 -> 0 | I96: =' سداد القروض '!I62 -> 0 | J96: =' سداد القروض '!J62 -> 0 | ... N96: =' سداد القروض '!N62 -> 0 | O96: =SUM(C96:N96) -> 0
B97: فوائد قرض البنك | C97: =' سداد القروض '!C18 -> 0 | D97: =' سداد القروض '!D18 -> 0 | E97: =' سداد القروض '!E18 -> 0 | F97: =' سداد القروض '!F18 -> 0 | G97: =' سداد القروض '!G18 -> 0 | H97: =' سداد القروض '!H18 -> 0 | I97: =' سداد القروض '!I18 -> 0 | J97: =' سداد القروض '!J18 -> 0 | ... N97: =' سداد القروض '!N18 -> 0 | O97: =SUM(C97:N97) -> 0
B98: فوائد قروض وديون أخرى | C98: =' سداد القروض '!C38 -> 0 | D98: =' سداد القروض '!D38 -> 0 | E98: =' سداد القروض '!E38 -> 0 | F98: =' سداد القروض '!F38 -> 0 | G98: =' سداد القروض '!G38 -> 0 | H98: =' سداد القروض '!H38 -> 0 | I98: =' سداد القروض '!I38 -> 0 | J98: =' سداد القروض '!J38 -> 0 | ... N98: =' سداد القروض '!N38 -> 0 | O98: =SUM(C98:N98) -> 0
B99: الديون المعدومة | C99: =+المبيعات!E74*'معلومات اضافية'!$D$9 -> 0 | D99: =+المبيعات!F74*'معلومات اضافية'!$D$9 -> 0 | E99: =+المبيعات!G74*'معلومات اضافية'!$D$9 -> 0 | F99: =+المبيعات!H74*'معلومات اضافية'!$D$9 -> #VALUE! | G99: =+المبيعات!I74*'معلومات اضافية'!$D$9 -> 0 | H99: =+المبيعات!J74*'معلومات اضافية'!$D$9 -> 0 | I99: =+المبيعات!K74*'معلومات اضافية'!$D$9 -> 0 | J99: =+المبيعات!L74*'معلومات اضافية'!$D$9 -> 0 | ... N99: =+المبيعات!P74*'معلومات اضافية'!$D$9 -> 0 | O99: 0
B100: الزكاة | C100: =(C80*0.00688) -> 0 | D100: =(D80*0.00688) -> 0 | E100: =(E80*0.00688) -> 0 | F100: =(F80*0.00688) -> 0 | G100: =(G80*0.00688) -> 0 | H100: =(H80*0.00688) -> 0 | I100: =(I80*0.00688) -> 0 | J100: =(J80*0.00688) -> 0 | ... N100: =(N80*0.00688) -> 0 | O100: =SUM(C100:N100) -> 0
B101: اجمالي مصروفات أخرى | C101: =SUM(C96:C100) -> 0 | D101: =SUM(D96:D100) -> 0 | E101: =SUM(E96:E100) -> 0 | F101: =SUM(F96:F100) -> #VALUE! | G101: =SUM(G96:G100) -> 0 | H101: =SUM(H96:H100) -> 0 | I101: =SUM(I96:I100) -> 0 | J101: =SUM(J96:J100) -> 0 | ... N101: =SUM(N96:N100) -> 0 | O101: =SUM(C101:N101) -> #VALUE!
B102: الأرباح او الخسائر
B103: صافي الربح او الخسارة | C103: =(C83-C94-C101) -> 0 | D103: =(D83-D94-D101) -> 0 | E103: =(E83-E94-E101) -> 0 | F103: =(F83-F94-F101) -> #VALUE! | G103: =(G83-G94-G101) -> 0 | H103: =(H83-H94-H101) -> 0 | I103: =(I83-I94-I101) -> 0 | J103: =(J83-J94-J101) -> 0 | ... N103: =(N83-N94-N101) -> 0 | O103: =SUM(C103:N103) -> #VALUE!
B104: هامش صافي الربح % | C104: =(C103/C80) -> #DIV/0! | D104: =(D103/D80) -> #DIV/0! | E104: =(E103/E80) -> #DIV/0! | F104: =(F103/F80) -> #VALUE! | G104: =(G103/G80) -> #DIV/0! | H104: =(H103/H80) -> #DIV/0! | I104: =(I103/I80) -> #DIV/0! | J104: =(J103/J80) -> #DIV/0! | ... O104: =(O103/O80) -> #VALUE!
G105: الأرباح والخسائر للسنة الثالثة
C108: شهر 1 | D108: شهر 2 | E108: شهر 3 | F108: شهر 4 | G108: شهر 5 | H108: شهر 6 | I108: شهر 7 | J108: شهر 8 | K108: شهر 9 | L108: شهر 10 | M108: شهر 11 | N108: شهر 12 | O108: الإجمالي السنوي
A109: + | B109: المبيعات
...

Sheet التدفقات النقدية (حساب البنك)
G3: التدفقات النقدية للسنة الأولى
C6: شهر 1 | D6: شهر 2 | E6: شهر 3 | F6: شهر 4 | G6: شهر 5 | H6: شهر 6 | I6: شهر 7 | J6: شهر 8 | K6: شهر 9 | L6: شهر 10 | M6: شهر 11 | N6: شهر 12 | O6: الإجمالي
B7: الكاش اللي دخل للمشروع
B8: المبيعات بالنقد | C8: =(المبيعات!E44*'معلومات اضافية'!$C$6) -> 0 | D8: =المبيعات!F44*'معلومات اضافية'!$C$6 -> 0 | E8: =المبيعات!G44*'معلومات اضافية'!$C$6 -> 0 | F8: =المبيعات!H44*'معلومات اضافية'!$C$6 -> 0 | G8: =المبيعات!I44*'معلومات اضافية'!$C$6 -> 0 | H8: =المبيعات!J44*'معلومات اضافية'!$C$6 -> 0 | I8: =المبيعات!K44*'معلومات اضافية'!$C$6 -> 0 | J8: =المبيعات!L44*'معلومات اضافية'!$C$6 -> 0 | K8: =المبيعات!M44*'معلومات اضافية'!$C$6 -> 0 | ... N8: =المبيعات!P44*'معلومات اضافية'!$C$6 -> 0 | O8: =SUM(C8:N8) -> 0
B9: المبيعات بالآجل | D9: =المبيعات!E44*'معلومات اضافية'!$C$7 -> 0 | E9: =(المبيعات!F44*'معلومات اضافية'!$C$7)+(المبيعات!E44*'معلومات اضافية'!$C$8) -> 0 | F9: =(المبيعات!G44*'معلومات اضافية'!$C$7)+(المبيعات!F44*'معلومات اضافية'!$C$8) -> 0 | G9: =(المبيعات!H44*'معلومات اضافية'!$C$7)+(المبيعات!G44*'معلومات اضافية'!$C$8) -> 0 | H9: =(المبيعات!I44*'معلومات اضافية'!$C$7)+(المبيعات!H44*'معلومات اضافية'!$C$8) -> 0 | I9: =(المبيعات!J44*'معلومات اضافية'!$C$7)+(المبيعات!I44*'معلومات اضافية'!$C$8) -> 0 | J9: =(المبيعات!K44*'معلومات اضافية'!$C$7)+(المبيعات!J44*'معلومات اضافية'!$C$8) -> 0 | K9: =(المبيعات!L44*'معلومات اضافية'!$C$7)+(المبيعات!K44*'معلومات اضافية'!$C$8) -> 0 | L9: =(المبيعات!M44*'معلومات اضافية'!$C$7)+(المبيعات!L44*'معلومات اضافية'!$C$8) -> 0 | ... N9: =(المبيعات!O44*'معلومات اضافية'!$C$7)+(المبيعات!N44*'معلومات اضافية'!$C$8) -> 0 | O9: =SUM(C9:N9) -> 0
B10: ضريبة القيمة المضافة (VAT) | C10: ='الأرباح والخسائر'!C40 -> 0 | D10: ='الأرباح والخسائر'!D40 -> 0 | E10: ='الأرباح والخسائر'!E40 -> 0 | F10: ='الأرباح والخسائر'!F40 -> 0 | G10: ='الأرباح والخسائر'!G40 -> 0 | H10: ='الأرباح والخسائر'!H40 -> 0 | I10: ='الأرباح والخسائر'!I40 -> 0 | J10: ='الأرباح والخسائر'!J40 -> 0 | ... N10: ='الأرباح والخسائر'!N40 -> 0 | O10: =SUM(C10:N10) -> 0
B11: اجمالي الكاش اللي دخل المشروع | C11: =SUM(C8:C10) -> 0 | D11: =SUM(D8:D10) -> 0 | E11: =SUM(E8:E10) -> 0 | F11: =SUM(F8:F10) -> 0 | G11: =SUM(G8:G10) -> 0 | H11: =SUM(H8:H10) -> 0 | I11: =SUM(I8:I10) -> 0 | J11: =SUM(J8:J10) -> 0 | ... N11: =SUM(N8:N10) -> 0 | O11: =SUM(C11:N11) -> 0
B12: الكاش اللي طلع من االمشروع
B13: الأصول الثابتة | C13: ='معلومات اضافية'!D30 -> 0 | D13: ='معلومات اضافية'!E30 -> 0 | E13: ='معلومات اضافية'!F30 -> 0 | F13: ='معلومات اضافية'!G30 -> 0 | G13: ='معلومات اضافية'!H30 -> 0 | H13: ='معلومات اضافية'!I30 -> 0 | I13: ='معلومات اضافية'!J30 -> 0 | J13: ='معلومات اضافية'!K30 -> 0 | ... N13: ='معلومات اضافية'!O30 -> 0 | O13: =SUM(C13:N13) -> 0
B14: تكلفة البضاعة المباعة | C14: =المبيعات!E45*'معلومات اضافية'!$C$14 -> 0 | D14: =(المبيعات!F45*'معلومات اضافية'!$C$14)+(المبيعات!E45*'معلومات اضافية'!$C$15) -> 0 | E14: =(المبيعات!G45*'معلومات اضافية'!$C$14)+(المبيعات!F45*'معلومات اضافية'!$C$15)+(المبيعات!E45*'معلومات اضافية'!$C$16) -> 0 | F14: =(المبيعات!H45*'معلومات اضافية'!$C$14)+(المبيعات!G45*'معلومات اضافية'!$C$15)+(المبيعات!F45*'معلومات اضافية'!$C$16) -> 0 | G14: =(المبيعات!I45*'معلومات اضافية'!$C$14)+(المبيعات!H45*'معلومات اضافية'!$C$15)+(المبيعات!G45*'معلومات اضافية'!$C$16) -> 0 | H14: =(المبيعات!J45*'معلومات اضافية'!$C$14)+(المبيعات!I45*'معلومات اضافية'!$C$15)+(المبيعات!H45*'معلومات اضافية'!$C$16) -> 0 | I14: =(المبيعات!K45*'معلومات اضافية'!$C$14)+(المبيعات!J45*'معلومات اضافية'!$C$15)+(المبيعات!I45*'معلومات اضافية'!$C$16) -> 0 | J14: =(المبيعات!L45*'معلومات اضافية'!$C$14)+(المبيعات!K45*'معلومات اضافية'!$C$15)+(المبيعات!J45*'معلومات اضافية'!$C$16) -> 0 | K14: =(المبيعات!M45*'معلومات اضافية'!$C$14)+(المبيعات!L45*'معلومات اضافية'!$C$15)+(المبيعات!K45*'معلومات اضافية'!$C$16) -> 0 | L14: =(المبيعات!N45*'معلومات اضافية'!$C$14)+(المبيعات!M45*'معلومات اضافية'!$C$15)+(المبيعات!L45*'معلومات اضافية'!$C$16) -> 0 | ... N14: =(المبيعات!P45*'معلومات اضافية'!$C$14)+(المبيعات!O45*'معلومات اضافية'!$C$15)+(المبيعات!N45*'معلومات اضافية'!$C$16) -> 0 | O14: =SUM(C14:N14) -> 0
B15: مخزون إضافي | O15: =SUM(C15:N15) -> 0
B16: مصارف التشغيل | C16: ='الأرباح والخسائر'!C54 -> 0 | D16: ='الأرباح والخسائر'!D54 -> 0 | E16: ='الأرباح والخسائر'!E54 -> 0 | F16: ='الأرباح والخسائر'!F54 -> 0 | G16: ='الأرباح والخسائر'!G54 -> 0 | H16: ='الأرباح والخسائر'!H54 -> 0 | I16: ='الأرباح والخسائر'!I54 -> 0 | J16: ='الأرباح والخسائر'!J54 -> 0 | ... N16: ='الأرباح والخسائر'!N54 -> 0 | O16: =SUM(C16:N16) -> 0
B17: الزكاة + الضريبة (VAT) | F17: =SUM(C10+D10+E10) -> 0 | I17: =SUM(F10+G10+H10) -> 0 | L17: =SUM(I10+J10+K10) -> 0 | O17: =SUM(C17:N17) -> 0
B18: دفعات سداد القروض | C18: =SUM(' سداد القروض '!C14:C15)+SUM(' سداد القروض '!C34:C35) -> 0 | D18: =SUM(' سداد القروض '!D14:D15)+SUM(' سداد القروض '!D34:D35) -> 0 | E18: =SUM(' سداد القروض '!E14:E15)+SUM(' سداد القروض '!E34:E35) -> 0 | F18: =SUM(' سداد القروض '!F14:F15)+SUM(' سداد القروض '!F34:F35) -> 0 | G18: =SUM(' سداد القروض '!G14:G15)+SUM(' سداد القروض '!G34:G35) -> 0 | H18: =SUM(' سداد القروض '!H14:H15)+SUM(' سداد القروض '!H34:H35) -> 0 | I18: =SUM(' سداد القروض '!I14:I15)+SUM(' سداد القروض '!I34:I35) -> 0 | J18: =SUM(' سداد القروض '!J14:J15)+SUM(' سداد القروض '!J34:J35) -> 0 | ... N18: =SUM(' سداد القروض '!N14:N15)+SUM(' سداد القروض '!N34:N35) -> 0 | O18: =SUM(C18:N18) -> 0
B19: اجمالي الكاش الخارج من المشروع | C19: =SUM(C13:C18) -> 0 | D19: =SUM(D13:D18) -> 0 | E19: =SUM(E13:E18) -> 0 | F19: =SUM(F13:F18) -> 0 | G19: =SUM(G13:G18) -> 0 | H19: =SUM(H13:H18) -> 0 | I19: =SUM(I13:I18) -> 0 | J19: =SUM(J13:J18) -> 0 | ... O19: =SUM(O13:O18) -> 0
B20: اجمالي الكاش في البنك
B21: الكاش اللي يدخل البنك شهريا | C21: =(C11-C19) -> 0 | D21: =(D11-D19) -> 0 | E21: =(E11-E19) -> 0 | F21: =(F11-F19) -> 0 | G21: =(G11-G19) -> 0 | H21: =(H11-H19) -> 0 | I21: =(I11-I19) -> 0 | J21: =(J11-J19) -> 0 | ... N21: =(N11-N19) -> 0
B22: إضافات مالية من صاحب المشروع
B23: رصيد الكاش في البنك | C23: =(C21)+WorkingCapital+C22 -> 0 | D23: =(C23+D21+D22) -> 0 | E23: =(D23+E21+E22) -> 0 | F23: =(E23+F21+F22) -> 0 | G23: =(F23+G21+G22) -> 0 | H23: =(G23+H21+H22) -> 0 | I23: =(H23+I21+I22) -> 0 | J23: =(I23+J21+J22) -> 0 | K23: =(J23+K21+K22) -> 0 | ... N23: =(M23+N21+N22) -> 0 | O23: =(N23) -> 0
C24: رصيد البنك بداية السنة | O24: رصيد البنك نهاية السنة
G25: التدفقات النقدية للسنة الثانية
C28: شهر 1 | D28: شهر 2 | E28: شهر 3 | F28: شهر 4 | G28: شهر 5 | H28: شهر 6 | I28: شهر 7 | J28: شهر 8 | K28: شهر 9 | L28: شهر 10 | M28: شهر 11 | N28: شهر 12 | O28: الإجمالي
B29: الكاش اللي دخل للمشروع
B30: المبيعات بالنقد | C30: =المبيعات!E74*'معلومات اضافية'!$D$6 -> 0 | D30: =المبيعات!F74*'معلومات اضافية'!$D$6 -> 0 | E30: =المبيعات!G74*'معلومات اضافية'!$D$6 -> 0 | F30: =المبيعات!H74*'معلومات اضافية'!$D$6 -> #VALUE! | G30: =المبيعات!I74*'معلومات اضافية'!$D$6 -> 0 | H30: =المبيعات!J74*'معلومات اضافية'!$D$6 -> 0 | I30: =المبيعات!K74*'معلومات اضافية'!$D$6 -> 0 | J30: =المبيعات!L74*'معلومات اضافية'!$D$6 -> 0 | ... N30: =المبيعات!P74*'معلومات اضافية'!$D$6 -> 0 | O30: =SUM(C30:N30) -> #VALUE!
B31: المبيعات بالآجل | D31: =المبيعات!E74*'معلومات اضافية'!$D$7 -> 0 | E31: =(المبيعات!F74*'معلومات اضافية'!$D$7)+(المبيعات!E74*'معلومات اضافية'!$D$8) -> 0 | F31: =(المبيعات!G74*'معلومات اضافية'!$D$7)+(المبيعات!F74*'معلومات اضافية'!$D$8) -> 0 | G31: =(المبيعات!H74*'معلومات اضافية'!$D$7)+(المبيعات!G74*'معلومات اضافية'!$D$8) -> #VALUE! | H31: =(المبيعات!I74*'معلومات اضافية'!$D$7)+(المبيعات!H74*'معلومات اضافية'!$D$8) -> #VALUE! | I31: =(المبيعات!J74*'معلومات اضافية'!$D$7)+(المبيعات!I74*'معلومات اضافية'!$D$8) -> 0 | J31: =(المبيعات!K74*'معلومات اضافية'!$D$7)+(المبيعات!J74*'معلومات اضافية'!$D$8) -> 0 | K31: =(المبيعات!L74*'معلومات اضافية'!$D$7)+(المبيعات!K74*'معلومات اضافية'!$D$8) -> 0 | L31: =(المبيعات!M74*'معلومات اضافية'!$D$7)+(المبيعات!L74*'معلومات اضافية'!$D$8) -> 0 | ... N31: =(المبيعات!O74*'معلومات اضافية'!$D$7)+(المبيعات!N74*'معلومات اضافية'!$D$8) -> 0 | O31: =SUM(C31:N31) -> #VALUE!
B32: ضريبة القيمة المضافة (VAT) | C32: ='الأرباح والخسائر'!C81 -> 0 | D32: ='الأرباح والخسائر'!D81 -> 0 | E32: ='الأرباح والخسائر'!E81 -> 0 | F32: ='الأرباح والخسائر'!F81 -> 0 | G32: ='الأرباح والخسائر'!G81 -> 0 | H32: ='الأرباح والخسائر'!H81 -> 0 | I32: ='الأرباح والخسائر'!I81 -> 0 | J32: ='الأرباح والخسائر'!J81 -> 0 | ... N32: ='الأرباح والخسائر'!N81 -> 0 | O32: =SUM(C32:N32) -> 0
B33: اجمالي الكاش اللي دخل المشروع | C33: =SUM(C30:C32) -> 0 | D33: =SUM(D30:D32) -> 0 | E33: =SUM(E30:E32) -> 0 | F33: =SUM(F30:F32) -> #VALUE! | G33: =SUM(G30:G32) -> #VALUE! | H33: =SUM(H30:H32) -> #VALUE! | I33: =SUM(I30:I32) -> 0 | J33: =SUM(J30:J32) -> 0 | ... N33: =SUM(N30:N32) -> 0 | O33: =SUM(C33:N33) -> #VALUE!
B34: الكاش اللي طلع من االمشروع
B35: الأصول الثابتة | C35: ='معلومات اضافية'!D43 -> 0 | D35: ='معلومات اضافية'!E43 -> 0 | E35: ='معلومات اضافية'!F43 -> 0 | F35: ='معلومات اضافية'!G43 -> 0 | G35: ='معلومات اضافية'!H43 -> 0 | H35: ='معلومات اضافية'!I43 -> 0 | I35: ='معلومات اضافية'!J43 -> 0 | J35: ='معلومات اضافية'!K43 -> 0 | ... N35: ='معلومات اضافية'!O43 -> 0 | O35: =SUM(C35:N35) -> 0
B36: تكلفة البضاعة المباعة | C36: =المبيعات!E75*'معلومات اضافية'!$D$14 -> 0 | D36: =(المبيعات!F75*'معلومات اضافية'!$D$14)+(المبيعات!E75*'معلومات اضافية'!$D$15) -> 0 | E36: =(المبيعات!G75*'معلومات اضافية'!$D$14)+(المبيعات!F75*'معلومات اضافية'!$D$15)+(المبيعات!E75*'معلومات اضافية'!$D$16) -> 0 | F36: =(المبيعات!H75*'معلومات اضافية'!$D$14)+(المبيعات!G75*'معلومات اضافية'!$D$15)+(المبيعات!F75*'معلومات اضافية'!$D$16) -> 0 | G36: =(المبيعات!I75*'معلومات اضافية'!$D$14)+(المبيعات!H75*'معلومات اضافية'!$D$15)+(المبيعات!G75*'معلومات اضافية'!$D$16) -> 0 | H36: =(المبيعات!J75*'معلومات اضافية'!$D$14)+(المبيعات!I75*'معلومات اضافية'!$D$15)+(المبيعات!H75*'معلومات اضافية'!$D$16) -> 0 | I36: =(المبيعات!K75*'معلومات اضافية'!$D$14)+(المبيعات!J75*'معلومات اضافية'!$D$15)+(المبيعات!I75*'معلومات اضافية'!$D$16) -> 0 | J36: =(المبيعات!L75*'معلومات اضافية'!$D$14)+(المبيعات!K75*'معلومات اضافية'!$D$15)+(المبيعات!J75*'معلومات اضافية'!$D$16) -> 0 | K36: =(المبيعات!M75*'معلومات اضافية'!$D$14)+(المبيعات!L75*'معلومات اضافية'!$D$15)+(المبيعات!K75*'معلومات اضافية'!$D$16) -> 0 | L36: =(المبيعات!N75*'معلومات اضافية'!$D$14)+(المبيعات!M75*'معلومات اضافية'!$D$15)+(المبيعات!L75*'معلومات اضافية'!$D$16) -> 0 | ... N36: =(المبيعات!P75*'معلومات اضافية'!$D$14)+(المبيعات!O75*'معلومات اضافية'!$D$15)+(المبيعات!N75*'معلومات اضافية'!$D$16) -> 0 | O36: =SUM(C36:N36) -> 0
B37: مخزون إضافي | O37: =SUM(C37:N37) -> 0
B38: مصارف التشغيل | C38: ='الأرباح والخسائر'!C94 -> 0 | D38: ='الأرباح والخسائر'!D94 -> 0 | E38: ='الأرباح والخسائر'!E94 -> 0 | F38: ='الأرباح والخسائر'!F94 -> 0 | G38: ='الأرباح والخسائر'!G94 -> 0 | H38: ='الأرباح والخسائر'!H94 -> 0 | I38: ='الأرباح والخسائر'!I94 -> 0 | J38: ='الأرباح والخسائر'!J94 -> 0 | ... N38: ='الأرباح والخسائر'!N94 -> 0 | O38: =SUM(C38:N38) -> 0
B39: الزكاة + الضريبة (VAT) | C39: =SUM(L10+M10+N10)+'الأرباح والخسائر'!O100 -> 0 | F39: =SUM(C32+D32+E32) -> 0 | I39: =SUM(F32+G32+H32) -> 0 | L39: =SUM(I32+J32+K32) -> 0 | O39: =SUM(C39:N39) -> 0
B40: دفعات القروض+ الفوائد | C40: =SUM(' سداد القروض '!C18:C19)+SUM(' سداد القروض '!C38:C39) -> 0 | D40: =SUM(' سداد القروض '!D18:D19)+SUM(' سداد القروض '!D38:D39) -> 0 | E40: =SUM(' سداد القروض '!E18:E19)+SUM(' سداد القروض '!E38:E39) -> 0 | F40: =SUM(' سداد القروض '!F18:F19)+SUM(' سداد القروض '!F38:F39) -> 0 | G40: =SUM(' سداد القروض '!G18:G19)+SUM(' سداد القروض '!G38:G39) -> 0 | H40: =SUM(' سداد القروض '!H18:H19)+SUM(' سداد القروض '!H38:H39) -> 0 | I40: =SUM(' سداد القروض '!I18:I19)+SUM(' سداد القروض '!I38:I39) -> 0 | J40: =SUM(' سداد القروض '!J18:J19)+SUM(' سداد القروض '!J38:J39) -> 0 | ... N40: =SUM(' سداد القروض '!N18:N19)+SUM(' سداد القروض '!N38:N39) -> 0 | O40: =SUM(C40:N40) -> 0
B41: اجمالي الكاش الخارج من المشروع | C41: =SUM(C35:C40) -> 0 | D41: =SUM(D35:D40) -> 0 | E41: =SUM(E35:E40) -> 0 | F41: =SUM(F35:F40) -> 0 | G41: =SUM(G35:G40) -> 0 | H41: =SUM(H35:H40) -> 0 | I41: =SUM(I35:I40) -> 0 | J41: =SUM(J35:J40) -> 0 | ... O41: =SUM(O35:O40) -> 0
B42: اجمالي الكاش في البنك
B43: الكاش اللي يدخل البنك شهريا | C43: =(C33-C41) -> 0 | D43: =(D33-D41) -> 0 | E43: =(E33-E41) -> 0 | F43: =(F33-F41) -> #VALUE! | G43: =(G33-G41) -> #VALUE! | H43: =(H33-H41) -> #VALUE! | I43: =(I33-I41) -> 0 | J43: =(J33-J41) -> 0 | ... N43: =(N33-N41) -> 0
B44: إضافات مالية من صاحب المشروع
B45: رصيد الكاش في البنك | C45: =(C43+O23+C44) -> 0 | D45: =(C45+D43+D44) -> 0 | E45: =(D45+E43+E44) -> 0 | F45: =(E45+F43+F44) -> #VALUE! | G45: =(F45+G43+G44) -> #VALUE! | H45: =(G45+H43+H44) -> #VALUE! | I45: =(H45+I43+I44) -> #VALUE! | J45: =(I45+J43+J44) -> #VALUE! | K45: =(J45+K43+K44) -> #VALUE! | ... N45: =(M45+N43+N44) -> #VALUE! | O45: =(N45) -> #VALUE!
C46: رصيد البنك بداية السنة | O46: رصيد البنك نهاية السنة
G47: التدفقات النقدية لسنة الثالة
C50: شهر 1 | D50: شهر 2 | E50: شهر 3 | F50: شهر 4 | G50: شهر 5 | H50: شهر 6 | I50: شهر 7 | J50: شهر 8 | K50: شهر 9 | L50: شهر 10 | M50: شهر 11 | N50: شهر 12 | O50: الإجمالي
B51: الكاش اللي دخل للمشروع
B52: المبيعات بالنقد | C52: =المبيعات!E106*'معلومات اضافية'!$E$6 -> 0 | D52: =المبيعات!F106*'معلومات اضافية'!$E$6 -> 0 | E52: =المبيعات!G106*'معلومات اضافية'!$E$6 -> 0 | F52: =المبيعات!H106*'معلومات اضافية'!$E$6 -> 0 | G52: =المبيعات!I106*'معلومات اضافية'!$E$6 -> 0 | H52: =المبيعات!J106*'معلومات اضافية'!$E$6 -> 0 | I52: =المبيعات!K106*'معلومات اضافية'!$E$6 -> 0 | J52: =المبيعات!L106*'معلومات اضافية'!$E$6 -> 0 | ... N52: =المبيعات!P106*'معلومات اضافية'!$E$6 -> 0 | O52: =SUM(C52:N52) -> 0
B53: المبيعات بالآجل | D53: =المبيعات!E106*'معلومات اضافية'!$E$7 -> 0 | E53: =(المبيعات!F106*'معلومات اضافية'!$E$7)+(المبيعات!E106*'معلومات اضافية'!$E$8) -> 0 | F53: =(المبيعات!G106*'معلومات اضافية'!$E$7)+(المبيعات!F106*'معلومات اضافية'!$E$8) -> 0 | G53: =(المبيعات!H106*'معلومات اضافية'!$E$7)+(المبيعات!G106*'معلومات اضافية'!$E$8) -> 0 | H53: =(المبيعات!I106*'معلومات اضافية'!$E$7)+(المبيعات!H106*'معلومات اضافية'!$E$8) -> 0 | I53: =(المبيعات!J106*'معلومات اضافية'!$E$7)+(المبيعات!I106*'معلومات اضافية'!$E$8) -> 0 | J53: =(المبيعات!K106*'معلومات اضافية'!$E$7)+(المبيعات!J106*'معلومات اضافية'!$E$8) -> 0 | K53: =(المبيعات!L106*'معلومات اضافية'!$E$7)+(المبيعات!K106*'معلومات اضافية'!$E$8) -> 0 | L53: =(المبيعات!M106*'معلومات اضافية'!$E$7)+(المبيعات!L106*'معلومات اضافية'!$E$8) -> 0 | ... N53: =(المبيعات!O106*'معلومات اضافية'!$E$7)+(المبيعات!N106*'معلومات اضافية'!$E$8) -> 0 | O53: =SUM(C53:N53) -> 0
B54: ضريبة القيمة المضافة (VAT) | C54: ='الأرباح والخسائر'!C121 -> 0 | D54: ='الأرباح والخسائر'!D121 -> 0 | E54: ='الأرباح والخسائر'!E121 -> 0 | F54: ='الأرباح والخسائر'!F121 -> 0 | G54: ='الأرباح والخسائر'!G121 -> 0 | H54: ='الأرباح والخسائر'!H121 -> 0 | I54: ='الأرباح والخسائر'!I121 -> 0 | J54: ='الأرباح والخسائر'!J121 -> 0 | ... N54: ='الأرباح والخسائر'!N121 -> 0 | O54: =SUM(C54:N54) -> 0
B55: اجمالي الكاش اللي دخل المشروع | C55: =SUM(C52:C54) -> 0 | D55: =SUM(D52:D54) -> 0 | E55: =SUM(E52:E54) -> 0 | F55: =SUM(F52:F54) -> 0 | G55: =SUM(G52:G54) -> 0 | H55: =SUM(H52:H54) -> 0 | I55: =SUM(I52:I54) -> 0 | J55: =SUM(J52:J54) -> 0 | ... N55: =SUM(N52:N54) -> 0 | O55: =SUM(C55:N55) -> 0
B56: الكاش اللي طلع من االمشروع
B57: الأصول الثابتة | C57: ='معلومات اضافية'!D56 -> 0 | D57: ='معلومات اضافية'!E56 -> 0 | E57: ='معلومات اضافية'!F56 -> 0 | F57: ='معلومات اضافية'!G56 -> 0 | G57: ='معلومات اضافية'!H56 -> 0 | H57: ='معلومات اضافية'!I56 -> 0 | I57: ='معلومات اضافية'!J56 -> 0 | J57: ='معلومات اضافية'!K56 -> 0 | ... N57: ='معلومات اضافية'!O56 -> 0 | O57: =SUM(C57:N57) -> 0
B58: تكلفة البضاعة المباعة | C58: =المبيعات!E107*'معلومات اضافية'!$E$14 -> 0 | D58: =(المبيعات!F107*'معلومات اضافية'!$E$14)+(المبيعات!E107*'معلومات اضافية'!$E$15) -> 0 | E58: =(المبيعات!G107*'معلومات اضافية'!$E$14)+(المبيعات!F107*'معلومات اضافية'!$E$15)+(المبيعات!E107*'معلومات اضافية'!$E$16) -> 0 | F58: =(المبيعات!H107*'معلومات اضافية'!$E$14)+(المبيعات!G107*'معلومات اضافية'!$E$15)+(المبيعات!F107*'معلومات اضافية'!$E$16) -> 0 | G58: =(المبيعات!I107*'معلومات اضافية'!$E$14)+(المبيعات!H107*'معلومات اضافية'!$E$15)+(المبيعات!G107*'معلومات اضافية'!$E$16) -> 0 | H58: =(المبيعات!J107*'معلومات اضافية'!$E$14)+(المبيعات!I107*'معلومات اضافية'!$E$15)+(المبيعات!H107*'معلومات اضافية'!$E$16) -> 0 | I58: =(المبيعات!K107*'معلومات اضافية'!$E$14)+(المبيعات!J107*'معلومات اضافية'!$E$15)+(المبيعات!I107*'معلومات اضافية'!$E$16) -> 0 | J58: =(المبيعات!L107*'معلومات اضافية'!$E$14)+(المبيعات!K107*'معلومات اضافية'!$E$15)+(المبيعات!J107*'معلومات اضافية'!$E$16) -> 0 | K58: =(المبيعات!M107*'معلومات اضافية'!$E$14)+(المبيعات!L107*'معلومات اضافية'!$E$15)+(المبيعات!K107*'معلومات اضافية'!$E$16) -> 0 | L58: =(المبيعات!N107*'معلومات اضافية'!$E$14)+(المبيعات!M107*'معلومات اضافية'!$E$15)+(المبيعات!L107*'معلومات اضافية'!$E$16) -> 0 | ... N58: =(المبيعات!P107*'معلومات اضافية'!$E$14)+(المبيعات!O107*'معلومات اضافية'!$E$15)+(المبيعات!N107*'معلومات اضافية'!$E$16) -> 0 | O58: =SUM(C58:N58) -> 0
B59: مخزون إضافي | O59: =SUM(C59:N59) -> 0
B60: مصارف التشغيل | C60: ='الأرباح والخسائر'!C134 -> 0 | D60: ='الأرباح والخسائر'!D134 -> 0 | E60: ='الأرباح والخسائر'!E134 -> 0 | F60: ='الأرباح والخسائر'!F134 -> 0 | G60: ='الأرباح والخسائر'!G134 -> 0 | H60: ='الأرباح والخسائر'!H134 -> 0 | I60: ='الأرباح والخسائر'!I134 -> 0 | J60: ='الأرباح والخسائر'!J134 -> 0 | ... N60: ='الأرباح والخسائر'!N134 -> 0 | O60: =SUM(C60:N60) -> 0
B61: الزكاة + الضريبة (VAT) | C61: =SUM(L32+M32+N32)+'الأرباح والخسائر'!O140 -> 0 | F61: =SUM(C54+D54+E54) -> 0 | I61: =SUM(F54+G54+H54) -> 0 | L61: =SUM(I54+J54+K54) -> 0 | O61: =SUM(C61:N61) -> 0
B62: دفعات القروض+ الفوائد | C62: =SUM(' سداد القروض '!C22:C23)+SUM(' سداد القروض '!C42:C43) -> 0 | D62: =SUM(' سداد القروض '!D22:D23)+SUM(' سداد القروض '!D42:D43) -> 0 | E62: =SUM(' سداد القروض '!E22:E23)+SUM(' سداد القروض '!E42:E43) -> 0 | F62: =SUM(' سداد القروض '!F22:F23)+SUM(' سداد القروض '!F42:F43) -> 0 | G62: =SUM(' سداد القروض '!G22:G23)+SUM(' سداد القروض '!G42:G43) -> 0 | H62: =SUM(' سداد القروض '!H22:H23)+SUM(' سداد القروض '!H42:H43) -> 0 | I62: =SUM(' سداد القروض '!I22:I23)+SUM(' سداد القروض '!I42:I43) -> 0 | J62: =SUM(' سداد القروض '!J22:J23)+SUM(' سداد القروض '!J42:J43) -> 0 | ... N62: =SUM(' سداد القروض '!N22:N23)+SUM(' سداد القروض '!N42:N43) -> 0 | O62: =SUM(C62:N62) -> 0
B63: اجمالي الكاش الخارج من المشروع | C63: =SUM(C57:C62) -> 0 | D63: =SUM(D57:D62) -> 0 | E63: =SUM(E57:E62) -> 0 | F63: =SUM(F57:F62) -> 0 | G63: =SUM(G57:G62) -> 0 | H63: =SUM(H57:H62) -> 0 | I63: =SUM(I57:I62) -> 0 | J63: =SUM(J57:J62) -> 0 | ... O63: =SUM(O57:O62) -> 0
B64: اجمالي الكاش في البنك
B65: الكاش اللي يدخل البنك شهريا | C65: =(C55-C63) -> 0 | D65: =(D55-D63) -> 0 | E65: =(E55-E63) -> 0 | F65: =(F55-F63) -> 0 | G65: =(G55-G63) -> 0 | H65: =(H55-H63) -> 0 | I65: =(I55-I63) -> 0 | J65: =(J55-J63) -> 0 | ... N65: =(N55-N63) -> 0
B66: إضافات مالية من صاحب المشروع
B67: رصيد الكاش في البنك | C67: =(C65+O45+C66) -> #VALUE! | D67: =(C67+D65+D66) -> #VALUE! | E67: =(D67+E65+E66) -> #VALUE! | F67: =(E67+F65+F66) -> #VALUE! | G67: =(F67+G65+G66) -> #VALUE! | H67: =(G67+H65+H66) -> #VALUE! | I67: =(H67+I65+I66) -> #VALUE! | J67: =(I67+J65+J66) -> #VALUE! | K67: =(J67+K65+K66) -> #VALUE! | ... N67: =(M67+N65+N66) -> #VALUE! | O67: =(N67) -> #VALUE!
C68: رصيد البنك بداية السنة | O68: رصيد البنك نهاية السنة

Sheet  سداد القروض  
B7: =قرض_بنك -> قرض بنك
B8: مبلغ القرض | C8: =BankLoan -> 0
B9: نسبة الفائدة | C9: =IntrestRate -> 0.04
B10: مدة سداد (الأشهر) | C10: =PaymentsInMonths -> 60
B11: الدفعة الشهرية | C11: =ABS(PMT(C9/12,C10,C8)) -> 0
C12: شهر 1 | D12: شهر 2 | E12: شهر 3 | F12: شهر 4 | G12: شهر 5 | H12: شهر 6 | I12: شهر 7 | J12: شهر 8 | K12: شهر 9 | L12: شهر 10 | M12: شهر 11 | N12: شهر 12 | O12: الأجمالي
B13: السنة الأولى
B14: الفائدة | C14: =IF($C$10<1,0,ABS(IPMT($C$9/12,1,$C$10,$C$8))) -> 0 | D14: =IF($C$10<2,0,ABS(IPMT($C$9/12,2,$C$10,$C$8))) -> 0 | E14: =IF($C$10<3,0,ABS(IPMT($C$9/12,3,$C$10,$C$8))) -> 0 | F14: =IF($C$10<4,0,ABS(IPMT($C$9/12,4,$C$10,$C$8))) -> 0 | G14: =IF($C$10<5,0,ABS(IPMT($C$9/12,5,$C$10,$C$8))) -> 0 | H14: =IF($C$10<6,0,ABS(IPMT($C$9/12,6,$C$10,$C$8))) -> 0 | I14: =IF($C$10<7,0,ABS(IPMT($C$9/12,7,$C$10,$C$8))) -> 0 | J14: =IF($C$10<8,0,ABS(IPMT($C$9/12,8,$C$10,$C$8))) -> 0 | K14: =IF($C$10<9,0,ABS(IPMT($C$9/12,9,$C$10,$C$8))) -> 0 | L14: =IF($C$10<10,0,ABS(IPMT($C$9/12,10,$C$10,$C$8))) -> 0 | M14: =IF($C$10<11,0,ABS(IPMT($C$9/12,11,$C$10,$C$8))) -> 0 | N14: =IF($C$10<12,0,ABS(IPMT($C$9/12,12,$C$10,$C$8))) -> 0 | O14: =SUM(C14:N14) -> 0
B15: الأساسي | C15: =IF($C$10<1,0,ABS(PPMT($C$9/12,1,$C$10,$C$8))) -> 0 | D15: =IF($C$10<2,0,ABS(PPMT($C$9/12,2,$C$10,$C$8))) -> 0 | E15: =IF($C$10<3,0,ABS(PPMT($C$9/12,3,$C$10,$C$8))) -> 0 | F15: =IF($C$10<4,0,ABS(PPMT($C$9/12,4,$C$10,$C$8))) -> 0 | G15: =IF($C$10<5,0,ABS(PPMT($C$9/12,5,$C$10,$C$8))) -> 0 | H15: =IF($C$10<6,0,ABS(PPMT($C$9/12,6,$C$10,$C$8))) -> 0 | I15: =IF($C$10<7,0,ABS(PPMT($C$9/12,7,$C$10,$C$8))) -> 0 | J15: =IF($C$10<8,0,ABS(PPMT($C$9/12,8,$C$10,$C$8))) -> 0 | K15: =IF($C$10<9,0,ABS(PPMT($C$9/12,9,$C$10,$C$8))) -> 0 | L15: =IF($C$10<10,0,ABS(PPMT($C$9/12,10,$C$10,$C$8))) -> 0 | M15: =IF($C$10<11,0,ABS(PPMT($C$9/12,11,$C$10,$C$8))) -> 0 | N15: =IF($C$10<12,0,ABS(PPMT($C$9/12,12,$C$10,$C$8))) -> 0 | O15: =SUM(C15:N15) -> 0
B16: رصيد القرض المتبقي | C16: =$C$8-C15 -> 0 | D16: =C16-D15 -> 0 | E16: =D16-E15 -> 0 | F16: =E16-F15 -> 0 | G16: =F16-G15 -> 0 | H16: =G16-H15 -> 0 | I16: =H16-I15 -> 0 | J16: =I16-J15 -> 0 | K16: =J16-K15 -> 0 | ... N16: =M16-N15 -> 0
B17: السنة الثانية
B18: الفائدة | C18: =IF($C$10<13,0,ABS(IPMT($C$9/12,13,$C$10,$C$8))) -> 0 | D18: =IF($C$10<14,0,ABS(IPMT($C$9/12,14,$C$10,$C$8))) -> 0 | E18: =IF($C$10<15,0,ABS(IPMT($C$9/12,15,$C$10,$C$8))) -> 0 | F18: =IF($C$10<16,0,ABS(IPMT($C$9/12,16,$C$10,$C$8))) -> 0 | G18: =IF($C$10<17,0,ABS(IPMT($C$9/12,17,$C$10,$C$8))) -> 0 | H18: =IF($C$10<18,0,ABS(IPMT($C$9/12,18,$C$10,$C$8))) -> 0 | I18: =IF($C$10<19,0,ABS(IPMT($C$9/12,19,$C$10,$C$8))) -> 0 | J18: =IF($C$10<20,0,ABS(IPMT($C$9/12,20,$C$10,$C$8))) -> 0 | K18: =IF($C$10<21,0,ABS(IPMT($C$9/12,21,$C$10,$C$8))) -> 0 | L18: =IF($C$10<22,0,ABS(IPMT($C$9/12,22,$C$10,$C$8))) -> 0 | M18: =IF($C$10<23,0,ABS(IPMT($C$9/12,23,$C$10,$C$8))) -> 0 | N18: =IF($C$10<24,0,ABS(IPMT($C$9/12,24,$C$10,$C$8))) -> 0 | O18: =SUM(C18:N18) -> 0
B19: الأساسي | C19: =IF($C$10<13,0,ABS(PPMT($C$9/12,13,$C$10,$C$8))) -> 0 | D19: =IF($C$10<14,0,ABS(PPMT($C$9/12,14,$C$10,$C$8))) -> 0 | E19: =IF($C$10<15,0,ABS(PPMT($C$9/12,15,$C$10,$C$8))) -> 0 | F19: =IF($C$10<16,0,ABS(PPMT($C$9/12,16,$C$10,$C$8))) -> 0 | G19: =IF($C$10<17,0,ABS(PPMT($C$9/12,17,$C$10,$C$8))) -> 0 | H19: =IF($C$10<18,0,ABS(PPMT($C$9/12,18,$C$10,$C$8))) -> 0 | I19: =IF($C$10<19,0,ABS(PPMT($C$9/12,19,$C$10,$C$8))) -> 0 | J19: =IF($C$10<20,0,ABS(PPMT($C$9/12,20,$C$10,$C$8))) -> 0 | K19: =IF($C$10<21,0,ABS(PPMT($C$9/12,21,$C$10,$C$8))) -> 0 | L19: =IF($C$10<22,0,ABS(PPMT($C$9/12,22,$C$10,$C$8))) -> 0 | M19: =IF($C$10<23,0,ABS(PPMT($C$9/12,23,$C$10,$C$8))) -> 0 | N19: =IF($C$10<24,0,ABS(PPMT($C$9/12,24,$C$10,$C$8))) -> 0 | O19: =SUM(C19:N19) -> 0
B20: رصيد القرض المتبقي | C20: =N16-C19 -> 0 | D20: =C20-D19 -> 0 | E20: =D20-E19 -> 0 | F20: =E20-F19 -> 0 | G20: =F20-G19 -> 0 | H20: =G20-H19 -> 0 | I20: =H20-I19 -> 0 | J20: =I20-J19 -> 0 | K20: =J20-K19 -> 0 | ... N20: =M20-N19 -> 0
B21: السنة الثالثة
B22: الفائدة | C22: =IF($C$10<25,0,ABS(IPMT($C$9/12,25,$C$10,$C$8))) -> 0 | D22: =IF($C$10<26,0,ABS(IPMT($C$9/12,26,$C$10,$C$8))) -> 0 | E22: =IF($C$10<27,0,ABS(IPMT($C$9/12,27,$C$10,$C$8))) -> 0 | F22: =IF($C$10<28,0,ABS(IPMT($C$9/12,28,$C$10,$C$8))) -> 0 | G22: =IF($C$10<29,0,ABS(IPMT($C$9/12,29,$C$10,$C$8))) -> 0 | H22: =IF($C$10<30,0,ABS(IPMT($C$9/12,30,$C$10,$C$8))) -> 0 | I22: =IF($C$10<31,0,ABS(IPMT($C$9/12,31,$C$10,$C$8))) -> 0 | J22: =IF($C$10<32,0,ABS(IPMT($C$9/12,32,$C$10,$C$8))) -> 0 | K22: =IF($C$10<33,0,ABS(IPMT($C$9/12,33,$C$10,$C$8))) -> 0 | L22: =IF($C$10<34,0,ABS(IPMT($C$9/12,34,$C$10,$C$8))) -> 0 | M22: =IF($C$10<35,0,ABS(IPMT($C$9/12,35,$C$10,$C$8))) -> 0 | N22: =IF($C$10<36,0,ABS(IPMT($C$9/12,36,$C$10,$C$8))) -> 0 | O22: =SUM(C22:N22) -> 0
B23: الأساسي | C23: =IF($C$10<25,0,ABS(PPMT($C$9/12,25,$C$10,$C$8))) -> 0 | D23: =IF($C$10<26,0,ABS(PPMT($C$9/12,26,$C$10,$C$8))) -> 0 | E23: =IF($C$10<27,0,ABS(PPMT($C$9/12,27,$C$10,$C$8))) -> 0 | F23: =IF($C$10<28,0,ABS(PPMT($C$9/12,28,$C$10,$C$8))) -> 0 | G23: =IF($C$10<29,0,ABS(PPMT($C$9/12,29,$C$10,$C$8))) -> 0 | H23: =IF($C$10<30,0,ABS(PPMT($C$9/12,30,$C$10,$C$8))) -> 0 | I23: =IF($C$10<31,0,ABS(PPMT($C$9/12,31,$C$10,$C$8))) -> 0 | J23: =IF($C$10<32,0,ABS(PPMT($C$9/12,32,$C$10,$C$8))) -> 0 | K23: =IF($C$10<33,0,ABS(PPMT($C$9/12,33,$C$10,$C$8))) -> 0 | L23: =IF($C$10<34,0,ABS(PPMT($C$9/12,34,$C$10,$C$8))) -> 0 | M23: =IF($C$10<35,0,ABS(PPMT($C$9/12,35,$C$10,$C$8))) -> 0 | N23: =IF($C$10<36,0,ABS(PPMT($C$9/12,36,$C$10,$C$8))) -> 0 | O23: =SUM(C23:N23) -> 0
B24: رصيد القرض المتبقي | C24: =N20-C23 -> 0 | D24: =C24-D23 -> 0 | E24: =D24-E23 -> 0 | F24: =E24-F23 -> 0 | G24: =F24-G23 -> 0 | H24: =G24-H23 -> 0 | I24: =H24-I23 -> 0 | J24: =I24-J23 -> 0 | K24: =J24-K23 -> 0 | ... N24: =M24-N23 -> 0
N25: رصيد القرض المتبقي
B27: =قروض_من_اشخاص -> قروض او ديون أخرى
B28: مبلغ القرض او السلفة | C28: =قيمة_القرض -> 0
B29: نسبة الفائدة | C29: =نسبة_الفائدة -> 0
B30: مدة سداد (الأشهر) | C30: =مدة_السداد -> 12
B31: الدفعة الشهرية | C31: =الدفعة_الشهرية -> 0
C32: شهر 1 | D32: شهر 2 | E32: شهر 3 | F32: شهر 4 | G32: شهر 5 | H32: شهر 6 | I32: شهر 7 | J32: شهر 8 | K32: شهر 9 | L32: شهر 10 | M32: شهر 11 | N32: شهر 12 | O32: الأجمالي
B33: السنة الأولى
B34: الفائدة | C34: =IF($C$30<1,0,ABS(IPMT($C$29/12,1,$C$30,$C$28))) -> 0 | D34: =IF($C$30<2,0,ABS(IPMT($C$29/12,2,$C$30,$C$28))) -> 0 | E34: =IF($C$30<3,0,ABS(IPMT($C$29/12,3,$C$30,$C$28))) -> 0 | F34: =IF($C$30<4,0,ABS(IPMT($C$29/12,4,$C$30,$C$28))) -> 0 | G34: =IF($C$30<5,0,ABS(IPMT($C$29/12,5,$C$30,$C$28))) -> 0 | H34: =IF($C$30<6,0,ABS(IPMT($C$29/12,6,$C$30,$C$28))) -> 0 | I34: =IF($C$30<7,0,ABS(IPMT($C$29/12,7,$C$30,$C$28))) -> 0 | J34: =IF($C$30<8,0,ABS(IPMT($C$29/12,8,$C$30,$C$28))) -> 0 | K34: =IF($C$30<9,0,ABS(IPMT($C$29/12,9,$C$30,$C$28))) -> 0 | L34: =IF($C$30<10,0,ABS(IPMT($C$29/12,10,$C$30,$C$28))) -> 0 | M34: =IF($C$30<11,0,ABS(IPMT($C$29/12,11,$C$30,$C$28))) -> 0 | N34: =IF($C$30<12,0,ABS(IPMT($C$29/12,12,$C$30,$C$28))) -> 0 | O34: =SUM(C34:N34) -> 0
B35: الأساسي | C35: =IF($C$30<1,0,ABS(PPMT($C$29/12,1,$C$30,$C$28))) -> 0 | D35: =IF($C$30<2,0,ABS(PPMT($C$29/12,2,$C$30,$C$28))) -> 0 | E35: =IF($C$30<3,0,ABS(PPMT($C$29/12,3,$C$30,$C$28))) -> 0 | F35: =IF($C$30<4,0,ABS(PPMT($C$29/12,4,$C$30,$C$28))) -> 0 | G35: =IF($C$30<5,0,ABS(PPMT($C$29/12,5,$C$30,$C$28))) -> 0 | H35: =IF($C$30<6,0,ABS(PPMT($C$29/12,6,$C$30,$C$28))) -> 0 | I35: =IF($C$30<7,0,ABS(PPMT($C$29/12,7,$C$30,$C$28))) -> 0 | J35: =IF($C$30<8,0,ABS(PPMT($C$29/12,8,$C$30,$C$28))) -> 0 | K35: =IF($C$30<9,0,ABS(PPMT($C$29/12,9,$C$30,$C$28))) -> 0 | L35: =IF($C$30<10,0,ABS(PPMT($C$29/12,10,$C$30,$C$28))) -> 0 | M35: =IF($C$30<11,0,ABS(PPMT($C$29/12,11,$C$30,$C$28))) -> 0 | N35: =IF($C$30<12,0,ABS(PPMT($C$29/12,12,$C$30,$C$28))) -> 0 | O35: =SUM(C35:N35) -> 0
B36: رصيد القرض المتبقي | C36: =$C$28-C35 -> 0 | D36: =C36-D35 -> 0 | E36: =D36-E35 -> 0 | F36: =E36-F35 -> 0 | G36: =F36-G35 -> 0 | H36: =G36-H35 -> 0 | I36: =H36-I35 -> 0 | J36: =I36-J35 -> 0 | K36: =J36-K35 -> 0 | ... N36: =M36-N35 -> 0 | O36: 0
B37: السنة الثانية
B38: الفائدة | C38: =IF($C$30<13,0,ABS(IPMT($C$29/12,13,$C$30,$C$28))) -> 0 | D38: =IF($C$30<14,0,ABS(IPMT($C$29/12,14,$C$30,$C$28))) -> 0 | E38: =IF($C$30<15,0,ABS(IPMT($C$29/12,15,$C$30,$C$28))) -> 0 | F38: =IF($C$30<16,0,ABS(IPMT($C$29/12,16,$C$30,$C$28))) -> 0 | G38: =IF($C$30<17,0,ABS(IPMT($C$29/12,17,$C$30,$C$28))) -> 0 | H38: =IF($C$30<18,0,ABS(IPMT($C$29/12,18,$C$30,$C$28))) -> 0 | I38: =IF($C$30<19,0,ABS(IPMT($C$29/12,19,$C$30,$C$28))) -> 0 | J38: =IF($C$30<20,0,ABS(IPMT($C$29/12,20,$C$30,$C$28))) -> 0 | K38: =IF($C$30<21,0,ABS(IPMT($C$29/12,21,$C$30,$C$28))) -> 0 | L38: =IF($C$30<22,0,ABS(IPMT($C$29/12,22,$C$30,$C$28))) -> 0 | M38: =IF($C$30<23,0,ABS(IPMT($C$29/12,23,$C$30,$C$28))) -> 0 | N38: =IF($C$30<24,0,ABS(IPMT($C$29/12,24,$C$30,$C$28))) -> 0 | O38: =SUM(C38:N38) -> 0
B39: الأساسي | C39: =IF($C$30<13,0,ABS(PPMT($C$29/12,13,$C$30,$C$28))) -> 0 | D39: =IF($C$30<14,0,ABS(PPMT($C$29/12,14,$C$30,$C$28))) -> 0 | E39: =IF($C$30<15,0,ABS(PPMT($C$29/12,15,$C$30,$C$28))) -> 0 | F39: =IF($C$30<16,0,ABS(PPMT($C$29/12,16,$C$30,$C$28))) -> 0 | G39: =IF($C$30<17,0,ABS(PPMT($C$29/12,17,$C$30,$C$28))) -> 0 | H39: =IF($C$30<18,0,ABS(PPMT($C$29/12,18,$C$30,$C$28))) -> 0 | I39: =IF($C$30<19,0,ABS(PPMT($C$29/12,19,$C$30,$C$28))) -> 0 | J39: =IF($C$30<20,0,ABS(PPMT($C$29/12,20,$C$30,$C$28))) -> 0 | K39: =IF($C$30<21,0,ABS(PPMT($C$29/12,21,$C$30,$C$28))) -> 0 | L39: =IF($C$30<22,0,ABS(PPMT($C$29/12,22,$C$30,$C$28))) -> 0 | M39: =IF($C$30<23,0,ABS(PPMT($C$29/12,23,$C$30,$C$28))) -> 0 | N39: =IF($C$30<24,0,ABS(PPMT($C$29/12,24,$C$30,$C$28))) -> 0 | O39: =SUM(C39:N39) -> 0
B40: رصيد القرض المتبقي | C40: =N36-C39 -> 0 | D40: =C40-D39 -> 0 | E40: =D40-E39 -> 0 | F40: =E40-F39 -> 0 | G40: =F40-G39 -> 0 | H40: =G40-H39 -> 0 | I40: =H40-I39 -> 0 | J40: =I40-J39 -> 0 | K40: =J40-K39 -> 0 | ... N40: =M40-N39 -> 0 | O40: 0
B41: السنة الثالثة
B42: الفائدة | C42: =IF($C$30<25,0,ABS(IPMT($C$29/12,25,$C$30,$C$28))) -> 0 | D42: =IF($C$30<26,0,ABS(IPMT($C$29/12,26,$C$30,$C$28))) -> 0 | E42: =IF($C$30<27,0,ABS(IPMT($C$29/12,27,$C$30,$C$28))) -> 0 | F42: =IF($C$30<28,0,ABS(IPMT($C$29/12,28,$C$30,$C$28))) -> 0 | G42: =IF($C$30<29,0,ABS(IPMT($C$29/12,29,$C$30,$C$28))) -> 0 | H42: =IF($C$30<30,0,ABS(IPMT($C$29/12,30,$C$30,$C$28))) -> 0 | I42: =IF($C$30<31,0,ABS(IPMT($C$29/12,31,$C$30,$C$28))) -> 0 | J42: =IF($C$30<32,0,ABS(IPMT($C$29/12,32,$C$30,$C$28))) -> 0 | K42: =IF($C$30<33,0,ABS(IPMT($C$29/12,33,$C$30,$C$28))) -> 0 | L42: =IF($C$30<34,0,ABS(IPMT($C$29/12,34,$C$30,$C$28))) -> 0 | M42: =IF($C$30<35,0,ABS(IPMT($C$29/12,35,$C$30,$C$28))) -> 0 | N42: =IF($C$30<36,0,ABS(IPMT($C$29/12,36,$C$30,$C$28))) -> 0 | O42: =SUM(C42:N42) -> 0
B43: الأساسي | C43: =IF($C$30<25,0,ABS(PPMT($C$29/12,25,$C$30,$C$28))) -> 0 | D43: =IF($C$30<26,0,ABS(PPMT($C$29/12,26,$C$30,$C$28))) -> 0 | E43: =IF($C$30<27,0,ABS(PPMT($C$29/12,27,$C$30,$C$28))) -> 0 | F43: =IF($C$30<28,0,ABS(PPMT($C$29/12,28,$C$30,$C$28))) -> 0 | G43: =IF($C$30<29,0,ABS(PPMT($C$29/12,29,$C$30,$C$28))) -> 0 | H43: =IF($C$30<30,0,ABS(PPMT($C$29/12,30,$C$30,$C$28))) -> 0 | I43: =IF($C$30<31,0,ABS(PPMT($C$29/12,31,$C$30,$C$28))) -> 0 | J43: =IF($C$30<32,0,ABS(PPMT($C$29/12,32,$C$30,$C$28))) -> 0 | K43: =IF($C$30<33,0,ABS(PPMT($C$29/12,33,$C$30,$C$28))) -> 0 | L43: =IF($C$30<34,0,ABS(PPMT($C$29/12,34,$C$30,$C$28))) -> 0 | M43: =IF($C$30<35,0,ABS(PPMT($C$29/12,35,$C$30,$C$28))) -> 0 | N43: =IF($C$30<36,0,ABS(PPMT($C$29/12,36,$C$30,$C$28))) -> 0 | O43: =SUM(C43:N43) -> 0
B44: رصيد القرض المتبقي | C44: =N40-C43 -> 0 | D44: =C44-D43 -> 0 | E44: =D44-E43 -> 0 | F44: =E44-F43 -> 0 | G44: =F44-G43 -> 0 | H44: =G44-H43 -> 0 | I44: =H44-I43 -> 0 | J44: =I44-J43 -> 0 | K44: =J44-K43 -> 0 | ... N44: =M44-N43 -> 0 | O44: 0
B47: الاهلاك
B48: ='تكاليف التأسيس'!D7 -> المباني | C48: ='تكاليف التأسيس'!H7 -> 50
B49: ='تكاليف التأسيس'!D8 -> ترميم مبنى مستأجر | C49: ='تكاليف التأسيس'!H8 -> 10
B50: ='تكاليف التأسيس'!D9 -> الآلات والمعدات | C50: ='تكاليف التأسيس'!H9 -> 7
B51: ='تكاليف التأسيس'!D10 -> الأثاث | C51: ='تكاليف التأسيس'!H10 -> 5
B52: ='تكاليف التأسيس'!D11 -> السيارات | C52: ='تكاليف التأسيس'!H11 -> 5
B53: ='تكاليف التأسيس'!D12 -> أصول ثابتة أخرى | C53: ='تكاليف التأسيس'!H12 -> 5
C54: شهر 1 | D54: شهر 2 | E54: شهر 3 | F54: شهر 4 | G54: شهر 5 | H54: شهر 6 | I54: شهر 7 | J54: شهر 8 | K54: شهر 9 | L54: شهر 10 | M54: شهر 11 | N54: شهر 12 | O54: الإجمالي
B56: بداية الاهلاك | C56: =(Buildings/'تكاليف التأسيس'!$H$7/12)+(LeaseImprovements/'تكاليف التأسيس'!$H$8/12)+(Equipment/'تكاليف التأسيس'!$H$9/12)+(Furniture/'تكاليف التأسيس'!$H$10/12)+(Vehicles/'تكاليف التأسيس'!$H$11/12)+(OtherFixedAssets/'تكاليف التأسيس'!$H$12/12) -> 0 | D56: =C58 -> 0 | E56: =D58 -> 0 | F56: =E58 -> 0 | G56: =F58 -> 0 | H56: =G58 -> 0 | I56: =H58 -> 0 | J56: =I58 -> 0 | K56: =J58 -> 0 | ... N56: =M58 -> 0 | O56: =SUM(C56:N56) -> 0
B57: الاهلاك الإضافي | D57: =('معلومات اضافية'!E24/'معلومات اضافية'!$C$24/12)+('معلومات اضافية'!E25/'معلومات اضافية'!$C$25/12)+('معلومات اضافية'!E26/'معلومات اضافية'!$C$26/12)+('معلومات اضافية'!E27/'معلومات اضافية'!$C$27/12)+('معلومات اضافية'!E28/'معلومات اضافية'!$C$28/12)+('معلومات اضافية'!E29/'معلومات اضافية'!$C$29/12) -> 0 | E57: =('معلومات اضافية'!F24/'معلومات اضافية'!$C$24/12)+('معلومات اضافية'!F25/'معلومات اضافية'!$C$25/12)+('معلومات اضافية'!F26/'معلومات اضافية'!$C$26/12)+('معلومات اضافية'!F27/'معلومات اضافية'!$C$27/12)+('معلومات اضافية'!F28/'معلومات اضافية'!$C$28/12)+('معلومات اضافية'!F29/'معلومات اضافية'!$C$29/12) -> 0 | F57: =('معلومات اضافية'!G24/'معلومات اضافية'!$C$24/12)+('معلومات اضافية'!G25/'معلومات اضافية'!$C$25/12)+('معلومات اضافية'!G26/'معلومات اضافية'!$C$26/12)+('معلومات اضافية'!G27/'معلومات اضافية'!$C$27/12)+('معلومات اضافية'!G28/'معلومات اضافية'!$C$28/12)+('معلومات اضافية'!G29/'معلومات اضافية'!$C$29/12) -> 0 | G57: =('معلومات اضافية'!H24/'معلومات اضافية'!$C$24/12)+('معلومات اضافية'!H25/'معلومات اضافية'!$C$25/12)+('معلومات اضافية'!H26/'معلومات اضافية'!$C$26/12)+('معلومات اضافية'!H27/'معلومات اضافية'!$C$27/12)+('معلومات اضافية'!H28/'معلومات اضافية'!$C$28/12)+('معلومات اضافية'!H29/'معلومات اضافية'!$C$29/12) -> 0 | H57: =('معلومات اضافية'!I24/'معلومات اضافية'!$C$24/12)+('معلومات اضافية'!I25/'معلومات اضافية'!$C$25/12)+('معلومات اضافية'!I26/'معلومات اضافية'!$C$26/12)+('معلومات اضافية'!I27/'معلومات اضافية'!$C$27/12)+('معلومات اضافية'!I28/'معلومات اضافية'!$C$28/12)+('معلومات اضافية'!I29/'معلومات اضافية'!$C$29/12) -> 0 | I57: =('معلومات اضافية'!J24/'معلومات اضافية'!$C$24/12)+('معلومات اضافية'!J25/'معلومات اضافية'!$C$25/12)+('معلومات اضافية'!J26/'معلومات اضافية'!$C$26/12)+('معلومات اضافية'!J27/'معلومات اضافية'!$C$27/12)+('معلومات اضافية'!J28/'معلومات اضافية'!$C$28/12)+('معلومات اضافية'!J29/'معلومات اضافية'!$C$29/12) -> 0 | J57: =('معلومات اضافية'!K24/'معلومات اضافية'!$C$24/12)+('معلومات اضافية'!K25/'معلومات اضافية'!$C$25/12)+('معلومات اضافية'!K26/'معلومات اضافية'!$C$26/12)+('معلومات اضافية'!K27/'معلومات اضافية'!$C$27/12)+('معلومات اضافية'!K28/'معلومات اضافية'!$C$28/12)+('معلومات اضافية'!K29/'معلومات اضافية'!$C$29/12) -> 0 | K57: =('معلومات اضافية'!L24/'معلومات اضافية'!$C$24/12)+('معلومات اضافية'!L25/'معلومات اضافية'!$C$25/12)+('معلومات اضافية'!L26/'معلومات اضافية'!$C$26/12)+('معلومات اضافية'!L27/'معلومات اضافية'!$C$27/12)+('معلومات اضافية'!L28/'معلومات اضافية'!$C$28/12)+('معلومات اضافية'!L29/'معلومات اضافية'!$C$29/12) -> 0 | ... N57: =('معلومات اضافية'!O24/'معلومات اضافية'!$C$24/12)+('معلومات اضافية'!O25/'معلومات اضافية'!$C$25/12)+('معلومات اضافية'!O26/'معلومات اضافية'!$C$26/12)+('معلومات اضافية'!O27/'معلومات اضافية'!$C$27/12)+('معلومات اضافية'!O28/'معلومات اضافية'!$C$28/12)+('معلومات اضافية'!O29/'معلومات اضافية'!$C$29/12) -> 0
B58: نهاية الاهلاك | C58: =SUM(C56:C57) -> 0 | D58: =SUM(D56:D57) -> 0 | E58: =SUM(E56:E57) -> 0 | F58: =SUM(F56:F57) -> 0 | G58: =SUM(G56:G57) -> 0 | H58: =SUM(H56:H57) -> 0 | I58: =SUM(I56:I57) -> 0 | J58: =SUM(J56:J57) -> 0 | ... N58: =SUM(N56:N57) -> 0 | O58: =SUM(C58:N58) -> 0
B59: السنة 2
B60: بداية الاهلاك | C60: =N58 -> 0 | D60: =C62 -> 0 | E60: =D62 -> 0 | F60: =E62 -> 0 | G60: =F62 -> 0 | H60: =G62 -> 0 | I60: =H62 -> 0 | J60: =I62 -> 0 | K60: =J62 -> 0 | ... N60: =M62 -> 0 | O60: =SUM(C60:M60) -> 0
B61: الاهلاك الإضافي | C61: =('معلومات اضافية'!E37/'معلومات اضافية'!$C$37/12)+('معلومات اضافية'!E38/'معلومات اضافية'!$C$38/12)+('معلومات اضافية'!E39/'معلومات اضافية'!$C$39/12)+('معلومات اضافية'!E39/'معلومات اضافية'!$C$39/12)+('معلومات اضافية'!E39/'معلومات اضافية'!$C$39/12)+('معلومات اضافية'!E39/'معلومات اضافية'!$C$39/12) -> 0 | D61: =('معلومات اضافية'!F37/'معلومات اضافية'!$C$37/12)+('معلومات اضافية'!F38/'معلومات اضافية'!$C$38/12)+('معلومات اضافية'!F39/'معلومات اضافية'!$C$39/12)+('معلومات اضافية'!F39/'معلومات اضافية'!$C$39/12)+('معلومات اضافية'!F39/'معلومات اضافية'!$C$39/12)+('معلومات اضافية'!F39/'معلومات اضافية'!$C$39/12) -> 0 | E61: =('معلومات اضافية'!G37/'معلومات اضافية'!$C$37/12)+('معلومات اضافية'!G38/'معلومات اضافية'!$C$38/12)+('معلومات اضافية'!G39/'معلومات اضافية'!$C$39/12)+('معلومات اضافية'!G39/'معلومات اضافية'!$C$39/12)+('معلومات اضافية'!G39/'معلومات اضافية'!$C$39/12)+('معلومات اضافية'!G39/'معلومات اضافية'!$C$39/12) -> 0 | F61: =('معلومات اضافية'!H37/'معلومات اضافية'!$C$37/12)+('معلومات اضافية'!H38/'معلومات اضافية'!$C$38/12)+('معلومات اضافية'!H39/'معلومات اضافية'!$C$39/12)+('معلومات اضافية'!H39/'معلومات اضافية'!$C$39/12)+('معلومات اضافية'!H39/'معلومات اضافية'!$C$39/12)+('معلومات اضافية'!H39/'معلومات اضافية'!$C$39/12) -> 0 | G61: =('معلومات اضافية'!I37/'معلومات اضافية'!$C$37/12)+('معلومات اضافية'!I38/'معلومات اضافية'!$C$38/12)+('معلومات اضافية'!I39/'معلومات اضافية'!$C$39/12)+('معلومات اضافية'!I39/'معلومات اضافية'!$C$39/12)+('معلومات اضافية'!I39/'معلومات اضافية'!$C$39/12)+('معلومات اضافية'!I39/'معلومات اضافية'!$C$39/12) -> 0 | H61: =('معلومات اضافية'!J37/'معلومات اضافية'!$C$37/12)+('معلومات اضافية'!J38/'معلومات اضافية'!$C$38/12)+('معلومات اضافية'!J39/'معلومات اضافية'!$C$39/12)+('معلومات اضافية'!J39/'معلومات اضافية'!$C$39/12)+('معلومات اضافية'!J39/'معلومات اضافية'!$C$39/12)+('معلومات اضافية'!J39/'معلومات اضافية'!$C$39/12) -> 0 | I61: =('معلومات اضافية'!K37/'معلومات اضافية'!$C$37/12)+('معلومات اضافية'!K38/'معلومات اضافية'!$C$38/12)+('معلومات اضافية'!K39/'معلومات اضافية'!$C$39/12)+('معلومات اضافية'!K39/'معلومات اضافية'!$C$39/12)+('معلومات اضافية'!K39/'معلومات اضافية'!$C$39/12)+('معلومات اضافية'!K39/'معلومات اضافية'!$C$39/12) -> 0 | J61: =('معلومات اضافية'!L37/'معلومات اضافية'!$C$37/12)+('معلومات اضافية'!L38/'معلومات اضافية'!$C$38/12)+('معلومات اضافية'!L39/'معلومات اضافية'!$C$39/12)+('معلومات اضافية'!L39/'معلومات اضافية'!$C$39/12)+('معلومات اضافية'!L39/'معلومات اضافية'!$C$39/12)+('معلومات اضافية'!L39/'معلومات اضافية'!$C$39/12) -> 0 | ... N61: =('معلومات اضافية'!P37/'معلومات اضافية'!$C$37/12)+('معلومات اضافية'!P38/'معلومات اضافية'!$C$38/12)+('معلومات اضافية'!P39/'معلومات اضافية'!$C$39/12)+('معلومات اضافية'!P39/'معلومات اضافية'!$C$39/12)+('معلومات اضافية'!P39/'معلومات اضافية'!$C$39/12)+('معلومات اضافية'!P39/'معلومات اضافية'!$C$39/12) -> 0
B62: نهاية الاهلاك | C62: =SUM(C60:C61) -> 0 | D62: =SUM(D60:D61) -> 0 | E62: =SUM(E60:E61) -> 0 | F62: =SUM(F60:F61) -> 0 | G62: =SUM(G60:G61) -> 0 | H62: =SUM(H60:H61) -> 0 | I62: =SUM(I60:I61) -> 0 | J62: =SUM(J60:J61) -> 0 | ... N62: =SUM(N60:N61) -> 0 | O62: =SUM(C62:N62) -> 0
B63: السنة 3
B64: بداية الاهلاك | C64: =N62 -> 0 | D64: =C66 -> 0 | E64: =D66 -> 0 | F64: =E66 -> 0 | G64: =F66 -> 0 | H64: =G66 -> 0 | I64: =H66 -> 0 | J64: =I66 -> 0 | K64: =J66 -> 0 | ... N64: =M66 -> 0 | O64: =SUM(C64:M64) -> 0
B65: الاهلاك الإضافي | C65: =('معلومات اضافية'!E50/'معلومات اضافية'!$C$50/12)+('معلومات اضافية'!E51/'معلومات اضافية'!$C$51/12)+('معلومات اضافية'!E52/'معلومات اضافية'!$C$52/12)+('معلومات اضافية'!E53/'معلومات اضافية'!$C$53/12)+('معلومات اضافية'!E54/'معلومات اضافية'!$C$54/12)+('معلومات اضافية'!E50/'معلومات اضافية'!$C$50/12) -> 0 | D65: =('معلومات اضافية'!F50/'معلومات اضافية'!$C$50/12)+('معلومات اضافية'!F51/'معلومات اضافية'!$C$51/12)+('معلومات اضافية'!F52/'معلومات اضافية'!$C$52/12)+('معلومات اضافية'!F53/'معلومات اضافية'!$C$53/12)+('معلومات اضافية'!F54/'معلومات اضافية'!$C$54/12)+('معلومات اضافية'!F50/'معلومات اضافية'!$C$50/12) -> 0 | E65: =('معلومات اضافية'!G50/'معلومات اضافية'!$C$50/12)+('معلومات اضافية'!G51/'معلومات اضافية'!$C$51/12)+('معلومات اضافية'!G52/'معلومات اضافية'!$C$52/12)+('معلومات اضافية'!G53/'معلومات اضافية'!$C$53/12)+('معلومات اضافية'!G54/'معلومات اضافية'!$C$54/12)+('معلومات اضافية'!G50/'معلومات اضافية'!$C$50/12) -> 0 | F65: =('معلومات اضافية'!H50/'معلومات اضافية'!$C$50/12)+('معلومات اضافية'!H51/'معلومات اضافية'!$C$51/12)+('معلومات اضافية'!H52/'معلومات اضافية'!$C$52/12)+('معلومات اضافية'!H53/'معلومات اضافية'!$C$53/12)+('معلومات اضافية'!H54/'معلومات اضافية'!$C$54/12)+('معلومات اضافية'!H50/'معلومات اضافية'!$C$50/12) -> 0 | G65: =('معلومات اضافية'!I50/'معلومات اضافية'!$C$50/12)+('معلومات اضافية'!I51/'معلومات اضافية'!$C$51/12)+('معلومات اضافية'!I52/'معلومات اضافية'!$C$52/12)+('معلومات اضافية'!I53/'معلومات اضافية'!$C$53/12)+('معلومات اضافية'!I54/'معلومات اضافية'!$C$54/12)+('معلومات اضافية'!I50/'معلومات اضافية'!$C$50/12) -> 0 | H65: =('معلومات اضافية'!J50/'معلومات اضافية'!$C$50/12)+('معلومات اضافية'!J51/'معلومات اضافية'!$C$51/12)+('معلومات اضافية'!J52/'معلومات اضافية'!$C$52/12)+('معلومات اضافية'!J53/'معلومات اضافية'!$C$53/12)+('معلومات اضافية'!J54/'معلومات اضافية'!$C$54/12)+('معلومات اضافية'!J50/'معلومات اضافية'!$C$50/12) -> 0 | I65: =('معلومات اضافية'!K50/'معلومات اضافية'!$C$50/12)+('معلومات اضافية'!K51/'معلومات اضافية'!$C$51/12)+('معلومات اضافية'!K52/'معلومات اضافية'!$C$52/12)+('معلومات اضافية'!K53/'معلومات اضافية'!$C$53/12)+('معلومات اضافية'!K54/'معلومات اضافية'!$C$54/12)+('معلومات اضافية'!K50/'معلومات اضافية'!$C$50/12) -> 0 | J65: =('معلومات اضافية'!L50/'معلومات اضافية'!$C$50/12)+('معلومات اضافية'!L51/'معلومات اضافية'!$C$51/12)+('معلومات اضافية'!L52/'معلومات اضافية'!$C$52/12)+('معلومات اضافية'!L53/'معلومات اضافية'!$C$53/12)+('معلومات اضافية'!L54/'معلومات اضافية'!$C$54/12)+('معلومات اضافية'!L50/'معلومات اضافية'!$C$50/12) -> 0 | ... N65: =('معلومات اضافية'!P50/'معلومات اضافية'!$C$50/12)+('معلومات اضافية'!P51/'معلومات اضافية'!$C$51/12)+('معلومات اضافية'!P52/'معلومات اضافية'!$C$52/12)+('معلومات اضافية'!P53/'معلومات اضافية'!$C$53/12)+('معلومات اضافية'!P54/'معلومات اضافية'!$C$54/12)+('معلومات اضافية'!P50/'معلومات اضافية'!$C$50/12) -> 0
B66: نهاية الاهلاك | C66: =SUM(C64:C65) -> 0 | D66: =SUM(D64:D65) -> 0 | E66: =SUM(E64:E65) -> 0 | F66: =SUM(F64:F65) -> 0 | G66: =SUM(G64:G65) -> 0 | H66: =SUM(H64:H65) -> 0 | I66: =SUM(I64:I65) -> 0 | J66: =SUM(J64:J65) -> 0 | ... N66: =SUM(N64:N65) -> 0 | O66: =SUM(C66:N66) -> 0
